BEGIN:VCALENDAR
VERSION:2.0
PRODID:-//เว็บไซต์ศูนย์บริการโลหิตแห่งชาติ - ECPv6.11.2.1//NONSGML v1.0//EN
CALSCALE:GREGORIAN
METHOD:PUBLISH
X-WR-CALNAME:เว็บไซต์ศูนย์บริการโลหิตแห่งชาติ
X-ORIGINAL-URL:https://thaibloodcentre.redcross.or.th
X-WR-CALDESC:Events for เว็บไซต์ศูนย์บริการโลหิตแห่งชาติ
REFRESH-INTERVAL;VALUE=DURATION:PT1H
X-Robots-Tag:noindex
X-PUBLISHED-TTL:PT1H
BEGIN:VTIMEZONE
TZID:Asia/Bangkok
BEGIN:STANDARD
TZOFFSETFROM:+0700
TZOFFSETTO:+0700
TZNAME:+07
DTSTART:20250101T000000
END:STANDARD
END:VTIMEZONE
BEGIN:VEVENT
DTSTART;TZID=Asia/Bangkok:20250326T110000
DTEND;TZID=Asia/Bangkok:20250326T150000
DTSTAMP:20260423T194354
CREATED:20250321T102517Z
LAST-MODIFIED:20250321T102517Z
UID:10001012-1742986800-1743001200@thaibloodcentre.redcross.or.th
SUMMARY:โรบินสัน ไลฟ์สไตล์ ลาดกระบัง [0N0058]
DESCRIPTION:สถานที่เจาะ : ด้านหน้าห้าง \nที่อยู่ : 308/1 ถนนลาดกระบัง แขวงลาดกระบัง เขตลาดกระบัง กรุงเทพฯ  \nโทร : 0 2320 7250 – 59
URL:https://thaibloodcentre.redcross.or.th/event/%e0%b9%82%e0%b8%a3%e0%b8%9a%e0%b8%b4%e0%b8%99%e0%b8%aa%e0%b8%b1%e0%b8%99-%e0%b9%84%e0%b8%a5%e0%b8%9f%e0%b9%8c%e0%b8%aa%e0%b9%84%e0%b8%95%e0%b8%a5%e0%b9%8c-%e0%b8%a5%e0%b8%b2%e0%b8%94%e0%b8%81%e0%b8%a3/
LOCATION:โรบินสัน ไลฟ์สไตล์ ลาดกระบัง\, โรบินสัน ไลฟ์สไตล์ ลาดกระบัง ถนนลาดกระบัง แขวงลาดกระบัง เขตลาดกระบัง กรุงเทพมหานคร 10520
CATEGORIES:ปฏิทินตารางหน่วยเคลื่อนที่
END:VEVENT
END:VCALENDAR