BEGIN:VCALENDAR
VERSION:2.0
PRODID:-//เว็บไซต์ศูนย์บริการโลหิตแห่งชาติ - ECPv6.11.2.1//NONSGML v1.0//EN
CALSCALE:GREGORIAN
METHOD:PUBLISH
X-ORIGINAL-URL:https://thaibloodcentre.redcross.or.th
X-WR-CALDESC:Events for เว็บไซต์ศูนย์บริการโลหิตแห่งชาติ
REFRESH-INTERVAL;VALUE=DURATION:PT1H
X-Robots-Tag:noindex
X-PUBLISHED-TTL:PT1H
BEGIN:VTIMEZONE
TZID:Asia/Krasnoyarsk
BEGIN:STANDARD
TZOFFSETFROM:+0700
TZOFFSETTO:+0700
TZNAME:+07
DTSTART:20260101T000000
END:STANDARD
END:VTIMEZONE
BEGIN:VTIMEZONE
TZID:Asia/Bangkok
BEGIN:STANDARD
TZOFFSETFROM:+0700
TZOFFSETTO:+0700
TZNAME:+07
DTSTART:20250101T000000
END:STANDARD
END:VTIMEZONE
BEGIN:VEVENT
DTSTART;TZID=Asia/Krasnoyarsk:20260305T090000
DTEND;TZID=Asia/Krasnoyarsk:20260305T150000
DTSTAMP:20260426T031455
CREATED:20260304T081257Z
LAST-MODIFIED:20260304T081257Z
UID:10005780-1772701200-1772722800@thaibloodcentre.redcross.or.th
SUMMARY:โรงเรียนร่วมฤดีวิเทศศึกษา []
DESCRIPTION:สถานที่เจาะ : ห้อง Nest  ชั้น 2 ของโรงอาหาร (พัก 11.30-12.30 น.) \nที่อยู่ : 6 ถนนรามคำแหง 184 แขวงสุขาภิบาล 3 เขตมีนบุรี กรุงเทพฯ 0 2791 8900
URL:https://thaibloodcentre.redcross.or.th/event/%e0%b9%82%e0%b8%a3%e0%b8%87%e0%b9%80%e0%b8%a3%e0%b8%b5%e0%b8%a2%e0%b8%99%e0%b8%a3%e0%b9%88%e0%b8%a7%e0%b8%a1%e0%b8%a4%e0%b8%94%e0%b8%b5%e0%b8%a7%e0%b8%b4%e0%b9%80%e0%b8%97%e0%b8%a8%e0%b8%a8%e0%b8%b6-3/
LOCATION:โรงเรียนร่วมฤดีวิเทศศึกษา\, โรงเรียนร่วมฤดีวิเทศศึกษา มีนบุรี 6 ซอยรามคำแหง 184 แขวงมีนบุรี เขตมีนบุรี กรุงเทพมหานคร 10510
CATEGORIES:ปฏิทินตารางหน่วยเคลื่อนที่
END:VEVENT
BEGIN:VEVENT
DTSTART;TZID=Asia/Bangkok:20251015T090000
DTEND;TZID=Asia/Bangkok:20251015T150000
DTSTAMP:20260426T031455
CREATED:20251003T101922Z
LAST-MODIFIED:20251003T101922Z
UID:10003647-1760518800-1760540400@thaibloodcentre.redcross.or.th
SUMMARY:โรงเรียนร่วมฤดีวิเทศศึกษา [0B0359]
DESCRIPTION:สถานที่เจาะ : ห้อง Nest ชั้น 2 ของโรงอาหาร (พัก 12-13 น.) \nที่อยู่ : 6 ถนนรามคำแหง 184 แขวงสุขาภิบาล 3 เขตมีนบุรี กรุงเทพฯ 0 2791 8900
URL:https://thaibloodcentre.redcross.or.th/event/%e0%b9%82%e0%b8%a3%e0%b8%87%e0%b9%80%e0%b8%a3%e0%b8%b5%e0%b8%a2%e0%b8%99%e0%b8%a3%e0%b9%88%e0%b8%a7%e0%b8%a1%e0%b8%a4%e0%b8%94%e0%b8%b5%e0%b8%a7%e0%b8%b4%e0%b9%80%e0%b8%97%e0%b8%a8%e0%b8%a8%e0%b8%b6-2/
LOCATION:โรงเรียนร่วมฤดีวิเทศศึกษา\, โรงเรียนร่วมฤดีวิเทศศึกษา มีนบุรี 6 ซอยรามคำแหง 184 แขวงมีนบุรี เขตมีนบุรี กรุงเทพมหานคร 10510
CATEGORIES:ปฏิทินตารางหน่วยเคลื่อนที่
END:VEVENT
BEGIN:VEVENT
DTSTART;TZID=Asia/Bangkok:20250305T090000
DTEND;TZID=Asia/Bangkok:20250305T150000
DTSTAMP:20260426T031455
CREATED:20250303T100627Z
LAST-MODIFIED:20250303T100627Z
UID:10000717-1741165200-1741186800@thaibloodcentre.redcross.or.th
SUMMARY:โรงเรียนร่วมฤดีวิเทศศึกษา [0B0359]
DESCRIPTION:สถานที่เจาะ : ห้อง Nest ชั้น 2 ของโรงอาหาร (พัก 11.30-12.30 น.) \nที่อยู่ : 6 ถนนรามคำแหง 184 แขวงสุขาภิบาล 3 เขตมีนบุรี กรุงเทพฯ 0 2791 8900
URL:https://thaibloodcentre.redcross.or.th/event/%e0%b9%82%e0%b8%a3%e0%b8%87%e0%b9%80%e0%b8%a3%e0%b8%b5%e0%b8%a2%e0%b8%99%e0%b8%a3%e0%b9%88%e0%b8%a7%e0%b8%a1%e0%b8%a4%e0%b8%94%e0%b8%b5%e0%b8%a7%e0%b8%b4%e0%b9%80%e0%b8%97%e0%b8%a8%e0%b8%a8%e0%b8%b6/
LOCATION:โรงเรียนร่วมฤดีวิเทศศึกษา\, โรงเรียนร่วมฤดีวิเทศศึกษา มีนบุรี 6 ซอยรามคำแหง 184 แขวงมีนบุรี เขตมีนบุรี กรุงเทพมหานคร 10510
CATEGORIES:ปฏิทินตารางหน่วยเคลื่อนที่
END:VEVENT
END:VCALENDAR