BEGIN:VCALENDAR
VERSION:2.0
PRODID:-//เว็บไซต์ศูนย์บริการโลหิตแห่งชาติ - ECPv6.11.2.1//NONSGML v1.0//EN
CALSCALE:GREGORIAN
METHOD:PUBLISH
X-WR-CALNAME:เว็บไซต์ศูนย์บริการโลหิตแห่งชาติ
X-ORIGINAL-URL:https://thaibloodcentre.redcross.or.th
X-WR-CALDESC:Events for เว็บไซต์ศูนย์บริการโลหิตแห่งชาติ
REFRESH-INTERVAL;VALUE=DURATION:PT1H
X-Robots-Tag:noindex
X-PUBLISHED-TTL:PT1H
BEGIN:VTIMEZONE
TZID:Asia/Krasnoyarsk
BEGIN:STANDARD
TZOFFSETFROM:+0700
TZOFFSETTO:+0700
TZNAME:+07
DTSTART:20260101T000000
END:STANDARD
END:VTIMEZONE
BEGIN:VEVENT
DTSTART;TZID=Asia/Krasnoyarsk:20260427T090000
DTEND;TZID=Asia/Krasnoyarsk:20260427T150000
DTSTAMP:20260423T230744
CREATED:20260420T062815Z
LAST-MODIFIED:20260420T062815Z
UID:10006601-1777280400-1777302000@thaibloodcentre.redcross.or.th
SUMMARY:โรงพยาบาลสินแพทย์ ศรีนครินทร์ []
DESCRIPTION:สถานที่เจาะ : ห้องประชุมหมอพร้อม ชั้น 2 อาคาร 1 (พัก 12.00-13.00 น.) \nที่อยู่ : 19/9 ถนนเฉลิมพระเกียรติ ร. 9 แขวงหนองบอน เขตประเวศ กรุงเทพฯ 0 2006 8888
URL:https://thaibloodcentre.redcross.or.th/event/%e0%b9%82%e0%b8%a3%e0%b8%87%e0%b8%9e%e0%b8%a2%e0%b8%b2%e0%b8%9a%e0%b8%b2%e0%b8%a5%e0%b8%aa%e0%b8%b4%e0%b8%99%e0%b9%81%e0%b8%9e%e0%b8%97%e0%b8%a2%e0%b9%8c-%e0%b8%a8%e0%b8%a3%e0%b8%b5%e0%b8%99-5/
LOCATION:โรงพยาบาลสินแพทย์ ศรีนครินทร์\, โรงพยาบาลสินแพทย์ ศรีนครินทร์ 19/9 ถนนเฉลิมพระเกียรติ ร.9 แขวงหนองบอน เขตประเวศ กรุงเทพมหานคร 10250
CATEGORIES:ปฏิทินตารางหน่วยเคลื่อนที่
END:VEVENT
END:VCALENDAR