BEGIN:VCALENDAR
VERSION:2.0
PRODID:-//เว็บไซต์ศูนย์บริการโลหิตแห่งชาติ - ECPv6.11.2.1//NONSGML v1.0//EN
CALSCALE:GREGORIAN
METHOD:PUBLISH
X-WR-CALNAME:เว็บไซต์ศูนย์บริการโลหิตแห่งชาติ
X-ORIGINAL-URL:https://thaibloodcentre.redcross.or.th
X-WR-CALDESC:Events for เว็บไซต์ศูนย์บริการโลหิตแห่งชาติ
REFRESH-INTERVAL;VALUE=DURATION:PT1H
X-Robots-Tag:noindex
X-PUBLISHED-TTL:PT1H
BEGIN:VTIMEZONE
TZID:Asia/Krasnoyarsk
BEGIN:STANDARD
TZOFFSETFROM:+0700
TZOFFSETTO:+0700
TZNAME:+07
DTSTART:20260101T000000
END:STANDARD
END:VTIMEZONE
BEGIN:VTIMEZONE
TZID:Asia/Bangkok
BEGIN:STANDARD
TZOFFSETFROM:+0700
TZOFFSETTO:+0700
TZNAME:+07
DTSTART:20250101T000000
END:STANDARD
END:VTIMEZONE
BEGIN:VEVENT
DTSTART;TZID=Asia/Krasnoyarsk:20260403T090000
DTEND;TZID=Asia/Krasnoyarsk:20260403T150000
DTSTAMP:20260423T191055
CREATED:20260401T020448Z
LAST-MODIFIED:20260401T020448Z
UID:10006345-1775206800-1775228400@thaibloodcentre.redcross.or.th
SUMMARY:โรงพยาบาลสมิติเวช สุขุมวิท [0D0231]
DESCRIPTION:สถานที่เจาะ : ห้องประชุมบัญชา ล่ำซำ ชั้น 6 อาคาร 2  (พัก 12-13 น.) \nที่อยู่ : 133 สุขุมวิท 49 แขวงคลองตันเหนือ  เขตวัฒนา กรุงเทพฯ  \nโทร : 0 2022 2440
URL:https://thaibloodcentre.redcross.or.th/event/%e0%b9%82%e0%b8%a3%e0%b8%87%e0%b8%9e%e0%b8%a2%e0%b8%b2%e0%b8%9a%e0%b8%b2%e0%b8%a5%e0%b8%aa%e0%b8%a1%e0%b8%b4%e0%b8%95%e0%b8%b4%e0%b9%80%e0%b8%a7%e0%b8%8a-%e0%b8%aa%e0%b8%b8%e0%b8%82%e0%b8%b8-6/
LOCATION:โรงพยาบาลสมิติเวช สุขุมวิท\, โรงพยาบาลสมิติเวช สุขุมวิท 133 สุขุมวิท 49 แขวงคลองตันเหนือ เขตวัฒนา กรุงเทพมหานคร 10110
CATEGORIES:ปฏิทินตารางหน่วยเคลื่อนที่
END:VEVENT
BEGIN:VEVENT
DTSTART;TZID=Asia/Krasnoyarsk:20260109T090000
DTEND;TZID=Asia/Krasnoyarsk:20260109T150000
DTSTAMP:20260423T191055
CREATED:20260106T130258Z
LAST-MODIFIED:20260106T133345Z
UID:10005024-1767949200-1767970800@thaibloodcentre.redcross.or.th
SUMMARY:โรงพยาบาลสมิติเวช สุขุมวิท [0D0231]
DESCRIPTION:สถานที่เจาะ : ห้องประชุมบัญชา ล่ำซำ ชั้น 6 อาคาร 2  (พัก 12.00-13.00 น.) \nที่อยู่ : 133 สุขุมวิท 49 แขวงคลองตันเหนือ  เขตวัฒนา กรุงเทพฯ 0 2022 2440
URL:https://thaibloodcentre.redcross.or.th/event/%e0%b9%82%e0%b8%a3%e0%b8%87%e0%b8%9e%e0%b8%a2%e0%b8%b2%e0%b8%9a%e0%b8%b2%e0%b8%a5%e0%b8%aa%e0%b8%a1%e0%b8%b4%e0%b8%95%e0%b8%b4%e0%b9%80%e0%b8%a7%e0%b8%8a-%e0%b8%aa%e0%b8%b8%e0%b8%82%e0%b8%b8-5/
LOCATION:โรงพยาบาลสมิติเวช สุขุมวิท\, โรงพยาบาลสมิติเวช สุขุมวิท 133 สุขุมวิท 49 แขวงคลองตันเหนือ เขตวัฒนา กรุงเทพมหานคร 10110
CATEGORIES:ปฏิทินตารางหน่วยเคลื่อนที่
END:VEVENT
BEGIN:VEVENT
DTSTART;TZID=Asia/Bangkok:20251003T090000
DTEND;TZID=Asia/Bangkok:20251003T150000
DTSTAMP:20260423T191055
CREATED:20250924T103752Z
LAST-MODIFIED:20250924T103752Z
UID:10003390-1759482000-1759503600@thaibloodcentre.redcross.or.th
SUMMARY:โรงพยาบาลสมิติเวช สุขุมวิท [0D0231]
DESCRIPTION:สถานที่เจาะ : ห้องประชุมบัญชา ล่ำซำ ชั้น 6 อาคาร 2  (พัก 12-13 น.) \nที่อยู่ : 133 สุขุมวิท 49 แขวงคลองตันเหนือ  เขตวัฒนา กรุงเทพฯ 0 2022 2440
URL:https://thaibloodcentre.redcross.or.th/event/%e0%b9%82%e0%b8%a3%e0%b8%87%e0%b8%9e%e0%b8%a2%e0%b8%b2%e0%b8%9a%e0%b8%b2%e0%b8%a5%e0%b8%aa%e0%b8%a1%e0%b8%b4%e0%b8%95%e0%b8%b4%e0%b9%80%e0%b8%a7%e0%b8%8a-%e0%b8%aa%e0%b8%b8%e0%b8%82%e0%b8%b8-4/
LOCATION:โรงพยาบาลสมิติเวช สุขุมวิท\, โรงพยาบาลสมิติเวช สุขุมวิท 133 สุขุมวิท 49 แขวงคลองตันเหนือ เขตวัฒนา กรุงเทพมหานคร 10110
CATEGORIES:ปฏิทินตารางหน่วยเคลื่อนที่
END:VEVENT
BEGIN:VEVENT
DTSTART;TZID=Asia/Bangkok:20250704T090000
DTEND;TZID=Asia/Bangkok:20250704T150000
DTSTAMP:20260423T191055
CREATED:20250623T034238Z
LAST-MODIFIED:20250623T034238Z
UID:10002278-1751619600-1751641200@thaibloodcentre.redcross.or.th
SUMMARY:โรงพยาบาลสมิติเวช สุขุมวิท []
DESCRIPTION:สถานที่เจาะ : ห้องประชุมบัญชา ล่ำซำ ชั้น 6 อาคาร 2  (พัก 12-13 น.) \nที่อยู่ : 133 สุขุมวิท 49 แขวงคลองตันเหนือ  เขตวัฒนา กรุงเทพฯ 0 2022 2440
URL:https://thaibloodcentre.redcross.or.th/event/%e0%b9%82%e0%b8%a3%e0%b8%87%e0%b8%9e%e0%b8%a2%e0%b8%b2%e0%b8%9a%e0%b8%b2%e0%b8%a5%e0%b8%aa%e0%b8%a1%e0%b8%b4%e0%b8%95%e0%b8%b4%e0%b9%80%e0%b8%a7%e0%b8%8a-%e0%b8%aa%e0%b8%b8%e0%b8%82%e0%b8%b8-3/
LOCATION:โรงพยาบาลสมิติเวช สุขุมวิท\, โรงพยาบาลสมิติเวช สุขุมวิท 133 สุขุมวิท 49 แขวงคลองตันเหนือ เขตวัฒนา กรุงเทพมหานคร 10110
CATEGORIES:ปฏิทินตารางหน่วยเคลื่อนที่
END:VEVENT
BEGIN:VEVENT
DTSTART;TZID=Asia/Bangkok:20250404T090000
DTEND;TZID=Asia/Bangkok:20250404T150000
DTSTAMP:20260423T191055
CREATED:20250328T032832Z
LAST-MODIFIED:20250328T032832Z
UID:10001173-1743757200-1743778800@thaibloodcentre.redcross.or.th
SUMMARY:โรงพยาบาลสมิติเวช สุขุมวิท [0D0231]
DESCRIPTION:สถานที่เจาะ : ห้องประชุมบัญชา ล่ำซำ ชั้น 6 อาคาร 2  (พัก 12.00-13.00 น.) \nที่อยู่ : 133 สุขุมวิท 49 แขวงคลองตันเหนือ  เขตวัฒนา กรุงเทพฯ 0 2022 2440
URL:https://thaibloodcentre.redcross.or.th/event/%e0%b9%82%e0%b8%a3%e0%b8%87%e0%b8%9e%e0%b8%a2%e0%b8%b2%e0%b8%9a%e0%b8%b2%e0%b8%a5%e0%b8%aa%e0%b8%a1%e0%b8%b4%e0%b8%95%e0%b8%b4%e0%b9%80%e0%b8%a7%e0%b8%8a-%e0%b8%aa%e0%b8%b8%e0%b8%82%e0%b8%b8-2/
LOCATION:โรงพยาบาลสมิติเวช สุขุมวิท\, โรงพยาบาลสมิติเวช สุขุมวิท 133 สุขุมวิท 49 แขวงคลองตันเหนือ เขตวัฒนา กรุงเทพมหานคร 10110
CATEGORIES:ปฏิทินตารางหน่วยเคลื่อนที่
END:VEVENT
BEGIN:VEVENT
DTSTART;TZID=Asia/Bangkok:20250103T090000
DTEND;TZID=Asia/Bangkok:20250103T150000
DTSTAMP:20260423T191055
CREATED:20250103T070006Z
LAST-MODIFIED:20250103T070006Z
UID:10000132-1735894800-1735916400@thaibloodcentre.redcross.or.th
SUMMARY:โรงพยาบาลสมิติเวช สุขุมวิท [0D0231]
DESCRIPTION:สถานที่เจาะ : ห้องประชุมบัญชา ล่ำซำ ชั้น 6 อาคาร 2  (พัก 12.00-13.00 น.) \nที่อยู่ : 133 สุขุมวิท 49 แขวงคลองตันเหนือ  เขตวัฒนา กรุงเทพฯ  \nโทร : 0 2022 2440
URL:https://thaibloodcentre.redcross.or.th/event/%e0%b9%82%e0%b8%a3%e0%b8%87%e0%b8%9e%e0%b8%a2%e0%b8%b2%e0%b8%9a%e0%b8%b2%e0%b8%a5%e0%b8%aa%e0%b8%a1%e0%b8%b4%e0%b8%95%e0%b8%b4%e0%b9%80%e0%b8%a7%e0%b8%8a-%e0%b8%aa%e0%b8%b8%e0%b8%82%e0%b8%b8%e0%b8%a1/
LOCATION:โรงพยาบาลสมิติเวช สุขุมวิท\, โรงพยาบาลสมิติเวช สุขุมวิท 133 สุขุมวิท 49 แขวงคลองตันเหนือ เขตวัฒนา กรุงเทพมหานคร 10110
CATEGORIES:ปฏิทินตารางหน่วยเคลื่อนที่
END:VEVENT
END:VCALENDAR