BEGIN:VCALENDAR
VERSION:2.0
PRODID:-//เว็บไซต์ศูนย์บริการโลหิตแห่งชาติ - ECPv6.11.2.1//NONSGML v1.0//EN
CALSCALE:GREGORIAN
METHOD:PUBLISH
X-WR-CALNAME:เว็บไซต์ศูนย์บริการโลหิตแห่งชาติ
X-ORIGINAL-URL:https://thaibloodcentre.redcross.or.th
X-WR-CALDESC:Events for เว็บไซต์ศูนย์บริการโลหิตแห่งชาติ
REFRESH-INTERVAL;VALUE=DURATION:PT1H
X-Robots-Tag:noindex
X-PUBLISHED-TTL:PT1H
BEGIN:VTIMEZONE
TZID:Asia/Krasnoyarsk
BEGIN:STANDARD
TZOFFSETFROM:+0700
TZOFFSETTO:+0700
TZNAME:+07
DTSTART:20260101T000000
END:STANDARD
END:VTIMEZONE
BEGIN:VTIMEZONE
TZID:Asia/Bangkok
BEGIN:STANDARD
TZOFFSETFROM:+0700
TZOFFSETTO:+0700
TZNAME:+07
DTSTART:20250101T000000
END:STANDARD
END:VTIMEZONE
BEGIN:VEVENT
DTSTART;TZID=Asia/Krasnoyarsk:20260331T090000
DTEND;TZID=Asia/Krasnoyarsk:20260331T150000
DTSTAMP:20260423T224011
CREATED:20260325T043406Z
LAST-MODIFIED:20260325T043406Z
UID:10006304-1774947600-1774969200@thaibloodcentre.redcross.or.th
SUMMARY:โรงพยาบาลสงฆ์ [0D0521]
DESCRIPTION:สถานที่เจาะ : ห้องประชุมสลากกินแบ่งรัฐบาล ชั้น 9 (พัก 12-13 น.) \nที่อยู่ : ตึกกัลยาณิวัฒนา 445 ถนนศรีอยุธยา แขวงทุ่งพญาไท เขตราชเทวี กรุงเทพฯ  \nโทร : 0 2640 9537
URL:https://thaibloodcentre.redcross.or.th/event/%e0%b9%82%e0%b8%a3%e0%b8%87%e0%b8%9e%e0%b8%a2%e0%b8%b2%e0%b8%9a%e0%b8%b2%e0%b8%a5%e0%b8%aa%e0%b8%87%e0%b8%86%e0%b9%8c-0d0521-4/
LOCATION:โรงพยาบาลสงฆ์\, โรงพยาบาลสงฆ์ 445 ถนนศรีอยุธยา แขวงทุ่งพญาไท เขตราชเทวี กรุงเทพมหานคร 10400
CATEGORIES:ปฏิทินตารางหน่วยเคลื่อนที่
END:VEVENT
BEGIN:VEVENT
DTSTART;TZID=Asia/Krasnoyarsk:20260108T090000
DTEND;TZID=Asia/Krasnoyarsk:20260108T150000
DTSTAMP:20260423T224011
CREATED:20260106T124331Z
LAST-MODIFIED:20260106T132754Z
UID:10005006-1767862800-1767884400@thaibloodcentre.redcross.or.th
SUMMARY:โรงพยาบาลสงฆ์ [0D0521]
DESCRIPTION:สถานที่เจาะ : ห้องพิธีสงฆ์ 1 ชั้น 2 อาคารมูลนิธิ (พัก 12.00-13.00 น.) \nที่อยู่ : ตึกกัลยาณิวัฒนา 445 ถนนศรีอยุธยา แขวงทุ่งพญาไท เขตราชเทวี กรุงเทพฯ 0 2640 9537
URL:https://thaibloodcentre.redcross.or.th/event/%e0%b9%82%e0%b8%a3%e0%b8%87%e0%b8%9e%e0%b8%a2%e0%b8%b2%e0%b8%9a%e0%b8%b2%e0%b8%a5%e0%b8%aa%e0%b8%87%e0%b8%86%e0%b9%8c-0d0521-3/
LOCATION:โรงพยาบาลสงฆ์\, โรงพยาบาลสงฆ์ 445 ถนนศรีอยุธยา แขวงทุ่งพญาไท เขตราชเทวี กรุงเทพมหานคร 10400
CATEGORIES:ปฏิทินตารางหน่วยเคลื่อนที่
END:VEVENT
BEGIN:VEVENT
DTSTART;TZID=Asia/Bangkok:20250919T090000
DTEND;TZID=Asia/Bangkok:20250919T150000
DTSTAMP:20260423T224011
CREATED:20250911T031420Z
LAST-MODIFIED:20250911T031420Z
UID:10003281-1758272400-1758294000@thaibloodcentre.redcross.or.th
SUMMARY:โรงพยาบาลสงฆ์ [0D0521]
DESCRIPTION:สถานที่เจาะ : ห้องประชุมสลากกินแบ่งรัฐบาล ชั้น 9 (พัก 12-13 น.) \nที่อยู่ : ตึกกัลยาณิวัฒนา 445 ถนนศรีอยุธยา แขวงทุ่งพญาไท เขตราชเทวี กรุงเทพฯ 0 2640 9537
URL:https://thaibloodcentre.redcross.or.th/event/%e0%b9%82%e0%b8%a3%e0%b8%87%e0%b8%9e%e0%b8%a2%e0%b8%b2%e0%b8%9a%e0%b8%b2%e0%b8%a5%e0%b8%aa%e0%b8%87%e0%b8%86%e0%b9%8c-0d0521-2/
LOCATION:โรงพยาบาลสงฆ์\, โรงพยาบาลสงฆ์ 445 ถนนศรีอยุธยา แขวงทุ่งพญาไท เขตราชเทวี กรุงเทพมหานคร 10400
CATEGORIES:ปฏิทินตารางหน่วยเคลื่อนที่
END:VEVENT
BEGIN:VEVENT
DTSTART;TZID=Asia/Bangkok:20250625T090000
DTEND;TZID=Asia/Bangkok:20250625T150000
DTSTAMP:20260423T224011
CREATED:20250626T013715Z
LAST-MODIFIED:20250626T013715Z
UID:10002362-1750842000-1750863600@thaibloodcentre.redcross.or.th
SUMMARY:โรงพยาบาลสงฆ์ []
DESCRIPTION:สถานที่เจาะ : ห้องประชุมสลากกินแบ่งรัฐบาล ชั้น 9 (พัก 12-13 น.) \nที่อยู่ : ตึกกัลยาณิวัฒนา 445 ถนนศรีอยุธยา แขวงทุ่งพญาไท เขตราชเทวี กรุงเทพฯ 0 2640 9537
URL:https://thaibloodcentre.redcross.or.th/event/%e0%b9%82%e0%b8%a3%e0%b8%87%e0%b8%9e%e0%b8%a2%e0%b8%b2%e0%b8%9a%e0%b8%b2%e0%b8%a5%e0%b8%aa%e0%b8%87%e0%b8%86%e0%b9%8c/
LOCATION:โรงพยาบาลสงฆ์\, โรงพยาบาลสงฆ์ 445 ถนนศรีอยุธยา แขวงทุ่งพญาไท เขตราชเทวี กรุงเทพมหานคร 10400
CATEGORIES:ปฏิทินตารางหน่วยเคลื่อนที่
END:VEVENT
BEGIN:VEVENT
DTSTART;TZID=Asia/Bangkok:20250328T090000
DTEND;TZID=Asia/Bangkok:20250328T150000
DTSTAMP:20260423T224011
CREATED:20250321T104547Z
LAST-MODIFIED:20250321T104547Z
UID:10001059-1743152400-1743174000@thaibloodcentre.redcross.or.th
SUMMARY:โรงพยาบาลสงฆ์ [0D0521]
DESCRIPTION:สถานที่เจาะ : ห้องประชุมสลากกินแบ่งรัฐบาล ชั้น 9 (พัก 12.00-13.00 น.) \nที่อยู่ : ตึกกัลยาณิวัฒนา 445 ถนนศรีอยุธยา แขวงทุ่งพญาไท เขตราชเทวี กรุงเทพฯ 0 2640 9537
URL:https://thaibloodcentre.redcross.or.th/event/%e0%b9%82%e0%b8%a3%e0%b8%87%e0%b8%9e%e0%b8%a2%e0%b8%b2%e0%b8%9a%e0%b8%b2%e0%b8%a5%e0%b8%aa%e0%b8%87%e0%b8%86%e0%b9%8c-0d0521/
LOCATION:โรงพยาบาลสงฆ์\, โรงพยาบาลสงฆ์ 445 ถนนศรีอยุธยา แขวงทุ่งพญาไท เขตราชเทวี กรุงเทพมหานคร 10400
CATEGORIES:ปฏิทินตารางหน่วยเคลื่อนที่
END:VEVENT
END:VCALENDAR