BEGIN:VCALENDAR
VERSION:2.0
PRODID:-//เว็บไซต์ศูนย์บริการโลหิตแห่งชาติ - ECPv6.11.2.1//NONSGML v1.0//EN
CALSCALE:GREGORIAN
METHOD:PUBLISH
X-ORIGINAL-URL:https://thaibloodcentre.redcross.or.th
X-WR-CALDESC:Events for เว็บไซต์ศูนย์บริการโลหิตแห่งชาติ
REFRESH-INTERVAL;VALUE=DURATION:PT1H
X-Robots-Tag:noindex
X-PUBLISHED-TTL:PT1H
BEGIN:VTIMEZONE
TZID:Asia/Krasnoyarsk
BEGIN:STANDARD
TZOFFSETFROM:+0700
TZOFFSETTO:+0700
TZNAME:+07
DTSTART:20260101T000000
END:STANDARD
END:VTIMEZONE
BEGIN:VEVENT
DTSTART;TZID=Asia/Krasnoyarsk:20260424T090000
DTEND;TZID=Asia/Krasnoyarsk:20260424T150000
DTSTAMP:20260423T230655
CREATED:20260420T062055Z
LAST-MODIFIED:20260420T062055Z
UID:10006547-1777021200-1777042800@thaibloodcentre.redcross.or.th
SUMMARY:โรงพยาบาลนครธน []
DESCRIPTION:สถานที่เจาะ : หน้าโรงพยาบาล (พัก 11.30-12.30 น.) \nที่อยู่ : 1 พระรามที่ 2 ซอย 56 แขวงแสมดำ เขตบางขุนเทียน กรุงเทพฯ 0 2450 9999
URL:https://thaibloodcentre.redcross.or.th/event/%e0%b9%82%e0%b8%a3%e0%b8%87%e0%b8%9e%e0%b8%a2%e0%b8%b2%e0%b8%9a%e0%b8%b2%e0%b8%a5%e0%b8%99%e0%b8%84%e0%b8%a3%e0%b8%98%e0%b8%99-4/
LOCATION:โรงพยาบาลนครธน\, โรงพยาบาลนครธน 1 พระราม 2 ซอย 56 แขวงแสมดำ เขตบางขุนเทียน กรุงเทพมหานคร 10150
CATEGORIES:ปฏิทินตารางหน่วยเคลื่อนที่
END:VEVENT
END:VCALENDAR