BEGIN:VCALENDAR
VERSION:2.0
PRODID:-//เว็บไซต์ศูนย์บริการโลหิตแห่งชาติ - ECPv6.11.2.1//NONSGML v1.0//EN
CALSCALE:GREGORIAN
METHOD:PUBLISH
X-ORIGINAL-URL:https://thaibloodcentre.redcross.or.th
X-WR-CALDESC:Events for เว็บไซต์ศูนย์บริการโลหิตแห่งชาติ
REFRESH-INTERVAL;VALUE=DURATION:PT1H
X-Robots-Tag:noindex
X-PUBLISHED-TTL:PT1H
BEGIN:VTIMEZONE
TZID:Asia/Krasnoyarsk
BEGIN:STANDARD
TZOFFSETFROM:+0700
TZOFFSETTO:+0700
TZNAME:+07
DTSTART:20250101T000000
END:STANDARD
END:VTIMEZONE
BEGIN:VTIMEZONE
TZID:Asia/Bangkok
BEGIN:STANDARD
TZOFFSETFROM:+0700
TZOFFSETTO:+0700
TZNAME:+07
DTSTART:20250101T000000
END:STANDARD
END:VTIMEZONE
BEGIN:VEVENT
DTSTART;TZID=Asia/Krasnoyarsk:20260207T110000
DTEND;TZID=Asia/Krasnoyarsk:20260207T150000
DTSTAMP:20260426T033256
CREATED:20260204T115228Z
LAST-MODIFIED:20260204T120937Z
UID:10005439-1770462000-1770476400@thaibloodcentre.redcross.or.th
SUMMARY:โครงการเดอะไบรท์ พระราม 2 []
DESCRIPTION:สถานที่เจาะ : จุดวงเวียนน้ำพุ ทางเข้าโครงการ \nที่อยู่ : 15/9 ถนนพระรามที่ 2 แขวงท่าข้าม เขตบางขุนเทียน กรุงเทพฯ 0 2417 0048-51
URL:https://thaibloodcentre.redcross.or.th/event/%e0%b9%82%e0%b8%84%e0%b8%a3%e0%b8%87%e0%b8%81%e0%b8%b2%e0%b8%a3%e0%b9%80%e0%b8%94%e0%b8%ad%e0%b8%b0%e0%b9%84%e0%b8%9a%e0%b8%a3%e0%b8%97%e0%b9%8c-%e0%b8%9e%e0%b8%a3%e0%b8%b0%e0%b8%a3%e0%b8%b2-5/
LOCATION:โครงการเดอะไบรท์ พระราม 2
CATEGORIES:ปฏิทินตารางหน่วยเคลื่อนที่
END:VEVENT
BEGIN:VEVENT
DTSTART;TZID=Asia/Krasnoyarsk:20251101T110000
DTEND;TZID=Asia/Krasnoyarsk:20251101T150000
DTSTAMP:20260426T033256
CREATED:20251027T025344Z
LAST-MODIFIED:20251027T025344Z
UID:10003889-1761994800-1762009200@thaibloodcentre.redcross.or.th
SUMMARY:โครงการเดอะไบรท์ พระราม 2 [0M0821]
DESCRIPTION:สถานที่เจาะ : จุดวงเวียนน้ำพุ ทางเข้าโครงการ \nที่อยู่ : 15/9 ถนนพระรามที่ 2 แขวงท่าข้าม เขตบางขุนเทียน กรุงเทพฯ 0 2417 0048-51
URL:https://thaibloodcentre.redcross.or.th/event/%e0%b9%82%e0%b8%84%e0%b8%a3%e0%b8%87%e0%b8%81%e0%b8%b2%e0%b8%a3%e0%b9%80%e0%b8%94%e0%b8%ad%e0%b8%b0%e0%b9%84%e0%b8%9a%e0%b8%a3%e0%b8%97%e0%b9%8c-%e0%b8%9e%e0%b8%a3%e0%b8%b0%e0%b8%a3%e0%b8%b2-4/
LOCATION:โครงการเดอะไบรท์ พระราม 2
CATEGORIES:ปฏิทินตารางหน่วยเคลื่อนที่
END:VEVENT
BEGIN:VEVENT
DTSTART;TZID=Asia/Bangkok:20250802T110000
DTEND;TZID=Asia/Bangkok:20250802T150000
DTSTAMP:20260426T033256
CREATED:20250728T100319Z
LAST-MODIFIED:20250728T100319Z
UID:10002690-1754132400-1754146800@thaibloodcentre.redcross.or.th
SUMMARY:โครงการเดอะไบรท์ พระราม 2 [0M0821]
DESCRIPTION:สถานที่เจาะ : จุดวงเวียนน้ำพุ ทางเข้าโครงการ \nที่อยู่ : 15/9 ถนนพระรามที่ 2 แขวงท่าข้าม เขตบางขุนเทียน กรุงเทพฯ 0 2417 0048-51
URL:https://thaibloodcentre.redcross.or.th/event/%e0%b9%82%e0%b8%84%e0%b8%a3%e0%b8%87%e0%b8%81%e0%b8%b2%e0%b8%a3%e0%b9%80%e0%b8%94%e0%b8%ad%e0%b8%b0%e0%b9%84%e0%b8%9a%e0%b8%a3%e0%b8%97%e0%b9%8c-%e0%b8%9e%e0%b8%a3%e0%b8%b0%e0%b8%a3%e0%b8%b2-3/
LOCATION:โครงการเดอะไบรท์ พระราม 2
CATEGORIES:ปฏิทินตารางหน่วยเคลื่อนที่
END:VEVENT
BEGIN:VEVENT
DTSTART;TZID=Asia/Bangkok:20250503T110000
DTEND;TZID=Asia/Bangkok:20250503T150000
DTSTAMP:20260426T033256
CREATED:20250430T111647Z
LAST-MODIFIED:20250430T111647Z
UID:10001579-1746270000-1746284400@thaibloodcentre.redcross.or.th
SUMMARY:โครงการเดอะไบรท์ พระราม 2 []
DESCRIPTION:สถานที่เจาะ : จุดวงเวียนน้ำพุ ทางเข้าโครงการ \nที่อยู่ : 15/9 ถนนพระรามที่ 2 แขวงท่าข้าม เขตบางขุนเทียน กรุงเทพฯ 0 2417 0048-51
URL:https://thaibloodcentre.redcross.or.th/event/%e0%b9%82%e0%b8%84%e0%b8%a3%e0%b8%87%e0%b8%81%e0%b8%b2%e0%b8%a3%e0%b9%80%e0%b8%94%e0%b8%ad%e0%b8%b0%e0%b9%84%e0%b8%9a%e0%b8%a3%e0%b8%97%e0%b9%8c-%e0%b8%9e%e0%b8%a3%e0%b8%b0%e0%b8%a3%e0%b8%b2-2/
LOCATION:โครงการเดอะไบรท์ พระราม 2
CATEGORIES:ปฏิทินตารางหน่วยเคลื่อนที่
END:VEVENT
BEGIN:VEVENT
DTSTART;TZID=Asia/Bangkok:20250201T110000
DTEND;TZID=Asia/Bangkok:20250201T150000
DTSTAMP:20260426T033256
CREATED:20250201T002053Z
LAST-MODIFIED:20250201T002106Z
UID:10000299-1738407600-1738422000@thaibloodcentre.redcross.or.th
SUMMARY:โครงการเดอะไบรท์ พระราม 2 [0M0821]
DESCRIPTION:สถานที่เจาะ : จุดวงเวียนน้ำพุ ทางเข้าโครงการ \nที่อยู่ : 15/9 ถนนพระรามที่ 2 แขวงท่าข้าม เขตบางขุนเทียน กรุงเทพฯ  \nโทร : 0 2417 0048-51
URL:https://thaibloodcentre.redcross.or.th/event/%e0%b9%82%e0%b8%84%e0%b8%a3%e0%b8%87%e0%b8%81%e0%b8%b2%e0%b8%a3%e0%b9%80%e0%b8%94%e0%b8%ad%e0%b8%b0%e0%b9%84%e0%b8%9a%e0%b8%a3%e0%b8%97%e0%b9%8c-%e0%b8%9e%e0%b8%a3%e0%b8%b0%e0%b8%a3%e0%b8%b2%e0%b8%a1/
LOCATION:โครงการเดอะไบรท์ พระราม 2
CATEGORIES:ปฏิทินตารางหน่วยเคลื่อนที่
END:VEVENT
END:VCALENDAR