BEGIN:VCALENDAR
VERSION:2.0
PRODID:-//เว็บไซต์ศูนย์บริการโลหิตแห่งชาติ - ECPv6.11.2.1//NONSGML v1.0//EN
CALSCALE:GREGORIAN
METHOD:PUBLISH
X-ORIGINAL-URL:https://thaibloodcentre.redcross.or.th
X-WR-CALDESC:Events for เว็บไซต์ศูนย์บริการโลหิตแห่งชาติ
REFRESH-INTERVAL;VALUE=DURATION:PT1H
X-Robots-Tag:noindex
X-PUBLISHED-TTL:PT1H
BEGIN:VTIMEZONE
TZID:Asia/Krasnoyarsk
BEGIN:STANDARD
TZOFFSETFROM:+0700
TZOFFSETTO:+0700
TZNAME:+07
DTSTART:20250101T000000
END:STANDARD
END:VTIMEZONE
BEGIN:VTIMEZONE
TZID:Asia/Bangkok
BEGIN:STANDARD
TZOFFSETFROM:+0700
TZOFFSETTO:+0700
TZNAME:+07
DTSTART:20250101T000000
END:STANDARD
END:VTIMEZONE
BEGIN:VEVENT
DTSTART;TZID=Asia/Krasnoyarsk:20251227T110000
DTEND;TZID=Asia/Krasnoyarsk:20251227T150000
DTSTAMP:20260423T194334
CREATED:20251223T144505Z
LAST-MODIFIED:20251224T082206Z
UID:10004884-1766833200-1766847600@thaibloodcentre.redcross.or.th
SUMMARY:เพอร์เฟค มาสเตอร์พีซ รามคำแหง []
DESCRIPTION:สถานที่เจาะ : หน้าสโมสรมาสเตอร์คลับ รามคำแหง เฟส 4 \nที่อยู่ : 99 ถนนรามคำแหง 164 แขวงมีนบุรี เขตมีนบุรี กรุงเทพฯ
URL:https://thaibloodcentre.redcross.or.th/event/%e0%b9%80%e0%b8%9e%e0%b8%ad%e0%b8%a3%e0%b9%8c%e0%b9%80%e0%b8%9f%e0%b8%84-%e0%b8%a1%e0%b8%b2%e0%b8%aa%e0%b9%80%e0%b8%95%e0%b8%ad%e0%b8%a3%e0%b9%8c%e0%b8%9e%e0%b8%b5%e0%b8%8b-%e0%b8%a3%e0%b8%b2-4/
LOCATION:เพอร์เฟค มาสเตอร์พีซ รามคำแหง\, เพอร์เฟค มาสเตอร์พีซ เซ็นจูรี่ รามคำแหง 99 รามคำแหง164 แขวงสะพานสูง เขตสะพานสูง กรุงเทพมหานคร 10240
CATEGORIES:ปฏิทินตารางหน่วยเคลื่อนที่
END:VEVENT
BEGIN:VEVENT
DTSTART;TZID=Asia/Bangkok:20250927T110000
DTEND;TZID=Asia/Bangkok:20250927T150000
DTSTAMP:20260423T194334
CREATED:20250925T025428Z
LAST-MODIFIED:20250925T025428Z
UID:10003520-1758970800-1758985200@thaibloodcentre.redcross.or.th
SUMMARY:เพอร์เฟค มาสเตอร์พีซ รามคำแหง [0M0885]
DESCRIPTION:สถานที่เจาะ : หน้าสโมสรมาสเตอร์คลับ รามคำแหง เฟส 4 \nที่อยู่ : 99 ถนนรามคำแหง 164 แขวงมีนบุรี เขตมีนบุรี กรุงเทพฯ
URL:https://thaibloodcentre.redcross.or.th/event/%e0%b9%80%e0%b8%9e%e0%b8%ad%e0%b8%a3%e0%b9%8c%e0%b9%80%e0%b8%9f%e0%b8%84-%e0%b8%a1%e0%b8%b2%e0%b8%aa%e0%b9%80%e0%b8%95%e0%b8%ad%e0%b8%a3%e0%b9%8c%e0%b8%9e%e0%b8%b5%e0%b8%8b-%e0%b8%a3%e0%b8%b2-3/
LOCATION:เพอร์เฟค มาสเตอร์พีซ รามคำแหง\, เพอร์เฟค มาสเตอร์พีซ เซ็นจูรี่ รามคำแหง 99 รามคำแหง164 แขวงสะพานสูง เขตสะพานสูง กรุงเทพมหานคร 10240
CATEGORIES:ปฏิทินตารางหน่วยเคลื่อนที่
END:VEVENT
BEGIN:VEVENT
DTSTART;TZID=Asia/Bangkok:20250628T110000
DTEND;TZID=Asia/Bangkok:20250628T150000
DTSTAMP:20260423T194334
CREATED:20250626T022354Z
LAST-MODIFIED:20250626T022354Z
UID:10002416-1751108400-1751122800@thaibloodcentre.redcross.or.th
SUMMARY:เพอร์เฟค มาสเตอร์พีซ รามคำแหง []
DESCRIPTION:สถานที่เจาะ : หน้าสโมสรมาสเตอร์คลับ รามคำแหง เฟส 4 \nที่อยู่ : 99 ถนนรามคำแหง 164 แขวงมีนบุรี เขตมีนบุรี กรุงเทพฯ
URL:https://thaibloodcentre.redcross.or.th/event/%e0%b9%80%e0%b8%9e%e0%b8%ad%e0%b8%a3%e0%b9%8c%e0%b9%80%e0%b8%9f%e0%b8%84-%e0%b8%a1%e0%b8%b2%e0%b8%aa%e0%b9%80%e0%b8%95%e0%b8%ad%e0%b8%a3%e0%b9%8c%e0%b8%9e%e0%b8%b5%e0%b8%8b-%e0%b8%a3%e0%b8%b2-2/
LOCATION:เพอร์เฟค มาสเตอร์พีซ รามคำแหง\, เพอร์เฟค มาสเตอร์พีซ เซ็นจูรี่ รามคำแหง 99 รามคำแหง164 แขวงสะพานสูง เขตสะพานสูง กรุงเทพมหานคร 10240
CATEGORIES:ปฏิทินตารางหน่วยเคลื่อนที่
END:VEVENT
BEGIN:VEVENT
DTSTART;TZID=Asia/Bangkok:20250329T110000
DTEND;TZID=Asia/Bangkok:20250329T150000
DTSTAMP:20260423T194334
CREATED:20250321T104702Z
LAST-MODIFIED:20250321T104702Z
UID:10001076-1743246000-1743260400@thaibloodcentre.redcross.or.th
SUMMARY:เพอร์เฟค มาสเตอร์พีซ รามคำแหง [0M0885]
DESCRIPTION:สถานที่เจาะ : หน้าสโมสรมาสเตอร์คลับ รามคำแหง เฟส 4 \nที่อยู่ : 99 ถนนรามคำแหง 164 แขวงมีนบุรี เขตมีนบุรี กรุงเทพฯ
URL:https://thaibloodcentre.redcross.or.th/event/%e0%b9%80%e0%b8%9e%e0%b8%ad%e0%b8%a3%e0%b9%8c%e0%b9%80%e0%b8%9f%e0%b8%84-%e0%b8%a1%e0%b8%b2%e0%b8%aa%e0%b9%80%e0%b8%95%e0%b8%ad%e0%b8%a3%e0%b9%8c%e0%b8%9e%e0%b8%b5%e0%b8%8b-%e0%b8%a3%e0%b8%b2%e0%b8%a1/
LOCATION:เพอร์เฟค มาสเตอร์พีซ รามคำแหง\, เพอร์เฟค มาสเตอร์พีซ เซ็นจูรี่ รามคำแหง 99 รามคำแหง164 แขวงสะพานสูง เขตสะพานสูง กรุงเทพมหานคร 10240
CATEGORIES:ปฏิทินตารางหน่วยเคลื่อนที่
END:VEVENT
END:VCALENDAR