BEGIN:VCALENDAR
VERSION:2.0
PRODID:-//เว็บไซต์ศูนย์บริการโลหิตแห่งชาติ - ECPv6.11.2.1//NONSGML v1.0//EN
CALSCALE:GREGORIAN
METHOD:PUBLISH
X-WR-CALNAME:เว็บไซต์ศูนย์บริการโลหิตแห่งชาติ
X-ORIGINAL-URL:https://thaibloodcentre.redcross.or.th
X-WR-CALDESC:Events for เว็บไซต์ศูนย์บริการโลหิตแห่งชาติ
REFRESH-INTERVAL;VALUE=DURATION:PT1H
X-Robots-Tag:noindex
X-PUBLISHED-TTL:PT1H
BEGIN:VTIMEZONE
TZID:Asia/Krasnoyarsk
BEGIN:STANDARD
TZOFFSETFROM:+0700
TZOFFSETTO:+0700
TZNAME:+07
DTSTART:20260101T000000
END:STANDARD
END:VTIMEZONE
BEGIN:VTIMEZONE
TZID:Asia/Bangkok
BEGIN:STANDARD
TZOFFSETFROM:+0700
TZOFFSETTO:+0700
TZNAME:+07
DTSTART:20250101T000000
END:STANDARD
END:VTIMEZONE
BEGIN:VEVENT
DTSTART;TZID=Asia/Krasnoyarsk:20260417T090000
DTEND;TZID=Asia/Krasnoyarsk:20260417T150000
DTSTAMP:20260423T185246
CREATED:20260416T100927Z
LAST-MODIFIED:20260416T100927Z
UID:10006496-1776416400-1776438000@thaibloodcentre.redcross.or.th
SUMMARY:อาคารโอเนส ทาวเวอร์ []
DESCRIPTION:สถานที่เจาะ : ห้องประชุม A 1-3 ชั้น 6 (พัก 11.00-12.00 น.) \nที่อยู่ : 6 สุขุมวิท 6 แขวงคลองเตย เขตคลองเตย กรุงเทพฯ
URL:https://thaibloodcentre.redcross.or.th/event/%e0%b8%ad%e0%b8%b2%e0%b8%84%e0%b8%b2%e0%b8%a3%e0%b9%82%e0%b8%ad%e0%b9%80%e0%b8%99%e0%b8%aa-%e0%b8%97%e0%b8%b2%e0%b8%a7%e0%b9%80%e0%b8%a7%e0%b8%ad%e0%b8%a3%e0%b9%8c-3/
LOCATION:อาคารโอเนส ทาวเวอร์\, อาคารโอเนส ทาวเวอร์ 6 ซ.สุขุมวิท 6 แขวงคลองเตย เขตคลองเตย กรุงเทพมหานคร 10110
CATEGORIES:ปฏิทินตารางหน่วยเคลื่อนที่
END:VEVENT
BEGIN:VEVENT
DTSTART;TZID=Asia/Krasnoyarsk:20260126T090000
DTEND;TZID=Asia/Krasnoyarsk:20260126T150000
DTSTAMP:20260423T185247
CREATED:20260120T104839Z
LAST-MODIFIED:20260120T104909Z
UID:10005267-1769418000-1769439600@thaibloodcentre.redcross.or.th
SUMMARY:อาคารโอเนส ทาวเวอร์ []
DESCRIPTION:สถานที่เจาะ : ห้องประชุม A 1-3 ชั้น 6 (พัก 11.00-12.00 น.) \nที่อยู่ : 6 สุขุมวิท 6 แขวงคลองเตย เขตคลองเตย กรุงเทพฯ
URL:https://thaibloodcentre.redcross.or.th/event/%e0%b8%ad%e0%b8%b2%e0%b8%84%e0%b8%b2%e0%b8%a3%e0%b9%82%e0%b8%ad%e0%b9%80%e0%b8%99%e0%b8%aa-%e0%b8%97%e0%b8%b2%e0%b8%a7%e0%b9%80%e0%b8%a7%e0%b8%ad%e0%b8%a3%e0%b9%8c-2/
LOCATION:อาคารโอเนส ทาวเวอร์\, อาคารโอเนส ทาวเวอร์ 6 ซ.สุขุมวิท 6 แขวงคลองเตย เขตคลองเตย กรุงเทพมหานคร 10110
CATEGORIES:ปฏิทินตารางหน่วยเคลื่อนที่
END:VEVENT
BEGIN:VEVENT
DTSTART;TZID=Asia/Bangkok:20251006T090000
DTEND;TZID=Asia/Bangkok:20251006T150000
DTSTAMP:20260423T185247
CREATED:20250924T111459Z
LAST-MODIFIED:20250924T111459Z
UID:10003426-1759741200-1759762800@thaibloodcentre.redcross.or.th
SUMMARY:อาคารโอเนส ทาวเวอร์ [0M1022]
DESCRIPTION:สถานที่เจาะ : ห้องประชุม A 1-3 ชั้น 6 (พัก 11-12 น.) \nที่อยู่ : 6 สุขุมวิท 6 แขวงคลองเตย เขตคลองเตย กรุงเทพฯ
URL:https://thaibloodcentre.redcross.or.th/event/%e0%b8%ad%e0%b8%b2%e0%b8%84%e0%b8%b2%e0%b8%a3%e0%b9%82%e0%b8%ad%e0%b9%80%e0%b8%99%e0%b8%aa-%e0%b8%97%e0%b8%b2%e0%b8%a7%e0%b9%80%e0%b8%a7%e0%b8%ad%e0%b8%a3%e0%b9%8c-0m1022-3/
LOCATION:อาคารโอเนส ทาวเวอร์\, อาคารโอเนส ทาวเวอร์ 6 ซ.สุขุมวิท 6 แขวงคลองเตย เขตคลองเตย กรุงเทพมหานคร 10110
CATEGORIES:ปฏิทินตารางหน่วยเคลื่อนที่
END:VEVENT
BEGIN:VEVENT
DTSTART;TZID=Asia/Bangkok:20250707T090000
DTEND;TZID=Asia/Bangkok:20250707T150000
DTSTAMP:20260423T185247
CREATED:20250623T035852Z
LAST-MODIFIED:20250623T035852Z
UID:10002321-1751878800-1751900400@thaibloodcentre.redcross.or.th
SUMMARY:อาคารโอเนส ทาวเวอร์ []
DESCRIPTION:สถานที่เจาะ : ห้องประชุม A 1-3 ชั้น 6 (พัก 11-12 น.) \nที่อยู่ : 6 สุขุมวิท 6 แขวงคลองเตย เขตคลองเตย กรุงเทพฯ
URL:https://thaibloodcentre.redcross.or.th/event/%e0%b8%ad%e0%b8%b2%e0%b8%84%e0%b8%b2%e0%b8%a3%e0%b9%82%e0%b8%ad%e0%b9%80%e0%b8%99%e0%b8%aa-%e0%b8%97%e0%b8%b2%e0%b8%a7%e0%b9%80%e0%b8%a7%e0%b8%ad%e0%b8%a3%e0%b9%8c/
LOCATION:อาคารโอเนส ทาวเวอร์\, อาคารโอเนส ทาวเวอร์ 6 ซ.สุขุมวิท 6 แขวงคลองเตย เขตคลองเตย กรุงเทพมหานคร 10110
CATEGORIES:ปฏิทินตารางหน่วยเคลื่อนที่
END:VEVENT
BEGIN:VEVENT
DTSTART;TZID=Asia/Bangkok:20250410T090000
DTEND;TZID=Asia/Bangkok:20250410T150000
DTSTAMP:20260423T185247
CREATED:20250404T150954Z
LAST-MODIFIED:20250404T150954Z
UID:10001263-1744275600-1744297200@thaibloodcentre.redcross.or.th
SUMMARY:อาคารโอเนส ทาวเวอร์ [0M1022]
DESCRIPTION:สถานที่เจาะ : ห้องประชุม A 1-3 ชั้น 6 (พัก 11.00-12.00 น.) \nที่อยู่ : 6 สุขุมวิท 6 แขวงคลองเตย เขตคลองเตย กรุงเทพฯ
URL:https://thaibloodcentre.redcross.or.th/event/%e0%b8%ad%e0%b8%b2%e0%b8%84%e0%b8%b2%e0%b8%a3%e0%b9%82%e0%b8%ad%e0%b9%80%e0%b8%99%e0%b8%aa-%e0%b8%97%e0%b8%b2%e0%b8%a7%e0%b9%80%e0%b8%a7%e0%b8%ad%e0%b8%a3%e0%b9%8c-0m1022-2/
LOCATION:อาคารโอเนส ทาวเวอร์\, อาคารโอเนส ทาวเวอร์ 6 ซ.สุขุมวิท 6 แขวงคลองเตย เขตคลองเตย กรุงเทพมหานคร 10110
CATEGORIES:ปฏิทินตารางหน่วยเคลื่อนที่
END:VEVENT
BEGIN:VEVENT
DTSTART;TZID=Asia/Bangkok:20250115T090000
DTEND;TZID=Asia/Bangkok:20250115T150000
DTSTAMP:20260423T185247
CREATED:20250114T103901Z
LAST-MODIFIED:20250114T103901Z
UID:10000219-1736931600-1736953200@thaibloodcentre.redcross.or.th
SUMMARY:อาคารโอเนส ทาวเวอร์ [0M1022]
DESCRIPTION:สถานที่เจาะ : ห้องประชุม A 1-3 ชั้น 6 (พัก 11.00-12.00 น.) \nที่อยู่ : 6 สุขุมวิท 6 แขวงคลองเตย เขตคลองเตย กรุงเทพฯ
URL:https://thaibloodcentre.redcross.or.th/event/%e0%b8%ad%e0%b8%b2%e0%b8%84%e0%b8%b2%e0%b8%a3%e0%b9%82%e0%b8%ad%e0%b9%80%e0%b8%99%e0%b8%aa-%e0%b8%97%e0%b8%b2%e0%b8%a7%e0%b9%80%e0%b8%a7%e0%b8%ad%e0%b8%a3%e0%b9%8c-0m1022/
LOCATION:อาคารโอเนส ทาวเวอร์\, อาคารโอเนส ทาวเวอร์ 6 ซ.สุขุมวิท 6 แขวงคลองเตย เขตคลองเตย กรุงเทพมหานคร 10110
CATEGORIES:ปฏิทินตารางหน่วยเคลื่อนที่
END:VEVENT
END:VCALENDAR