BEGIN:VCALENDAR
VERSION:2.0
PRODID:-//เว็บไซต์ศูนย์บริการโลหิตแห่งชาติ - ECPv6.11.2.1//NONSGML v1.0//EN
CALSCALE:GREGORIAN
METHOD:PUBLISH
X-WR-CALNAME:เว็บไซต์ศูนย์บริการโลหิตแห่งชาติ
X-ORIGINAL-URL:https://thaibloodcentre.redcross.or.th
X-WR-CALDESC:Events for เว็บไซต์ศูนย์บริการโลหิตแห่งชาติ
REFRESH-INTERVAL;VALUE=DURATION:PT1H
X-Robots-Tag:noindex
X-PUBLISHED-TTL:PT1H
BEGIN:VTIMEZONE
TZID:Asia/Krasnoyarsk
BEGIN:STANDARD
TZOFFSETFROM:+0700
TZOFFSETTO:+0700
TZNAME:+07
DTSTART:20260101T000000
END:STANDARD
END:VTIMEZONE
BEGIN:VEVENT
DTSTART;TZID=Asia/Krasnoyarsk:20260330T090000
DTEND;TZID=Asia/Krasnoyarsk:20260330T150000
DTSTAMP:20260424T231338
CREATED:20260325T043057Z
LAST-MODIFIED:20260325T043057Z
UID:10006285-1774861200-1774882800@thaibloodcentre.redcross.or.th
SUMMARY:อาคารเอไอเอ อีสต์ เกตเวย์ [0M1072]
DESCRIPTION:สถานที่เจาะ : Food Hall ชั้น 3 \nที่อยู่ : 989 ถนนเทพรัตน์ แขวงบางนาเหนือ เขตบางนา กรุงเทพฯ  \nโทร : 0 2170 8399
URL:https://thaibloodcentre.redcross.or.th/event/%e0%b8%ad%e0%b8%b2%e0%b8%84%e0%b8%b2%e0%b8%a3%e0%b9%80%e0%b8%ad%e0%b9%84%e0%b8%ad%e0%b9%80%e0%b8%ad-%e0%b8%ad%e0%b8%b5%e0%b8%aa%e0%b8%95%e0%b9%8c-%e0%b9%80%e0%b8%81%e0%b8%95%e0%b9%80%e0%b8%a7%e0%b8%a2/
LOCATION:อาคารเอไอเอ อีสต์ เกตเวย์\, AIA East Gateway - Office Building 989 ถ. เทพรัตน แขวงบางนาเหนือ เขตบางนา กรุงเทพมหานคร 10260
CATEGORIES:ปฏิทินตารางหน่วยเคลื่อนที่
END:VEVENT
END:VCALENDAR