BEGIN:VCALENDAR
VERSION:2.0
PRODID:-//เว็บไซต์ศูนย์บริการโลหิตแห่งชาติ - ECPv6.11.2.1//NONSGML v1.0//EN
CALSCALE:GREGORIAN
METHOD:PUBLISH
X-ORIGINAL-URL:https://thaibloodcentre.redcross.or.th
X-WR-CALDESC:Events for เว็บไซต์ศูนย์บริการโลหิตแห่งชาติ
REFRESH-INTERVAL;VALUE=DURATION:PT1H
X-Robots-Tag:noindex
X-PUBLISHED-TTL:PT1H
BEGIN:VTIMEZONE
TZID:Asia/Krasnoyarsk
BEGIN:STANDARD
TZOFFSETFROM:+0700
TZOFFSETTO:+0700
TZNAME:+07
DTSTART:20250101T000000
END:STANDARD
END:VTIMEZONE
BEGIN:VTIMEZONE
TZID:Asia/Bangkok
BEGIN:STANDARD
TZOFFSETFROM:+0700
TZOFFSETTO:+0700
TZNAME:+07
DTSTART:20250101T000000
END:STANDARD
END:VTIMEZONE
BEGIN:VEVENT
DTSTART;TZID=Asia/Krasnoyarsk:20260331T090000
DTEND;TZID=Asia/Krasnoyarsk:20260331T120000
DTSTAMP:20260423T052618
CREATED:20260325T043245Z
LAST-MODIFIED:20260325T043245Z
UID:10006298-1774947600-1774958400@thaibloodcentre.redcross.or.th
SUMMARY:อาคารเล้าเป้งง้วน [0E0863]
DESCRIPTION:สถานที่เจาะ : หน้าอาคารข้างจุดชาร์ตไฟ \nที่อยู่ : 333 ซอยเฉยพ่วง ถนนวิภาวดีรังสิต แขวงจอมพล เขตจตุจักร กรุงเทพฯ  \nโทร : 0 2618 8009
URL:https://thaibloodcentre.redcross.or.th/event/%e0%b8%ad%e0%b8%b2%e0%b8%84%e0%b8%b2%e0%b8%a3%e0%b9%80%e0%b8%a5%e0%b9%89%e0%b8%b2%e0%b9%80%e0%b8%9b%e0%b9%89%e0%b8%87%e0%b8%87%e0%b9%89%e0%b8%a7%e0%b8%99-0e0863-4/
LOCATION:อาคารเล้าเป้งง้วน\, อาคารเล้าเป้งง้วน1 333 ซอยเฉยพ่วง ถนนวิภาวดีรังสิต แขวงจอมพล เขตจตุจักร กรุงเทพฯ 10900
CATEGORIES:ปฏิทินตารางหน่วยเคลื่อนที่
END:VEVENT
BEGIN:VEVENT
DTSTART;TZID=Asia/Krasnoyarsk:20251222T090000
DTEND;TZID=Asia/Krasnoyarsk:20251222T120000
DTSTAMP:20260423T052619
CREATED:20251215T120206Z
LAST-MODIFIED:20251215T120206Z
UID:10004804-1766394000-1766404800@thaibloodcentre.redcross.or.th
SUMMARY:อาคารเล้าเป้งง้วน [0E0863]
DESCRIPTION:สถานที่เจาะ : หน้าอาคารข้างจุดชาร์ตไฟ \nที่อยู่ : 333 ซอยเฉยพ่วง ถนนวิภาวดีรังสิต แขวงจอมพล เขตจตุจักร กรุงเทพฯ 0 2618 8009
URL:https://thaibloodcentre.redcross.or.th/event/%e0%b8%ad%e0%b8%b2%e0%b8%84%e0%b8%b2%e0%b8%a3%e0%b9%80%e0%b8%a5%e0%b9%89%e0%b8%b2%e0%b9%80%e0%b8%9b%e0%b9%89%e0%b8%87%e0%b8%87%e0%b9%89%e0%b8%a7%e0%b8%99-0e0863-3/
LOCATION:อาคารเล้าเป้งง้วน\, อาคารเล้าเป้งง้วน1 333 ซอยเฉยพ่วง ถนนวิภาวดีรังสิต แขวงจอมพล เขตจตุจักร กรุงเทพฯ 10900
CATEGORIES:ปฏิทินตารางหน่วยเคลื่อนที่
END:VEVENT
BEGIN:VEVENT
DTSTART;TZID=Asia/Bangkok:20250922T090000
DTEND;TZID=Asia/Bangkok:20250922T120000
DTSTAMP:20260423T052619
CREATED:20250911T033752Z
LAST-MODIFIED:20250911T033752Z
UID:10003319-1758531600-1758542400@thaibloodcentre.redcross.or.th
SUMMARY:อาคารเล้าเป้งง้วน [0E0863]
DESCRIPTION:สถานที่เจาะ : หน้าอาคารข้างจุดชาร์ตไฟ \nที่อยู่ : 333 ซอยเฉยพ่วง ถนนวิภาวดีรังสิต แขวงจอมพล เขตจตุจักร กรุงเทพฯ 0 2618 8009
URL:https://thaibloodcentre.redcross.or.th/event/%e0%b8%ad%e0%b8%b2%e0%b8%84%e0%b8%b2%e0%b8%a3%e0%b9%80%e0%b8%a5%e0%b9%89%e0%b8%b2%e0%b9%80%e0%b8%9b%e0%b9%89%e0%b8%87%e0%b8%87%e0%b9%89%e0%b8%a7%e0%b8%99-0e0863-2/
LOCATION:อาคารเล้าเป้งง้วน\, อาคารเล้าเป้งง้วน1 333 ซอยเฉยพ่วง ถนนวิภาวดีรังสิต แขวงจอมพล เขตจตุจักร กรุงเทพฯ 10900
CATEGORIES:ปฏิทินตารางหน่วยเคลื่อนที่
END:VEVENT
BEGIN:VEVENT
DTSTART;TZID=Asia/Bangkok:20250623T090000
DTEND;TZID=Asia/Bangkok:20250623T120000
DTSTAMP:20260423T052619
CREATED:20250612T095154Z
LAST-MODIFIED:20250619T034425Z
UID:10002207-1750669200-1750680000@thaibloodcentre.redcross.or.th
SUMMARY:อาคารเล้าเป้งง้วน []
DESCRIPTION:สถานที่เจาะ : หน้าอาคารข้างจุดชาร์ตไฟ \nที่อยู่ : 333 ซอยเฉยพ่วง ถนนวิภาวดีรังสิต แขวงจอมพล เขตจตุจักร กรุงเทพฯ 0 2618 8009
URL:https://thaibloodcentre.redcross.or.th/event/%e0%b8%ad%e0%b8%b2%e0%b8%84%e0%b8%b2%e0%b8%a3%e0%b9%80%e0%b8%a5%e0%b9%89%e0%b8%b2%e0%b9%80%e0%b8%9b%e0%b9%89%e0%b8%87%e0%b8%87%e0%b9%89%e0%b8%a7%e0%b8%99/
LOCATION:อาคารเล้าเป้งง้วน\, อาคารเล้าเป้งง้วน1 333 ซอยเฉยพ่วง ถนนวิภาวดีรังสิต แขวงจอมพล เขตจตุจักร กรุงเทพฯ 10900
CATEGORIES:ปฏิทินตารางหน่วยเคลื่อนที่
END:VEVENT
BEGIN:VEVENT
DTSTART;TZID=Asia/Bangkok:20250324T090000
DTEND;TZID=Asia/Bangkok:20250324T120000
DTSTAMP:20260423T052619
CREATED:20250315T044409Z
LAST-MODIFIED:20250321T102159Z
UID:10000991-1742806800-1742817600@thaibloodcentre.redcross.or.th
SUMMARY:อาคารเล้าเป้งง้วน [0E0863]
DESCRIPTION:สถานที่เจาะ : หน้าอาคารข้างจุดชาร์ตไฟ \nที่อยู่ : 333 ซอยเฉยพ่วง ถนนวิภาวดีรังสิต แขวงจอมพล เขตจตุจักร กรุงเทพฯ  \nโทร : 0 2618 8009
URL:https://thaibloodcentre.redcross.or.th/event/%e0%b8%ad%e0%b8%b2%e0%b8%84%e0%b8%b2%e0%b8%a3%e0%b9%80%e0%b8%a5%e0%b9%89%e0%b8%b2%e0%b9%80%e0%b8%9b%e0%b9%89%e0%b8%87%e0%b8%87%e0%b9%89%e0%b8%a7%e0%b8%99-0e0863/
LOCATION:อาคารเล้าเป้งง้วน\, อาคารเล้าเป้งง้วน1 333 ซอยเฉยพ่วง ถนนวิภาวดีรังสิต แขวงจอมพล เขตจตุจักร กรุงเทพฯ 10900
CATEGORIES:ปฏิทินตารางหน่วยเคลื่อนที่
END:VEVENT
END:VCALENDAR