BEGIN:VCALENDAR
VERSION:2.0
PRODID:-//เว็บไซต์ศูนย์บริการโลหิตแห่งชาติ - ECPv6.11.2.1//NONSGML v1.0//EN
CALSCALE:GREGORIAN
METHOD:PUBLISH
X-WR-CALNAME:เว็บไซต์ศูนย์บริการโลหิตแห่งชาติ
X-ORIGINAL-URL:https://thaibloodcentre.redcross.or.th
X-WR-CALDESC:Events for เว็บไซต์ศูนย์บริการโลหิตแห่งชาติ
REFRESH-INTERVAL;VALUE=DURATION:PT1H
X-Robots-Tag:noindex
X-PUBLISHED-TTL:PT1H
BEGIN:VTIMEZONE
TZID:Asia/Krasnoyarsk
BEGIN:STANDARD
TZOFFSETFROM:+0700
TZOFFSETTO:+0700
TZNAME:+07
DTSTART:20260101T000000
END:STANDARD
END:VTIMEZONE
BEGIN:VTIMEZONE
TZID:Asia/Bangkok
BEGIN:STANDARD
TZOFFSETFROM:+0700
TZOFFSETTO:+0700
TZNAME:+07
DTSTART:20250101T000000
END:STANDARD
END:VTIMEZONE
BEGIN:VEVENT
DTSTART;TZID=Asia/Krasnoyarsk:20260402T090000
DTEND;TZID=Asia/Krasnoyarsk:20260402T150000
DTSTAMP:20260423T105756
CREATED:20260401T020204Z
LAST-MODIFIED:20260401T020204Z
UID:10006329-1775120400-1775142000@thaibloodcentre.redcross.or.th
SUMMARY:อาคารลุมพินี ทาวเวอร์ [0E0746]
DESCRIPTION:สถานที่เจาะ : ห้องสัมมนา ชั้น 11 (พัก 11-12 น.) \nที่อยู่ : 1168 ถนนพระราม 4 แขวงทุ่งมหาเมฆ เขตสาทร กรุงเทพฯ  \nโทร : 0 2285 5011-16
URL:https://thaibloodcentre.redcross.or.th/event/%e0%b8%ad%e0%b8%b2%e0%b8%84%e0%b8%b2%e0%b8%a3%e0%b8%a5%e0%b8%b8%e0%b8%a1%e0%b8%9e%e0%b8%b4%e0%b8%99%e0%b8%b5-%e0%b8%97%e0%b8%b2%e0%b8%a7%e0%b9%80%e0%b8%a7%e0%b8%ad%e0%b8%a3%e0%b9%8c-0e0746-3/
LOCATION:อาคารลุมพินี ทาวเวอร์\, อาคารลุมพินีทาวเวอร์ 1168 ถนนพระรามที่ 4 แขวงทุ่งมหาเมฆ เขตสาทร กรุงเทพมหานคร 10120
CATEGORIES:ปฏิทินตารางหน่วยเคลื่อนที่
END:VEVENT
BEGIN:VEVENT
DTSTART;TZID=Asia/Krasnoyarsk:20260108T090000
DTEND;TZID=Asia/Krasnoyarsk:20260108T150000
DTSTAMP:20260423T105756
CREATED:20260106T124328Z
LAST-MODIFIED:20260106T132753Z
UID:10005005-1767862800-1767884400@thaibloodcentre.redcross.or.th
SUMMARY:อาคารลุมพินี ทาวเวอร์ [0E0746]
DESCRIPTION:สถานที่เจาะ : ห้องสัมมนา ชั้น 11 (พัก 11.00-12.00 น.) \nที่อยู่ : 1168 ถนนพระราม 4 แขวงทุ่งมหาเมฆ เขตสาทร กรุงเทพฯ 0 2285 5011-16
URL:https://thaibloodcentre.redcross.or.th/event/%e0%b8%ad%e0%b8%b2%e0%b8%84%e0%b8%b2%e0%b8%a3%e0%b8%a5%e0%b8%b8%e0%b8%a1%e0%b8%9e%e0%b8%b4%e0%b8%99%e0%b8%b5-%e0%b8%97%e0%b8%b2%e0%b8%a7%e0%b9%80%e0%b8%a7%e0%b8%ad%e0%b8%a3%e0%b9%8c-0e0746-2/
LOCATION:อาคารลุมพินี ทาวเวอร์\, อาคารลุมพินีทาวเวอร์ 1168 ถนนพระรามที่ 4 แขวงทุ่งมหาเมฆ เขตสาทร กรุงเทพมหานคร 10120
CATEGORIES:ปฏิทินตารางหน่วยเคลื่อนที่
END:VEVENT
BEGIN:VEVENT
DTSTART;TZID=Asia/Bangkok:20251002T090000
DTEND;TZID=Asia/Bangkok:20251002T150000
DTSTAMP:20260423T105756
CREATED:20250925T020620Z
LAST-MODIFIED:20250925T020620Z
UID:10003490-1759395600-1759417200@thaibloodcentre.redcross.or.th
SUMMARY:อาคารลุมพินี ทาวเวอร์ [0E0746]
DESCRIPTION:สถานที่เจาะ : ห้องสัมมนา ชั้น 11 \nที่อยู่ : 1168 ถนนพระราม 4 แขวงทุ่งมหาเมฆ เขตสาทร กรุงเทพฯ 0 2285 5011-16
URL:https://thaibloodcentre.redcross.or.th/event/%e0%b8%ad%e0%b8%b2%e0%b8%84%e0%b8%b2%e0%b8%a3%e0%b8%a5%e0%b8%b8%e0%b8%a1%e0%b8%9e%e0%b8%b4%e0%b8%99%e0%b8%b5-%e0%b8%97%e0%b8%b2%e0%b8%a7%e0%b9%80%e0%b8%a7%e0%b8%ad%e0%b8%a3%e0%b9%8c-0e0746/
LOCATION:อาคารลุมพินี ทาวเวอร์\, อาคารลุมพินีทาวเวอร์ 1168 ถนนพระรามที่ 4 แขวงทุ่งมหาเมฆ เขตสาทร กรุงเทพมหานคร 10120
CATEGORIES:ปฏิทินตารางหน่วยเคลื่อนที่
END:VEVENT
END:VCALENDAR