BEGIN:VCALENDAR
VERSION:2.0
PRODID:-//เว็บไซต์ศูนย์บริการโลหิตแห่งชาติ - ECPv6.11.2.1//NONSGML v1.0//EN
CALSCALE:GREGORIAN
METHOD:PUBLISH
X-WR-CALNAME:เว็บไซต์ศูนย์บริการโลหิตแห่งชาติ
X-ORIGINAL-URL:https://thaibloodcentre.redcross.or.th
X-WR-CALDESC:Events for เว็บไซต์ศูนย์บริการโลหิตแห่งชาติ
REFRESH-INTERVAL;VALUE=DURATION:PT1H
X-Robots-Tag:noindex
X-PUBLISHED-TTL:PT1H
BEGIN:VTIMEZONE
TZID:Asia/Krasnoyarsk
BEGIN:STANDARD
TZOFFSETFROM:+0700
TZOFFSETTO:+0700
TZNAME:+07
DTSTART:20250101T000000
END:STANDARD
END:VTIMEZONE
BEGIN:VTIMEZONE
TZID:Asia/Bangkok
BEGIN:STANDARD
TZOFFSETFROM:+0700
TZOFFSETTO:+0700
TZNAME:+07
DTSTART:20250101T000000
END:STANDARD
END:VTIMEZONE
BEGIN:VEVENT
DTSTART;TZID=Asia/Krasnoyarsk:20260226T090000
DTEND;TZID=Asia/Krasnoyarsk:20260226T150000
DTSTAMP:20260425T092020
CREATED:20260224T100113Z
LAST-MODIFIED:20260224T100113Z
UID:10005691-1772096400-1772118000@thaibloodcentre.redcross.or.th
SUMMARY:อาคารปาร์คเวนเชอร์ อีโคเพล็กซ์ []
DESCRIPTION:สถานที่เจาะ : ช่องจอดรถ VIP ด้านหน้าอาคารปาร์คเวนเซอร์ (พัก 12.00-13.00 น.) \nที่อยู่ : 57 ปาร์คเวนเซอร์ อีโคเพล็กซ์ ชั้น 1 ถนนวิทยุ แขวงลุมพินี เขตปทุมวัน กรุงเทพฯ 0 2483 0000
URL:https://thaibloodcentre.redcross.or.th/event/%e0%b8%ad%e0%b8%b2%e0%b8%84%e0%b8%b2%e0%b8%a3%e0%b8%9b%e0%b8%b2%e0%b8%a3%e0%b9%8c%e0%b8%84%e0%b9%80%e0%b8%a7%e0%b8%99%e0%b9%80%e0%b8%8a%e0%b8%ad%e0%b8%a3%e0%b9%8c-%e0%b8%ad%e0%b8%b5%e0%b9%82-3/
LOCATION:อาคารปาร์คเวนเชอร์ อีโคเพล็กซ์\, ปาร์คเวนเชอร์ อีโคเพล็กซ์ 57 ถ.วิทยุ แขวงลุมพินี เขตปทุมวัน กรุงเทพมหานคร 10330
CATEGORIES:ปฏิทินตารางหน่วยเคลื่อนที่
END:VEVENT
BEGIN:VEVENT
DTSTART;TZID=Asia/Krasnoyarsk:20251126T090000
DTEND;TZID=Asia/Krasnoyarsk:20251126T150000
DTSTAMP:20260425T092020
CREATED:20251124T025518Z
LAST-MODIFIED:20251124T025518Z
UID:10004406-1764147600-1764169200@thaibloodcentre.redcross.or.th
SUMMARY:อาคารปาร์คเวนเชอร์ อีโคเพล็กซ์ []
DESCRIPTION:สถานที่เจาะ : ช่องจอดรถ VIP ด้านหน้าอาคารฯ (พัก 12.00-13.00 น.) \nที่อยู่ : 57 ปาร์คเวนเซอร์ อีโคเพล็กซ์ ชั้น 1 ถนนวิทยุ แขวงลุมพินี เขตปทุมวัน กรุงเทพฯ 0 2483 0000
URL:https://thaibloodcentre.redcross.or.th/event/%e0%b8%ad%e0%b8%b2%e0%b8%84%e0%b8%b2%e0%b8%a3%e0%b8%9b%e0%b8%b2%e0%b8%a3%e0%b9%8c%e0%b8%84%e0%b9%80%e0%b8%a7%e0%b8%99%e0%b9%80%e0%b8%8a%e0%b8%ad%e0%b8%a3%e0%b9%8c-%e0%b8%ad%e0%b8%b5%e0%b9%82-2/
LOCATION:อาคารปาร์คเวนเชอร์ อีโคเพล็กซ์\, ปาร์คเวนเชอร์ อีโคเพล็กซ์ 57 ถ.วิทยุ แขวงลุมพินี เขตปทุมวัน กรุงเทพมหานคร 10330
CATEGORIES:ปฏิทินตารางหน่วยเคลื่อนที่
END:VEVENT
BEGIN:VEVENT
DTSTART;TZID=Asia/Bangkok:20250827T090000
DTEND;TZID=Asia/Bangkok:20250827T150000
DTSTAMP:20260425T092020
CREATED:20250817T105748Z
LAST-MODIFIED:20250817T105748Z
UID:10002890-1756285200-1756306800@thaibloodcentre.redcross.or.th
SUMMARY:อาคารปาร์คเวนเชอร์ อีโคเพล็กซ์ [0M0636]
DESCRIPTION:สถานที่เจาะ : ช่องจอดรถ VIP ด้านหน้าอาคารฯ (พัก 12-13 น.) \nที่อยู่ : 57 ปาร์คเวนเซอร์ อีโคเพล็กซ์ ชั้น 1 ถนนวิทยุ แขวงลุมพินี เขตปทุมวัน กรุงเทพฯ 0 2483 0000
URL:https://thaibloodcentre.redcross.or.th/event/%e0%b8%ad%e0%b8%b2%e0%b8%84%e0%b8%b2%e0%b8%a3%e0%b8%9b%e0%b8%b2%e0%b8%a3%e0%b9%8c%e0%b8%84%e0%b9%80%e0%b8%a7%e0%b8%99%e0%b9%80%e0%b8%8a%e0%b8%ad%e0%b8%a3%e0%b9%8c-%e0%b8%ad%e0%b8%b5%e0%b9%82%e0%b8%84/
LOCATION:อาคารปาร์คเวนเชอร์ อีโคเพล็กซ์\, ปาร์คเวนเชอร์ อีโคเพล็กซ์ 57 ถ.วิทยุ แขวงลุมพินี เขตปทุมวัน กรุงเทพมหานคร 10330
CATEGORIES:ปฏิทินตารางหน่วยเคลื่อนที่
END:VEVENT
END:VCALENDAR