BEGIN:VCALENDAR
VERSION:2.0
PRODID:-//เว็บไซต์ศูนย์บริการโลหิตแห่งชาติ - ECPv6.11.2.1//NONSGML v1.0//EN
CALSCALE:GREGORIAN
METHOD:PUBLISH
X-WR-CALNAME:เว็บไซต์ศูนย์บริการโลหิตแห่งชาติ
X-ORIGINAL-URL:https://thaibloodcentre.redcross.or.th
X-WR-CALDESC:Events for เว็บไซต์ศูนย์บริการโลหิตแห่งชาติ
REFRESH-INTERVAL;VALUE=DURATION:PT1H
X-Robots-Tag:noindex
X-PUBLISHED-TTL:PT1H
BEGIN:VTIMEZONE
TZID:Asia/Krasnoyarsk
BEGIN:STANDARD
TZOFFSETFROM:+0700
TZOFFSETTO:+0700
TZNAME:+07
DTSTART:20250101T000000
END:STANDARD
END:VTIMEZONE
BEGIN:VTIMEZONE
TZID:Asia/Bangkok
BEGIN:STANDARD
TZOFFSETFROM:+0700
TZOFFSETTO:+0700
TZNAME:+07
DTSTART:20250101T000000
END:STANDARD
END:VTIMEZONE
BEGIN:VEVENT
DTSTART;TZID=Asia/Krasnoyarsk:20260218T090000
DTEND;TZID=Asia/Krasnoyarsk:20260218T150000
DTSTAMP:20260424T133717
CREATED:20260218T023516Z
LAST-MODIFIED:20260218T023516Z
UID:10005680-1771405200-1771426800@thaibloodcentre.redcross.or.th
SUMMARY:อาคารชินวัตรทาวเวอร์ 3 []
DESCRIPTION:สถานที่เจาะ : หน้า Cafeteria (พัก 11.00-12.00 น.) \nที่อยู่ : 1010 ถนนวิภาวดีรังสิต แขวงจตุจักร เขตจตุจักร กรุงเทพฯ 0 2949 2057
URL:https://thaibloodcentre.redcross.or.th/event/%e0%b8%ad%e0%b8%b2%e0%b8%84%e0%b8%b2%e0%b8%a3%e0%b8%8a%e0%b8%b4%e0%b8%99%e0%b8%a7%e0%b8%b1%e0%b8%95%e0%b8%a3%e0%b8%97%e0%b8%b2%e0%b8%a7%e0%b9%80%e0%b8%a7%e0%b8%ad%e0%b8%a3%e0%b9%8c-3-3/
LOCATION:อาคารชินวัตรทาวเวอร์ 3\, อาคารชินวัตรทาวเวอร์ 3 1010 ถนน วิภาวดีรังสิต แขวงจตุจักร เขตจตุจักร กรุงเทพมหานคร 10900
CATEGORIES:ปฏิทินตารางหน่วยเคลื่อนที่
END:VEVENT
BEGIN:VEVENT
DTSTART;TZID=Asia/Krasnoyarsk:20251126T090000
DTEND;TZID=Asia/Krasnoyarsk:20251126T150000
DTSTAMP:20260424T133717
CREATED:20251124T025544Z
LAST-MODIFIED:20251124T025544Z
UID:10004412-1764147600-1764169200@thaibloodcentre.redcross.or.th
SUMMARY:อาคารชินวัตรทาวเวอร์ 3 []
DESCRIPTION:สถานที่เจาะ : หน้า Cafeteria (พัก 11.00-12.00 น.) \nที่อยู่ : 1010 ถนนวิภาวดีรังสิต แขวงจตุจักร เขตจตุจักร กรุงเทพฯ 0 2949 2057
URL:https://thaibloodcentre.redcross.or.th/event/%e0%b8%ad%e0%b8%b2%e0%b8%84%e0%b8%b2%e0%b8%a3%e0%b8%8a%e0%b8%b4%e0%b8%99%e0%b8%a7%e0%b8%b1%e0%b8%95%e0%b8%a3%e0%b8%97%e0%b8%b2%e0%b8%a7%e0%b9%80%e0%b8%a7%e0%b8%ad%e0%b8%a3%e0%b9%8c-3-2/
LOCATION:อาคารชินวัตรทาวเวอร์ 3\, อาคารชินวัตรทาวเวอร์ 3 1010 ถนน วิภาวดีรังสิต แขวงจตุจักร เขตจตุจักร กรุงเทพมหานคร 10900
CATEGORIES:ปฏิทินตารางหน่วยเคลื่อนที่
END:VEVENT
BEGIN:VEVENT
DTSTART;TZID=Asia/Bangkok:20250808T090000
DTEND;TZID=Asia/Bangkok:20250808T150000
DTSTAMP:20260424T133717
CREATED:20250801T040944Z
LAST-MODIFIED:20250801T040944Z
UID:10002724-1754643600-1754665200@thaibloodcentre.redcross.or.th
SUMMARY:อาคารชินวัตรทาวเวอร์ 3 [0M0055]
DESCRIPTION:สถานที่เจาะ : หน้า Cafeteria (พัก 11-12 น.) \nที่อยู่ : 1010 ถนนวิภาวดีรังสิต แขวงจตุจักร เขตจตุจักร กรุงเทพฯ 0 2949 2057
URL:https://thaibloodcentre.redcross.or.th/event/%e0%b8%ad%e0%b8%b2%e0%b8%84%e0%b8%b2%e0%b8%a3%e0%b8%8a%e0%b8%b4%e0%b8%99%e0%b8%a7%e0%b8%b1%e0%b8%95%e0%b8%a3%e0%b8%97%e0%b8%b2%e0%b8%a7%e0%b9%80%e0%b8%a7%e0%b8%ad%e0%b8%a3%e0%b9%8c-3-0m0055-2/
LOCATION:อาคารชินวัตรทาวเวอร์ 3\, อาคารชินวัตรทาวเวอร์ 3 1010 ถนน วิภาวดีรังสิต แขวงจตุจักร เขตจตุจักร กรุงเทพมหานคร 10900
CATEGORIES:ปฏิทินตารางหน่วยเคลื่อนที่
END:VEVENT
BEGIN:VEVENT
DTSTART;TZID=Asia/Bangkok:20250516T090000
DTEND;TZID=Asia/Bangkok:20250516T150000
DTSTAMP:20260424T133718
CREATED:20250514T104204Z
LAST-MODIFIED:20250514T104204Z
UID:10001759-1747386000-1747407600@thaibloodcentre.redcross.or.th
SUMMARY:อาคารชินวัตรทาวเวอร์ 3 []
DESCRIPTION:สถานที่เจาะ : หน้า Cafeteria (พัก 11-12 น.) \nที่อยู่ : 1010 ถนนวิภาวดีรังสิต แขวงจตุจักร เขตจตุจักร กรุงเทพฯ 0 2949 2057
URL:https://thaibloodcentre.redcross.or.th/event/%e0%b8%ad%e0%b8%b2%e0%b8%84%e0%b8%b2%e0%b8%a3%e0%b8%8a%e0%b8%b4%e0%b8%99%e0%b8%a7%e0%b8%b1%e0%b8%95%e0%b8%a3%e0%b8%97%e0%b8%b2%e0%b8%a7%e0%b9%80%e0%b8%a7%e0%b8%ad%e0%b8%a3%e0%b9%8c-3/
LOCATION:อาคารชินวัตรทาวเวอร์ 3\, อาคารชินวัตรทาวเวอร์ 3 1010 ถนน วิภาวดีรังสิต แขวงจตุจักร เขตจตุจักร กรุงเทพมหานคร 10900
CATEGORIES:ปฏิทินตารางหน่วยเคลื่อนที่
END:VEVENT
BEGIN:VEVENT
DTSTART;TZID=Asia/Bangkok:20250218T090000
DTEND;TZID=Asia/Bangkok:20250218T150000
DTSTAMP:20260424T133718
CREATED:20250216T080933Z
LAST-MODIFIED:20250216T080933Z
UID:10000590-1739869200-1739890800@thaibloodcentre.redcross.or.th
SUMMARY:อาคารชินวัตรทาวเวอร์ 3 [0M0055]
DESCRIPTION:สถานที่เจาะ : หน้า Cafeteria (พัก 11.00-12.00 น.) \nที่อยู่ : 1010 ถนนวิภาวดีรังสิต แขวงจตุจักร เขตจตุจักร กรุงเทพฯ  \nโทร : 0 2949 2057
URL:https://thaibloodcentre.redcross.or.th/event/%e0%b8%ad%e0%b8%b2%e0%b8%84%e0%b8%b2%e0%b8%a3%e0%b8%8a%e0%b8%b4%e0%b8%99%e0%b8%a7%e0%b8%b1%e0%b8%95%e0%b8%a3%e0%b8%97%e0%b8%b2%e0%b8%a7%e0%b9%80%e0%b8%a7%e0%b8%ad%e0%b8%a3%e0%b9%8c-3-0m0055/
LOCATION:อาคารชินวัตรทาวเวอร์ 3\, อาคารชินวัตรทาวเวอร์ 3 1010 ถนน วิภาวดีรังสิต แขวงจตุจักร เขตจตุจักร กรุงเทพมหานคร 10900
CATEGORIES:ปฏิทินตารางหน่วยเคลื่อนที่
END:VEVENT
END:VCALENDAR