BEGIN:VCALENDAR
VERSION:2.0
PRODID:-//เว็บไซต์ศูนย์บริการโลหิตแห่งชาติ - ECPv6.11.2.1//NONSGML v1.0//EN
CALSCALE:GREGORIAN
METHOD:PUBLISH
X-ORIGINAL-URL:https://thaibloodcentre.redcross.or.th
X-WR-CALDESC:Events for เว็บไซต์ศูนย์บริการโลหิตแห่งชาติ
REFRESH-INTERVAL;VALUE=DURATION:PT1H
X-Robots-Tag:noindex
X-PUBLISHED-TTL:PT1H
BEGIN:VTIMEZONE
TZID:Asia/Krasnoyarsk
BEGIN:STANDARD
TZOFFSETFROM:+0700
TZOFFSETTO:+0700
TZNAME:+07
DTSTART:20250101T000000
END:STANDARD
END:VTIMEZONE
BEGIN:VTIMEZONE
TZID:Asia/Bangkok
BEGIN:STANDARD
TZOFFSETFROM:+0700
TZOFFSETTO:+0700
TZNAME:+07
DTSTART:20250101T000000
END:STANDARD
END:VTIMEZONE
BEGIN:VEVENT
DTSTART;TZID=Asia/Krasnoyarsk:20260402T090000
DTEND;TZID=Asia/Krasnoyarsk:20260402T150000
DTSTAMP:20260423T054759
CREATED:20260401T020209Z
LAST-MODIFIED:20260401T020209Z
UID:10006331-1775120400-1775142000@thaibloodcentre.redcross.or.th
SUMMARY:สำนักงานเหล่ากาชาดจังหวัดปทุมธานี [0J0103]
DESCRIPTION:สถานที่เจาะ : สำนักงานเหล่ากาชาดฯ (พัก 12-13 น.) \nที่อยู่ : ถ.เทศปทุม – ปทุมธานี ต.บางปรอก อ.เมือง ปทุมธานี  \nโทร : 0 2581 5550
URL:https://thaibloodcentre.redcross.or.th/event/%e0%b8%aa%e0%b8%b3%e0%b8%99%e0%b8%b1%e0%b8%81%e0%b8%87%e0%b8%b2%e0%b8%99%e0%b9%80%e0%b8%ab%e0%b8%a5%e0%b9%88%e0%b8%b2%e0%b8%81%e0%b8%b2%e0%b8%8a%e0%b8%b2%e0%b8%94%e0%b8%88%e0%b8%b1%e0%b8%87%e0%b8%ab-3/
LOCATION:สำนักงานเหล่ากาชาดจังหวัดปทุมธานี\, สำนักงานเหล่ากาชาดจังหวัดปทุมธานี ถนนเทศปทุม-ปทุมธานี ต.บางปรอก อ.เมือง จ.ปทุมธานี 12000
CATEGORIES:ปฏิทินตารางหน่วยเคลื่อนที่
END:VEVENT
BEGIN:VEVENT
DTSTART;TZID=Asia/Krasnoyarsk:20251204T090000
DTEND;TZID=Asia/Krasnoyarsk:20251204T150000
DTSTAMP:20260423T054759
CREATED:20251128T090804Z
LAST-MODIFIED:20251128T110310Z
UID:10004538-1764838800-1764860400@thaibloodcentre.redcross.or.th
SUMMARY:สำนักงานเหล่ากาชาดจังหวัดปทุมธานี []
DESCRIPTION:สถานที่เจาะ : สำนักงานเหล่ากาชาดฯ (พัก 12.00-13.00 น.) \nที่อยู่ : ถ.เทศปทุม – ปทุมธานี ต.บางปรอก อ.เมือง ปทุมธานี 0 2581 5550
URL:https://thaibloodcentre.redcross.or.th/event/%e0%b8%aa%e0%b8%b3%e0%b8%99%e0%b8%b1%e0%b8%81%e0%b8%87%e0%b8%b2%e0%b8%99%e0%b9%80%e0%b8%ab%e0%b8%a5%e0%b9%88%e0%b8%b2%e0%b8%81%e0%b8%b2%e0%b8%8a%e0%b8%b2%e0%b8%94%e0%b8%88%e0%b8%b1%e0%b8%87%e0%b8%ab-2/
LOCATION:สำนักงานเหล่ากาชาดจังหวัดปทุมธานี\, สำนักงานเหล่ากาชาดจังหวัดปทุมธานี ถนนเทศปทุม-ปทุมธานี ต.บางปรอก อ.เมือง จ.ปทุมธานี 12000
CATEGORIES:ปฏิทินตารางหน่วยเคลื่อนที่
END:VEVENT
BEGIN:VEVENT
DTSTART;TZID=Asia/Bangkok:20250402T090000
DTEND;TZID=Asia/Bangkok:20250402T150000
DTSTAMP:20260423T054759
CREATED:20250328T032000Z
LAST-MODIFIED:20250328T032000Z
UID:10001140-1743584400-1743606000@thaibloodcentre.redcross.or.th
SUMMARY:สำนักงานเหล่ากาชาดจังหวัดปทุมธานี [0J0103]
DESCRIPTION:สถานที่เจาะ : สำนักงานเหล่ากาชาดฯ (พัก 12.00-13.00 น.) \nที่อยู่ : ถ.เทศปทุม – ปทุมธานี ต.บางปรอก อ.เมือง ปทุมธานี 0 2581 5550
URL:https://thaibloodcentre.redcross.or.th/event/%e0%b8%aa%e0%b8%b3%e0%b8%99%e0%b8%b1%e0%b8%81%e0%b8%87%e0%b8%b2%e0%b8%99%e0%b9%80%e0%b8%ab%e0%b8%a5%e0%b9%88%e0%b8%b2%e0%b8%81%e0%b8%b2%e0%b8%8a%e0%b8%b2%e0%b8%94%e0%b8%88%e0%b8%b1%e0%b8%87%e0%b8%ab/
LOCATION:สำนักงานเหล่ากาชาดจังหวัดปทุมธานี\, สำนักงานเหล่ากาชาดจังหวัดปทุมธานี ถนนเทศปทุม-ปทุมธานี ต.บางปรอก อ.เมือง จ.ปทุมธานี 12000
CATEGORIES:ปฏิทินตารางหน่วยเคลื่อนที่
END:VEVENT
END:VCALENDAR