BEGIN:VCALENDAR
VERSION:2.0
PRODID:-//เว็บไซต์ศูนย์บริการโลหิตแห่งชาติ - ECPv6.11.2.1//NONSGML v1.0//EN
CALSCALE:GREGORIAN
METHOD:PUBLISH
X-WR-CALNAME:เว็บไซต์ศูนย์บริการโลหิตแห่งชาติ
X-ORIGINAL-URL:https://thaibloodcentre.redcross.or.th
X-WR-CALDESC:Events for เว็บไซต์ศูนย์บริการโลหิตแห่งชาติ
REFRESH-INTERVAL;VALUE=DURATION:PT1H
X-Robots-Tag:noindex
X-PUBLISHED-TTL:PT1H
BEGIN:VTIMEZONE
TZID:Asia/Krasnoyarsk
BEGIN:STANDARD
TZOFFSETFROM:+0700
TZOFFSETTO:+0700
TZNAME:+07
DTSTART:20260101T000000
END:STANDARD
END:VTIMEZONE
BEGIN:VTIMEZONE
TZID:Asia/Bangkok
BEGIN:STANDARD
TZOFFSETFROM:+0700
TZOFFSETTO:+0700
TZNAME:+07
DTSTART:20250101T000000
END:STANDARD
END:VTIMEZONE
BEGIN:VEVENT
DTSTART;TZID=Asia/Krasnoyarsk:20260420T090000
DTEND;TZID=Asia/Krasnoyarsk:20260420T150000
DTSTAMP:20260423T025058
CREATED:20260420T065014Z
LAST-MODIFIED:20260420T075240Z
UID:10006631-1776675600-1776697200@thaibloodcentre.redcross.or.th
SUMMARY:สำนักงานเขตหนองจอก []
DESCRIPTION:สถานที่เจาะ : ในศาลาประชาคม (พัก 12.00-13.00 น.) \nที่อยู่ : 16 ถนนเชื่อมสัมพันธ์ แขวงกระทุ่มราย เขตหนองจอก กรุงเทพฯ 0 2543 1144
URL:https://thaibloodcentre.redcross.or.th/event/%e0%b8%aa%e0%b8%b3%e0%b8%99%e0%b8%b1%e0%b8%81%e0%b8%87%e0%b8%b2%e0%b8%99%e0%b9%80%e0%b8%82%e0%b8%95%e0%b8%ab%e0%b8%99%e0%b8%ad%e0%b8%87%e0%b8%88%e0%b8%ad%e0%b8%81-2/
LOCATION:สำนักงานเขตหนองจอก\, สำนักงานเขตหนองจอก สำนักงานเขตหนองจอก 16 ถนน เชื่อมสัมพันธ์ แขวงกระทุ่มราย เขตหนองจอก กรุงเทพมหานคร 10530
CATEGORIES:ปฏิทินตารางหน่วยเคลื่อนที่
END:VEVENT
BEGIN:VEVENT
DTSTART;TZID=Asia/Bangkok:20251014T090000
DTEND;TZID=Asia/Bangkok:20251014T150000
DTSTAMP:20260423T025058
CREATED:20251003T091114Z
LAST-MODIFIED:20251003T091114Z
UID:10003628-1760432400-1760454000@thaibloodcentre.redcross.or.th
SUMMARY:สำนักงานเขตหนองจอก [0F0002]
DESCRIPTION:สถานที่เจาะ : ในศาลาประชาคม (พัก 12-13 น.) \nที่อยู่ : 16 ถนนเชื่อมสัมพันธ์ แขวงกระทุ่มราย เขตหนองจอก กรุงเทพฯ 0 2543 1144
URL:https://thaibloodcentre.redcross.or.th/event/%e0%b8%aa%e0%b8%b3%e0%b8%99%e0%b8%b1%e0%b8%81%e0%b8%87%e0%b8%b2%e0%b8%99%e0%b9%80%e0%b8%82%e0%b8%95%e0%b8%ab%e0%b8%99%e0%b8%ad%e0%b8%87%e0%b8%88%e0%b8%ad%e0%b8%81-0f0002-2/
LOCATION:สำนักงานเขตหนองจอก\, สำนักงานเขตหนองจอก สำนักงานเขตหนองจอก 16 ถนน เชื่อมสัมพันธ์ แขวงกระทุ่มราย เขตหนองจอก กรุงเทพมหานคร 10530
CATEGORIES:ปฏิทินตารางหน่วยเคลื่อนที่
END:VEVENT
BEGIN:VEVENT
DTSTART;TZID=Asia/Bangkok:20250421T090000
DTEND;TZID=Asia/Bangkok:20250421T150000
DTSTAMP:20260423T025058
CREATED:20250417T092115Z
LAST-MODIFIED:20250417T092115Z
UID:10001387-1745226000-1745247600@thaibloodcentre.redcross.or.th
SUMMARY:สำนักงานเขตหนองจอก []
DESCRIPTION:สถานที่เจาะ : หน้าศาลาประชาคม (พัก 12.00-13.00 น.) \nที่อยู่ : 16 ถนนเชื่อมสัมพันธ์ แขวงกระทุ่มราย เขตหนองจอก กรุงเทพฯ 0 2543 1144
URL:https://thaibloodcentre.redcross.or.th/event/%e0%b8%aa%e0%b8%b3%e0%b8%99%e0%b8%b1%e0%b8%81%e0%b8%87%e0%b8%b2%e0%b8%99%e0%b9%80%e0%b8%82%e0%b8%95%e0%b8%ab%e0%b8%99%e0%b8%ad%e0%b8%87%e0%b8%88%e0%b8%ad%e0%b8%81/
LOCATION:สำนักงานเขตหนองจอก\, สำนักงานเขตหนองจอก สำนักงานเขตหนองจอก 16 ถนน เชื่อมสัมพันธ์ แขวงกระทุ่มราย เขตหนองจอก กรุงเทพมหานคร 10530
CATEGORIES:ปฏิทินตารางหน่วยเคลื่อนที่
END:VEVENT
BEGIN:VEVENT
DTSTART;TZID=Asia/Bangkok:20250113T090000
DTEND;TZID=Asia/Bangkok:20250113T150000
DTSTAMP:20260423T025058
CREATED:20250114T103026Z
LAST-MODIFIED:20250114T103026Z
UID:10000175-1736758800-1736780400@thaibloodcentre.redcross.or.th
SUMMARY:สำนักงานเขตหนองจอก [0F0002]
DESCRIPTION:สถานที่เจาะ : ในศาลาประชาคม (พัก 12.00-13.00 น.) \nที่อยู่ : 16 ถนนเชื่อมสัมพันธ์ แขวงกระทุ่มราย เขตหนองจอก กรุงเทพฯ  \nโทร : 0 2543 1144
URL:https://thaibloodcentre.redcross.or.th/event/%e0%b8%aa%e0%b8%b3%e0%b8%99%e0%b8%b1%e0%b8%81%e0%b8%87%e0%b8%b2%e0%b8%99%e0%b9%80%e0%b8%82%e0%b8%95%e0%b8%ab%e0%b8%99%e0%b8%ad%e0%b8%87%e0%b8%88%e0%b8%ad%e0%b8%81-0f0002/
LOCATION:สำนักงานเขตหนองจอก\, สำนักงานเขตหนองจอก สำนักงานเขตหนองจอก 16 ถนน เชื่อมสัมพันธ์ แขวงกระทุ่มราย เขตหนองจอก กรุงเทพมหานคร 10530
CATEGORIES:ปฏิทินตารางหน่วยเคลื่อนที่
END:VEVENT
END:VCALENDAR