BEGIN:VCALENDAR
VERSION:2.0
PRODID:-//เว็บไซต์ศูนย์บริการโลหิตแห่งชาติ - ECPv6.11.2.1//NONSGML v1.0//EN
CALSCALE:GREGORIAN
METHOD:PUBLISH
X-ORIGINAL-URL:https://thaibloodcentre.redcross.or.th
X-WR-CALDESC:Events for เว็บไซต์ศูนย์บริการโลหิตแห่งชาติ
REFRESH-INTERVAL;VALUE=DURATION:PT1H
X-Robots-Tag:noindex
X-PUBLISHED-TTL:PT1H
BEGIN:VTIMEZONE
TZID:Asia/Krasnoyarsk
BEGIN:STANDARD
TZOFFSETFROM:+0700
TZOFFSETTO:+0700
TZNAME:+07
DTSTART:20250101T000000
END:STANDARD
END:VTIMEZONE
BEGIN:VTIMEZONE
TZID:Asia/Bangkok
BEGIN:STANDARD
TZOFFSETFROM:+0700
TZOFFSETTO:+0700
TZNAME:+07
DTSTART:20250101T000000
END:STANDARD
END:VTIMEZONE
BEGIN:VEVENT
DTSTART;TZID=Asia/Krasnoyarsk:20260326T090000
DTEND;TZID=Asia/Krasnoyarsk:20260326T150000
DTSTAMP:20260423T213810
CREATED:20260325T041719Z
LAST-MODIFIED:20260325T041719Z
UID:10006227-1774515600-1774537200@thaibloodcentre.redcross.or.th
SUMMARY:สำนักงานปลัดสำนักนายกรัฐมนตรี (ทำเนียบรัฐบาล) [0D0129]
DESCRIPTION:สถานที่เจาะ : หน้าลานกองกลาง สนง.ปลัดสำนักนายกฯ (เข้าประตู 1) (พัก 12-13 น \nที่อยู่ : กองกลาง สำนักงานปลัดสำนักนายกรัฐมนตรี แขวงจิตรลดา เขตดุสิต กรุงเทพฯ  \nโทร : 0 2283 4241
URL:https://thaibloodcentre.redcross.or.th/event/%e0%b8%aa%e0%b8%b3%e0%b8%99%e0%b8%b1%e0%b8%81%e0%b8%87%e0%b8%b2%e0%b8%99%e0%b8%9b%e0%b8%a5%e0%b8%b1%e0%b8%94%e0%b8%aa%e0%b8%b3%e0%b8%99%e0%b8%b1%e0%b8%81%e0%b8%99%e0%b8%b2%e0%b8%a2%e0%b8%81%e0%b8%a3-4/
LOCATION:สำนักงานปลัดสำนักนายกรัฐมนตรี (ทำเนียบรัฐบาล)\, กองกลาง สำนักงานปลัดสำนักนายกรัฐมนตรี 1 ทำเนียบรัฐบาล ถนนพิษณุโลก แขวงดุสิต เขตดุสิต กรุงเทพฯ 10300
CATEGORIES:ปฏิทินตารางหน่วยเคลื่อนที่
END:VEVENT
BEGIN:VEVENT
DTSTART;TZID=Asia/Krasnoyarsk:20251223T090000
DTEND;TZID=Asia/Krasnoyarsk:20251223T150000
DTSTAMP:20260423T213810
CREATED:20251215T120340Z
LAST-MODIFIED:20251215T120340Z
UID:10004819-1766480400-1766502000@thaibloodcentre.redcross.or.th
SUMMARY:สำนักงานปลัดสำนักนายกรัฐมนตรี (ทำเนียบรัฐบาล) [0D0129]
DESCRIPTION:สถานที่เจาะ : หน้าลานกองกลาง สนง.ปลัดสำนักนายกฯ (เข้าประตู 1) \nที่อยู่ : กองกลาง สำนักงานปลัดสำนักนายกรัฐมนตรี แขวงจิตรลดา เขตดุสิต กรุงเทพฯ 0 2283 4241
URL:https://thaibloodcentre.redcross.or.th/event/%e0%b8%aa%e0%b8%b3%e0%b8%99%e0%b8%b1%e0%b8%81%e0%b8%87%e0%b8%b2%e0%b8%99%e0%b8%9b%e0%b8%a5%e0%b8%b1%e0%b8%94%e0%b8%aa%e0%b8%b3%e0%b8%99%e0%b8%b1%e0%b8%81%e0%b8%99%e0%b8%b2%e0%b8%a2%e0%b8%81%e0%b8%a3-3/
LOCATION:สำนักงานปลัดสำนักนายกรัฐมนตรี (ทำเนียบรัฐบาล)\, กองกลาง สำนักงานปลัดสำนักนายกรัฐมนตรี 1 ทำเนียบรัฐบาล ถนนพิษณุโลก แขวงดุสิต เขตดุสิต กรุงเทพฯ 10300
CATEGORIES:ปฏิทินตารางหน่วยเคลื่อนที่
END:VEVENT
BEGIN:VEVENT
DTSTART;TZID=Asia/Bangkok:20250923T090000
DTEND;TZID=Asia/Bangkok:20250923T150000
DTSTAMP:20260423T213810
CREATED:20250911T034704Z
LAST-MODIFIED:20250911T034704Z
UID:10003337-1758618000-1758639600@thaibloodcentre.redcross.or.th
SUMMARY:สำนักงานปลัดสำนักนายกรัฐมนตรี (ทำเนียบรัฐบาล) [0D0129]
DESCRIPTION:สถานที่เจาะ : หน้าลานกองกลาง สนง.ปลัดสำนักนายกฯ (เข้าประตู 1) \nที่อยู่ : กองกลาง สำนักงานปลัดสำนักนายกรัฐมนตรี แขวงจิตรลดา เขตดุสิต กรุงเทพฯ 0 2283 4241
URL:https://thaibloodcentre.redcross.or.th/event/%e0%b8%aa%e0%b8%b3%e0%b8%99%e0%b8%b1%e0%b8%81%e0%b8%87%e0%b8%b2%e0%b8%99%e0%b8%9b%e0%b8%a5%e0%b8%b1%e0%b8%94%e0%b8%aa%e0%b8%b3%e0%b8%99%e0%b8%b1%e0%b8%81%e0%b8%99%e0%b8%b2%e0%b8%a2%e0%b8%81%e0%b8%a3-2/
LOCATION:สำนักงานปลัดสำนักนายกรัฐมนตรี (ทำเนียบรัฐบาล)\, กองกลาง สำนักงานปลัดสำนักนายกรัฐมนตรี 1 ทำเนียบรัฐบาล ถนนพิษณุโลก แขวงดุสิต เขตดุสิต กรุงเทพฯ 10300
CATEGORIES:ปฏิทินตารางหน่วยเคลื่อนที่
END:VEVENT
BEGIN:VEVENT
DTSTART;TZID=Asia/Bangkok:20250624T090000
DTEND;TZID=Asia/Bangkok:20250624T150000
DTSTAMP:20260423T213810
CREATED:20250626T013549Z
LAST-MODIFIED:20250626T013549Z
UID:10002346-1750755600-1750777200@thaibloodcentre.redcross.or.th
SUMMARY:สำนักงานปลัดสำนักนายกรัฐมนตรี (ทำเนียบรัฐบาล) []
DESCRIPTION:สถานที่เจาะ : อาคารสันติไมตรี (หลังใน) \nที่อยู่ : กองกลาง สำนักงานปลัดสำนักนายกรัฐมนตรี แขวงจิตรลดา เขตดุสิต กรุงเทพฯ 0 2283 4241
URL:https://thaibloodcentre.redcross.or.th/event/%e0%b8%aa%e0%b8%b3%e0%b8%99%e0%b8%b1%e0%b8%81%e0%b8%87%e0%b8%b2%e0%b8%99%e0%b8%9b%e0%b8%a5%e0%b8%b1%e0%b8%94%e0%b8%aa%e0%b8%b3%e0%b8%99%e0%b8%b1%e0%b8%81%e0%b8%99%e0%b8%b2%e0%b8%a2%e0%b8%81%e0%b8%a3/
LOCATION:สำนักงานปลัดสำนักนายกรัฐมนตรี (ทำเนียบรัฐบาล)\, กองกลาง สำนักงานปลัดสำนักนายกรัฐมนตรี 1 ทำเนียบรัฐบาล ถนนพิษณุโลก แขวงดุสิต เขตดุสิต กรุงเทพฯ 10300
CATEGORIES:ปฏิทินตารางหน่วยเคลื่อนที่
END:VEVENT
END:VCALENDAR