BEGIN:VCALENDAR
VERSION:2.0
PRODID:-//เว็บไซต์ศูนย์บริการโลหิตแห่งชาติ - ECPv6.11.2.1//NONSGML v1.0//EN
CALSCALE:GREGORIAN
METHOD:PUBLISH
X-WR-CALNAME:เว็บไซต์ศูนย์บริการโลหิตแห่งชาติ
X-ORIGINAL-URL:https://thaibloodcentre.redcross.or.th
X-WR-CALDESC:Events for เว็บไซต์ศูนย์บริการโลหิตแห่งชาติ
REFRESH-INTERVAL;VALUE=DURATION:PT1H
X-Robots-Tag:noindex
X-PUBLISHED-TTL:PT1H
BEGIN:VTIMEZONE
TZID:Asia/Krasnoyarsk
BEGIN:STANDARD
TZOFFSETFROM:+0700
TZOFFSETTO:+0700
TZNAME:+07
DTSTART:20260101T000000
END:STANDARD
END:VTIMEZONE
BEGIN:VTIMEZONE
TZID:Asia/Bangkok
BEGIN:STANDARD
TZOFFSETFROM:+0700
TZOFFSETTO:+0700
TZNAME:+07
DTSTART:20250101T000000
END:STANDARD
END:VTIMEZONE
BEGIN:VEVENT
DTSTART;TZID=Asia/Krasnoyarsk:20260122T090000
DTEND;TZID=Asia/Krasnoyarsk:20260122T150000
DTSTAMP:20260423T095227
CREATED:20260120T104044Z
LAST-MODIFIED:20260120T104044Z
UID:10005201-1769072400-1769094000@thaibloodcentre.redcross.or.th
SUMMARY:สำนักงานบริหารจัดการเขตปลอดอากร []
DESCRIPTION:สถานที่เจาะ : อาคาร BC – 1 ชั้น 3 \nที่อยู่ : 999 ม. 7 อาคารสำนักงานเขตปลอดอากร ต.ราชาเทวะ อ.บางพลี จ.สมุทรปราการ 0 2132 9832
URL:https://thaibloodcentre.redcross.or.th/event/%e0%b8%aa%e0%b8%b3%e0%b8%99%e0%b8%b1%e0%b8%81%e0%b8%87%e0%b8%b2%e0%b8%99%e0%b8%9a%e0%b8%a3%e0%b8%b4%e0%b8%ab%e0%b8%b2%e0%b8%a3%e0%b8%88%e0%b8%b1%e0%b8%94%e0%b8%81%e0%b8%b2%e0%b8%a3%e0%b9%80%e0%b8%82-3/
LOCATION:สำนักงานบริหารจัดการเขตปลอดอากร\, ศูนย์บริหารพื้นที่เขตปลอดอากรและคลังสินค้า 999 ม.7 ต.ราชาเทวะ อ.บางพลี จ.สมุทรปราการ 10540
CATEGORIES:ปฏิทินตารางหน่วยเคลื่อนที่
END:VEVENT
BEGIN:VEVENT
DTSTART;TZID=Asia/Bangkok:20250725T090000
DTEND;TZID=Asia/Bangkok:20250725T150000
DTSTAMP:20260423T095227
CREATED:20250716T111056Z
LAST-MODIFIED:20250716T111056Z
UID:10002476-1753434000-1753455600@thaibloodcentre.redcross.or.th
SUMMARY:สำนักงานบริหารจัดการเขตปลอดอากร []
DESCRIPTION:สถานที่เจาะ : อาคาร BC – 1 ชั้น 3 \nที่อยู่ : 999 ม. 7 อาคารสำนักงานเขตปลอดอากร ต.ราชาเทวะ อ.บางพลี จ.สมุทรปราการ 0 2132 9832
URL:https://thaibloodcentre.redcross.or.th/event/%e0%b8%aa%e0%b8%b3%e0%b8%99%e0%b8%b1%e0%b8%81%e0%b8%87%e0%b8%b2%e0%b8%99%e0%b8%9a%e0%b8%a3%e0%b8%b4%e0%b8%ab%e0%b8%b2%e0%b8%a3%e0%b8%88%e0%b8%b1%e0%b8%94%e0%b8%81%e0%b8%b2%e0%b8%a3%e0%b9%80%e0%b8%82-2/
LOCATION:สำนักงานบริหารจัดการเขตปลอดอากร\, ศูนย์บริหารพื้นที่เขตปลอดอากรและคลังสินค้า 999 ม.7 ต.ราชาเทวะ อ.บางพลี จ.สมุทรปราการ 10540
CATEGORIES:ปฏิทินตารางหน่วยเคลื่อนที่
END:VEVENT
BEGIN:VEVENT
DTSTART;TZID=Asia/Bangkok:20250425T090000
DTEND;TZID=Asia/Bangkok:20250425T150000
DTSTAMP:20260423T095227
CREATED:20250418T104038Z
LAST-MODIFIED:20250418T104038Z
UID:10001460-1745571600-1745593200@thaibloodcentre.redcross.or.th
SUMMARY:สำนักงานบริหารจัดการเขตปลอดอากร []
DESCRIPTION:สถานที่เจาะ : อาคาร BC – 1 ชั้น 3 \nที่อยู่ : 999 ม. 7 อาคารสำนักงานเขตปลอดอากร ต.ราชาเทวะ อ.บางพลี จ.สมุทรปราการ 0 2132 9832
URL:https://thaibloodcentre.redcross.or.th/event/%e0%b8%aa%e0%b8%b3%e0%b8%99%e0%b8%b1%e0%b8%81%e0%b8%87%e0%b8%b2%e0%b8%99%e0%b8%9a%e0%b8%a3%e0%b8%b4%e0%b8%ab%e0%b8%b2%e0%b8%a3%e0%b8%88%e0%b8%b1%e0%b8%94%e0%b8%81%e0%b8%b2%e0%b8%a3%e0%b9%80%e0%b8%82/
LOCATION:สำนักงานบริหารจัดการเขตปลอดอากร\, ศูนย์บริหารพื้นที่เขตปลอดอากรและคลังสินค้า 999 ม.7 ต.ราชาเทวะ อ.บางพลี จ.สมุทรปราการ 10540
CATEGORIES:ปฏิทินตารางหน่วยเคลื่อนที่
END:VEVENT
END:VCALENDAR