BEGIN:VCALENDAR
VERSION:2.0
PRODID:-//เว็บไซต์ศูนย์บริการโลหิตแห่งชาติ - ECPv6.11.2.1//NONSGML v1.0//EN
CALSCALE:GREGORIAN
METHOD:PUBLISH
X-ORIGINAL-URL:https://thaibloodcentre.redcross.or.th
X-WR-CALDESC:Events for เว็บไซต์ศูนย์บริการโลหิตแห่งชาติ
REFRESH-INTERVAL;VALUE=DURATION:PT1H
X-Robots-Tag:noindex
X-PUBLISHED-TTL:PT1H
BEGIN:VTIMEZONE
TZID:Asia/Krasnoyarsk
BEGIN:STANDARD
TZOFFSETFROM:+0700
TZOFFSETTO:+0700
TZNAME:+07
DTSTART:20260101T000000
END:STANDARD
END:VTIMEZONE
BEGIN:VTIMEZONE
TZID:Asia/Bangkok
BEGIN:STANDARD
TZOFFSETFROM:+0700
TZOFFSETTO:+0700
TZNAME:+07
DTSTART:20250101T000000
END:STANDARD
END:VTIMEZONE
BEGIN:VEVENT
DTSTART;TZID=Asia/Krasnoyarsk:20260402T090000
DTEND;TZID=Asia/Krasnoyarsk:20260402T150000
DTSTAMP:20260423T173251
CREATED:20260401T020029Z
LAST-MODIFIED:20260401T020029Z
UID:10006328-1775120400-1775142000@thaibloodcentre.redcross.or.th
SUMMARY:สำนักงานนิคมอุตสาหกรรมบ้านหว้า (ไฮเทค) [0D0527]
DESCRIPTION:สถานที่เจาะ : ด้านหน้าอาคาร \nที่อยู่ : 99 ม.5 ต.บ้านหว้า อ.บางปะอิน จ.พระนครศรีอยุธยา  \nโทร : 035 350 141
URL:https://thaibloodcentre.redcross.or.th/event/%e0%b8%aa%e0%b8%b3%e0%b8%99%e0%b8%b1%e0%b8%81%e0%b8%87%e0%b8%b2%e0%b8%99%e0%b8%99%e0%b8%b4%e0%b8%84%e0%b8%a1%e0%b8%ad%e0%b8%b8%e0%b8%95%e0%b8%aa%e0%b8%b2%e0%b8%ab%e0%b8%81%e0%b8%a3%e0%b8%a3-25/
LOCATION:สำนักงานนิคมอุตสาหกรรมบ้านหว้า (ไฮเทค)\, สำนักงานนิคมอุตสาหกรรมบ้านหว้า (ไฮเทค) 99 หมู่ 5 ถนนสายเอเซีย ตำบลบ้านหว้า อำเภอบางปะอิน จังหวัดพระนครศรีอยุธยา 13160
CATEGORIES:ปฏิทินตารางหน่วยเคลื่อนที่
END:VEVENT
BEGIN:VEVENT
DTSTART;TZID=Asia/Krasnoyarsk:20260112T090000
DTEND;TZID=Asia/Krasnoyarsk:20260112T150000
DTSTAMP:20260423T173251
CREATED:20260106T131602Z
LAST-MODIFIED:20260106T131602Z
UID:10005062-1768208400-1768230000@thaibloodcentre.redcross.or.th
SUMMARY:สำนักงานนิคมอุตสาหกรรมบ้านหว้า (ไฮเทค) [0D0527]
DESCRIPTION:สถานที่เจาะ : ด้านหน้าอาคาร \nที่อยู่ : 99 ม.5 ต.บ้านหว้า อ.บางปะอิน จ.พระนครศรีอยุธยา 035 350 141
URL:https://thaibloodcentre.redcross.or.th/event/%e0%b8%aa%e0%b8%b3%e0%b8%99%e0%b8%b1%e0%b8%81%e0%b8%87%e0%b8%b2%e0%b8%99%e0%b8%99%e0%b8%b4%e0%b8%84%e0%b8%a1%e0%b8%ad%e0%b8%b8%e0%b8%95%e0%b8%aa%e0%b8%b2%e0%b8%ab%e0%b8%81%e0%b8%a3%e0%b8%a3-22/
LOCATION:สำนักงานนิคมอุตสาหกรรมบ้านหว้า (ไฮเทค)\, สำนักงานนิคมอุตสาหกรรมบ้านหว้า (ไฮเทค) 99 หมู่ 5 ถนนสายเอเซีย ตำบลบ้านหว้า อำเภอบางปะอิน จังหวัดพระนครศรีอยุธยา 13160
CATEGORIES:ปฏิทินตารางหน่วยเคลื่อนที่
END:VEVENT
BEGIN:VEVENT
DTSTART;TZID=Asia/Bangkok:20251007T090000
DTEND;TZID=Asia/Bangkok:20251007T150000
DTSTAMP:20260423T173251
CREATED:20250925T032632Z
LAST-MODIFIED:20250925T032632Z
UID:10003535-1759827600-1759849200@thaibloodcentre.redcross.or.th
SUMMARY:สำนักงานนิคมอุตสาหกรรมบ้านหว้า (ไฮเทค) [0D0527]
DESCRIPTION:สถานที่เจาะ : ด้านหน้าอาคาร \nที่อยู่ : 99 ม.5 ต.บ้านหว้า อ.บางปะอิน จ.พระนครศรีอยุธยา 035 350 141
URL:https://thaibloodcentre.redcross.or.th/event/%e0%b8%aa%e0%b8%b3%e0%b8%99%e0%b8%b1%e0%b8%81%e0%b8%87%e0%b8%b2%e0%b8%99%e0%b8%99%e0%b8%b4%e0%b8%84%e0%b8%a1%e0%b8%ad%e0%b8%b8%e0%b8%95%e0%b8%aa%e0%b8%b2%e0%b8%ab%e0%b8%81%e0%b8%a3%e0%b8%a3-15/
LOCATION:สำนักงานนิคมอุตสาหกรรมบ้านหว้า (ไฮเทค)\, สำนักงานนิคมอุตสาหกรรมบ้านหว้า (ไฮเทค) 99 หมู่ 5 ถนนสายเอเซีย ตำบลบ้านหว้า อำเภอบางปะอิน จังหวัดพระนครศรีอยุธยา 13160
CATEGORIES:ปฏิทินตารางหน่วยเคลื่อนที่
END:VEVENT
BEGIN:VEVENT
DTSTART;TZID=Asia/Bangkok:20250707T090000
DTEND;TZID=Asia/Bangkok:20250707T150000
DTSTAMP:20260423T173251
CREATED:20250623T035654Z
LAST-MODIFIED:20250623T035654Z
UID:10002316-1751878800-1751900400@thaibloodcentre.redcross.or.th
SUMMARY:สำนักงานนิคมอุตสาหกรรมบ้านหว้า (ไฮเทค) []
DESCRIPTION:สถานที่เจาะ : ด้านหน้าอาคาร \nที่อยู่ : 99 ม.5 ต.บ้านหว้า อ.บางปะอิน จ.พระนครศรีอยุธยา
URL:https://thaibloodcentre.redcross.or.th/event/%e0%b8%aa%e0%b8%b3%e0%b8%99%e0%b8%b1%e0%b8%81%e0%b8%87%e0%b8%b2%e0%b8%99%e0%b8%99%e0%b8%b4%e0%b8%84%e0%b8%a1%e0%b8%ad%e0%b8%b8%e0%b8%95%e0%b8%aa%e0%b8%b2%e0%b8%ab%e0%b8%81%e0%b8%a3%e0%b8%a3-11/
LOCATION:สำนักงานนิคมอุตสาหกรรมบ้านหว้า (ไฮเทค)\, สำนักงานนิคมอุตสาหกรรมบ้านหว้า (ไฮเทค) 99 หมู่ 5 ถนนสายเอเซีย ตำบลบ้านหว้า อำเภอบางปะอิน จังหวัดพระนครศรีอยุธยา 13160
CATEGORIES:ปฏิทินตารางหน่วยเคลื่อนที่
END:VEVENT
BEGIN:VEVENT
DTSTART;TZID=Asia/Bangkok:20250707T090000
DTEND;TZID=Asia/Bangkok:20250707T150000
DTSTAMP:20260423T173251
CREATED:20250623T035651Z
LAST-MODIFIED:20250623T035651Z
UID:10002315-1751878800-1751900400@thaibloodcentre.redcross.or.th
SUMMARY:สำนักงานนิคมอุตสาหกรรมบ้านหว้า (ไฮเทค) []
DESCRIPTION:สถานที่เจาะ : ด้านหน้าอาคาร \nที่อยู่ : 99 ม.5 ต.บ้านหว้า อ.บางปะอิน จ.พระนครศรีอยุธยา
URL:https://thaibloodcentre.redcross.or.th/event/%e0%b8%aa%e0%b8%b3%e0%b8%99%e0%b8%b1%e0%b8%81%e0%b8%87%e0%b8%b2%e0%b8%99%e0%b8%99%e0%b8%b4%e0%b8%84%e0%b8%a1%e0%b8%ad%e0%b8%b8%e0%b8%95%e0%b8%aa%e0%b8%b2%e0%b8%ab%e0%b8%81%e0%b8%a3%e0%b8%a3-10/
LOCATION:สำนักงานนิคมอุตสาหกรรมบ้านหว้า (ไฮเทค)\, สำนักงานนิคมอุตสาหกรรมบ้านหว้า (ไฮเทค) 99 หมู่ 5 ถนนสายเอเซีย ตำบลบ้านหว้า อำเภอบางปะอิน จังหวัดพระนครศรีอยุธยา 13160
CATEGORIES:ปฏิทินตารางหน่วยเคลื่อนที่
END:VEVENT
BEGIN:VEVENT
DTSTART;TZID=Asia/Bangkok:20250402T090000
DTEND;TZID=Asia/Bangkok:20250402T150000
DTSTAMP:20260423T173251
CREATED:20250328T032003Z
LAST-MODIFIED:20250328T032003Z
UID:10001141-1743584400-1743606000@thaibloodcentre.redcross.or.th
SUMMARY:สำนักงานนิคมอุตสาหกรรมบ้านหว้า (ไฮเทค) [0D0527]
DESCRIPTION:สถานที่เจาะ : ด้านหน้าอาคาร \nที่อยู่ : 99 ม.5 ต.บ้านหว้า อ.บางปะอิน จ.พระนครศรีอยุธยา
URL:https://thaibloodcentre.redcross.or.th/event/%e0%b8%aa%e0%b8%b3%e0%b8%99%e0%b8%b1%e0%b8%81%e0%b8%87%e0%b8%b2%e0%b8%99%e0%b8%99%e0%b8%b4%e0%b8%84%e0%b8%a1%e0%b8%ad%e0%b8%b8%e0%b8%95%e0%b8%aa%e0%b8%b2%e0%b8%ab%e0%b8%81%e0%b8%a3%e0%b8%a3%e0%b8%a1-6/
LOCATION:สำนักงานนิคมอุตสาหกรรมบ้านหว้า (ไฮเทค)\, สำนักงานนิคมอุตสาหกรรมบ้านหว้า (ไฮเทค) 99 หมู่ 5 ถนนสายเอเซีย ตำบลบ้านหว้า อำเภอบางปะอิน จังหวัดพระนครศรีอยุธยา 13160
CATEGORIES:ปฏิทินตารางหน่วยเคลื่อนที่
END:VEVENT
BEGIN:VEVENT
DTSTART;TZID=Asia/Bangkok:20250113T090000
DTEND;TZID=Asia/Bangkok:20250113T150000
DTSTAMP:20260423T173252
CREATED:20250114T103024Z
LAST-MODIFIED:20250114T103024Z
UID:10000174-1736758800-1736780400@thaibloodcentre.redcross.or.th
SUMMARY:สำนักงานนิคมอุตสาหกรรมบ้านหว้า (ไฮเทค) [0D0527]
DESCRIPTION:สถานที่เจาะ : ด้านหน้าอาคาร \nที่อยู่ : 99 ม.5 ต.บ้านหว้า อ.บางปะอิน พระนครศรีอยุธยา
URL:https://thaibloodcentre.redcross.or.th/event/%e0%b8%aa%e0%b8%b3%e0%b8%99%e0%b8%b1%e0%b8%81%e0%b8%87%e0%b8%b2%e0%b8%99%e0%b8%99%e0%b8%b4%e0%b8%84%e0%b8%a1%e0%b8%ad%e0%b8%b8%e0%b8%95%e0%b8%aa%e0%b8%b2%e0%b8%ab%e0%b8%81%e0%b8%a3%e0%b8%a3%e0%b8%a1-2/
LOCATION:สำนักงานนิคมอุตสาหกรรมบ้านหว้า (ไฮเทค)\, สำนักงานนิคมอุตสาหกรรมบ้านหว้า (ไฮเทค) 99 หมู่ 5 ถนนสายเอเซีย ตำบลบ้านหว้า อำเภอบางปะอิน จังหวัดพระนครศรีอยุธยา 13160
CATEGORIES:ปฏิทินตารางหน่วยเคลื่อนที่
END:VEVENT
BEGIN:VEVENT
DTSTART;TZID=Asia/Bangkok:20250113T090000
DTEND;TZID=Asia/Bangkok:20250113T150000
DTSTAMP:20260423T173252
CREATED:20250114T103022Z
LAST-MODIFIED:20250114T103022Z
UID:10000173-1736758800-1736780400@thaibloodcentre.redcross.or.th
SUMMARY:สำนักงานนิคมอุตสาหกรรมบ้านหว้า (ไฮเทค) [0D0527]
DESCRIPTION:สถานที่เจาะ : ด้านหน้าอาคาร \nที่อยู่ : 99 ม.5 ต.บ้านหว้า อ.บางปะอิน พระนครศรีอยุธยา
URL:https://thaibloodcentre.redcross.or.th/event/%e0%b8%aa%e0%b8%b3%e0%b8%99%e0%b8%b1%e0%b8%81%e0%b8%87%e0%b8%b2%e0%b8%99%e0%b8%99%e0%b8%b4%e0%b8%84%e0%b8%a1%e0%b8%ad%e0%b8%b8%e0%b8%95%e0%b8%aa%e0%b8%b2%e0%b8%ab%e0%b8%81%e0%b8%a3%e0%b8%a3%e0%b8%a1/
LOCATION:สำนักงานนิคมอุตสาหกรรมบ้านหว้า (ไฮเทค)\, สำนักงานนิคมอุตสาหกรรมบ้านหว้า (ไฮเทค) 99 หมู่ 5 ถนนสายเอเซีย ตำบลบ้านหว้า อำเภอบางปะอิน จังหวัดพระนครศรีอยุธยา 13160
CATEGORIES:ปฏิทินตารางหน่วยเคลื่อนที่
END:VEVENT
END:VCALENDAR