BEGIN:VCALENDAR
VERSION:2.0
PRODID:-//เว็บไซต์ศูนย์บริการโลหิตแห่งชาติ - ECPv6.11.2.1//NONSGML v1.0//EN
CALSCALE:GREGORIAN
METHOD:PUBLISH
X-ORIGINAL-URL:https://thaibloodcentre.redcross.or.th
X-WR-CALDESC:Events for เว็บไซต์ศูนย์บริการโลหิตแห่งชาติ
REFRESH-INTERVAL;VALUE=DURATION:PT1H
X-Robots-Tag:noindex
X-PUBLISHED-TTL:PT1H
BEGIN:VTIMEZONE
TZID:Asia/Krasnoyarsk
BEGIN:STANDARD
TZOFFSETFROM:+0700
TZOFFSETTO:+0700
TZNAME:+07
DTSTART:20260101T000000
END:STANDARD
END:VTIMEZONE
BEGIN:VTIMEZONE
TZID:Asia/Bangkok
BEGIN:STANDARD
TZOFFSETFROM:+0700
TZOFFSETTO:+0700
TZNAME:+07
DTSTART:20250101T000000
END:STANDARD
END:VTIMEZONE
BEGIN:VEVENT
DTSTART;TZID=Asia/Krasnoyarsk:20260402T090000
DTEND;TZID=Asia/Krasnoyarsk:20260402T150000
DTSTAMP:20260424T033322
CREATED:20260401T020206Z
LAST-MODIFIED:20260401T020206Z
UID:10006330-1775120400-1775142000@thaibloodcentre.redcross.or.th
SUMMARY:สำนักงานนิคมอุตสาหกรรมลาดกระบัง [0M0112]
DESCRIPTION:สถานที่เจาะ : ชั้น 1 สำนักงานนิคมฯ (พัก 11-12 น.) \nที่อยู่ : 40 ฉลองกรุง 31 แขวงลำปลาทิว เขตลาดกระบัง กรุงเทพฯ  \nโทร : 0 2326 0221-4
URL:https://thaibloodcentre.redcross.or.th/event/%e0%b8%aa%e0%b8%b3%e0%b8%99%e0%b8%b1%e0%b8%81%e0%b8%87%e0%b8%b2%e0%b8%99%e0%b8%99%e0%b8%b4%e0%b8%84%e0%b8%a1%e0%b8%ad%e0%b8%b8%e0%b8%95%e0%b8%aa%e0%b8%b2%e0%b8%ab%e0%b8%81%e0%b8%a3%e0%b8%a3-26/
LOCATION:สำนักงานนิคมอุตสาหกรรมลาดกระบัง\, สำนักงานนิคมอุตสาหกรรมลาดกระบัง 40 ชั้น 4 อาคารสำนักงานนิคมอุตสาหกรรมลาดกระบัง ซอยฉลองกรุง 31 แขวงลำปลาทิว เขตลาดกระบัง กรุงเทพฯ 10520
CATEGORIES:ปฏิทินตารางหน่วยเคลื่อนที่
END:VEVENT
BEGIN:VEVENT
DTSTART;TZID=Asia/Krasnoyarsk:20260401T090000
DTEND;TZID=Asia/Krasnoyarsk:20260401T150000
DTSTAMP:20260424T033322
CREATED:20260325T043611Z
LAST-MODIFIED:20260325T043611Z
UID:10006316-1775034000-1775055600@thaibloodcentre.redcross.or.th
SUMMARY:สำนักงานนิคมอุตสาหกรรมลาดกระบัง [0M0112]
DESCRIPTION:สถานที่เจาะ : ชั้น 1 สำนักงานนิคมฯ (พัก 11-12 น.) \nที่อยู่ : 40 ฉลองกรุง 31 แขวงลำปลาทิว เขตลาดกระบัง กรุงเทพฯ  \nโทร : 0 2326 0221-4
URL:https://thaibloodcentre.redcross.or.th/event/%e0%b8%aa%e0%b8%b3%e0%b8%99%e0%b8%b1%e0%b8%81%e0%b8%87%e0%b8%b2%e0%b8%99%e0%b8%99%e0%b8%b4%e0%b8%84%e0%b8%a1%e0%b8%ad%e0%b8%b8%e0%b8%95%e0%b8%aa%e0%b8%b2%e0%b8%ab%e0%b8%81%e0%b8%a3%e0%b8%a3-24/
LOCATION:สำนักงานนิคมอุตสาหกรรมลาดกระบัง\, สำนักงานนิคมอุตสาหกรรมลาดกระบัง 40 ชั้น 4 อาคารสำนักงานนิคมอุตสาหกรรมลาดกระบัง ซอยฉลองกรุง 31 แขวงลำปลาทิว เขตลาดกระบัง กรุงเทพฯ 10520
CATEGORIES:ปฏิทินตารางหน่วยเคลื่อนที่
END:VEVENT
BEGIN:VEVENT
DTSTART;TZID=Asia/Krasnoyarsk:20260109T090000
DTEND;TZID=Asia/Krasnoyarsk:20260109T150000
DTSTAMP:20260424T033322
CREATED:20260106T130055Z
LAST-MODIFIED:20260106T133325Z
UID:10005023-1767949200-1767970800@thaibloodcentre.redcross.or.th
SUMMARY:สำนักงานนิคมอุตสาหกรรมลาดกระบัง [0M0112]
DESCRIPTION:สถานที่เจาะ : ชั้น 1 สำนักงานนิคมฯ (พัก 11.00-12.00 น.) \nที่อยู่ : 40 ฉลองกรุง 31 แขวงลำปลาทิว เขตลาดกระบัง กรุงเทพฯ 0 2326 0221-4
URL:https://thaibloodcentre.redcross.or.th/event/%e0%b8%aa%e0%b8%b3%e0%b8%99%e0%b8%b1%e0%b8%81%e0%b8%87%e0%b8%b2%e0%b8%99%e0%b8%99%e0%b8%b4%e0%b8%84%e0%b8%a1%e0%b8%ad%e0%b8%b8%e0%b8%95%e0%b8%aa%e0%b8%b2%e0%b8%ab%e0%b8%81%e0%b8%a3%e0%b8%a3-21/
LOCATION:สำนักงานนิคมอุตสาหกรรมลาดกระบัง\, สำนักงานนิคมอุตสาหกรรมลาดกระบัง 40 ชั้น 4 อาคารสำนักงานนิคมอุตสาหกรรมลาดกระบัง ซอยฉลองกรุง 31 แขวงลำปลาทิว เขตลาดกระบัง กรุงเทพฯ 10520
CATEGORIES:ปฏิทินตารางหน่วยเคลื่อนที่
END:VEVENT
BEGIN:VEVENT
DTSTART;TZID=Asia/Krasnoyarsk:20260108T090000
DTEND;TZID=Asia/Krasnoyarsk:20260108T150000
DTSTAMP:20260424T033322
CREATED:20260106T124336Z
LAST-MODIFIED:20260106T132756Z
UID:10005008-1767862800-1767884400@thaibloodcentre.redcross.or.th
SUMMARY:สำนักงานนิคมอุตสาหกรรมลาดกระบัง [0M0112]
DESCRIPTION:สถานที่เจาะ : ชั้น 1 สำนักงานนิคมฯ (พัก 11.00-12.00 น.) \nที่อยู่ : 40 ฉลองกรุง 31 แขวงลำปลาทิว เขตลาดกระบัง กรุงเทพฯ 0 2326 0221-4
URL:https://thaibloodcentre.redcross.or.th/event/%e0%b8%aa%e0%b8%b3%e0%b8%99%e0%b8%b1%e0%b8%81%e0%b8%87%e0%b8%b2%e0%b8%99%e0%b8%99%e0%b8%b4%e0%b8%84%e0%b8%a1%e0%b8%ad%e0%b8%b8%e0%b8%95%e0%b8%aa%e0%b8%b2%e0%b8%ab%e0%b8%81%e0%b8%a3%e0%b8%a3-20/
LOCATION:สำนักงานนิคมอุตสาหกรรมลาดกระบัง\, สำนักงานนิคมอุตสาหกรรมลาดกระบัง 40 ชั้น 4 อาคารสำนักงานนิคมอุตสาหกรรมลาดกระบัง ซอยฉลองกรุง 31 แขวงลำปลาทิว เขตลาดกระบัง กรุงเทพฯ 10520
CATEGORIES:ปฏิทินตารางหน่วยเคลื่อนที่
END:VEVENT
BEGIN:VEVENT
DTSTART;TZID=Asia/Bangkok:20250925T090000
DTEND;TZID=Asia/Bangkok:20250925T150000
DTSTAMP:20260424T033322
CREATED:20250911T045651Z
LAST-MODIFIED:20250911T045651Z
UID:10003366-1758790800-1758812400@thaibloodcentre.redcross.or.th
SUMMARY:สำนักงานนิคมอุตสาหกรรมลาดกระบัง [0M0112]
DESCRIPTION:สถานที่เจาะ : ชั้น 1 สำนักงานนิคมฯ (พัก 11-12 น.) \nที่อยู่ : 40 ฉลองกรุง 31 แขวงลำปลาทิว เขตลาดกระบัง กรุงเทพฯ 0 2326 0221-4
URL:https://thaibloodcentre.redcross.or.th/event/%e0%b8%aa%e0%b8%b3%e0%b8%99%e0%b8%b1%e0%b8%81%e0%b8%87%e0%b8%b2%e0%b8%99%e0%b8%99%e0%b8%b4%e0%b8%84%e0%b8%a1%e0%b8%ad%e0%b8%b8%e0%b8%95%e0%b8%aa%e0%b8%b2%e0%b8%ab%e0%b8%81%e0%b8%a3%e0%b8%a3-14/
LOCATION:สำนักงานนิคมอุตสาหกรรมลาดกระบัง\, สำนักงานนิคมอุตสาหกรรมลาดกระบัง 40 ชั้น 4 อาคารสำนักงานนิคมอุตสาหกรรมลาดกระบัง ซอยฉลองกรุง 31 แขวงลำปลาทิว เขตลาดกระบัง กรุงเทพฯ 10520
CATEGORIES:ปฏิทินตารางหน่วยเคลื่อนที่
END:VEVENT
BEGIN:VEVENT
DTSTART;TZID=Asia/Bangkok:20250924T090000
DTEND;TZID=Asia/Bangkok:20250924T150000
DTSTAMP:20260424T033322
CREATED:20250911T034900Z
LAST-MODIFIED:20250911T034900Z
UID:10003351-1758704400-1758726000@thaibloodcentre.redcross.or.th
SUMMARY:สำนักงานนิคมอุตสาหกรรมลาดกระบัง [0M0112]
DESCRIPTION:สถานที่เจาะ : ชั้น 1 สำนักงานนิคมฯ (พัก 11-12 น.) \nที่อยู่ : 40 ฉลองกรุง 31 แขวงลำปลาทิว เขตลาดกระบัง กรุงเทพฯ 0 2326 0221-4
URL:https://thaibloodcentre.redcross.or.th/event/%e0%b8%aa%e0%b8%b3%e0%b8%99%e0%b8%b1%e0%b8%81%e0%b8%87%e0%b8%b2%e0%b8%99%e0%b8%99%e0%b8%b4%e0%b8%84%e0%b8%a1%e0%b8%ad%e0%b8%b8%e0%b8%95%e0%b8%aa%e0%b8%b2%e0%b8%ab%e0%b8%81%e0%b8%a3%e0%b8%a3-13/
LOCATION:สำนักงานนิคมอุตสาหกรรมลาดกระบัง\, สำนักงานนิคมอุตสาหกรรมลาดกระบัง 40 ชั้น 4 อาคารสำนักงานนิคมอุตสาหกรรมลาดกระบัง ซอยฉลองกรุง 31 แขวงลำปลาทิว เขตลาดกระบัง กรุงเทพฯ 10520
CATEGORIES:ปฏิทินตารางหน่วยเคลื่อนที่
END:VEVENT
BEGIN:VEVENT
DTSTART;TZID=Asia/Bangkok:20250702T090000
DTEND;TZID=Asia/Bangkok:20250702T150000
DTSTAMP:20260424T033322
CREATED:20250623T032827Z
LAST-MODIFIED:20250623T032827Z
UID:10002242-1751446800-1751468400@thaibloodcentre.redcross.or.th
SUMMARY:สำนักงานนิคมอุตสาหกรรมลาดกระบัง []
DESCRIPTION:สถานที่เจาะ : ชั้น 1 สำนักงานนิคมฯ (พัก 11-12 น.) \nที่อยู่ : 40 ฉลองกรุง 31 แขวงลำปลาทิว เขตลาดกระบัง กรุงเทพฯ 0 2326 0221-4
URL:https://thaibloodcentre.redcross.or.th/event/%e0%b8%aa%e0%b8%b3%e0%b8%99%e0%b8%b1%e0%b8%81%e0%b8%87%e0%b8%b2%e0%b8%99%e0%b8%99%e0%b8%b4%e0%b8%84%e0%b8%a1%e0%b8%ad%e0%b8%b8%e0%b8%95%e0%b8%aa%e0%b8%b2%e0%b8%ab%e0%b8%81%e0%b8%a3%e0%b8%a3%e0%b8%a1-9/
LOCATION:สำนักงานนิคมอุตสาหกรรมลาดกระบัง\, สำนักงานนิคมอุตสาหกรรมลาดกระบัง 40 ชั้น 4 อาคารสำนักงานนิคมอุตสาหกรรมลาดกระบัง ซอยฉลองกรุง 31 แขวงลำปลาทิว เขตลาดกระบัง กรุงเทพฯ 10520
CATEGORIES:ปฏิทินตารางหน่วยเคลื่อนที่
END:VEVENT
BEGIN:VEVENT
DTSTART;TZID=Asia/Bangkok:20250701T090000
DTEND;TZID=Asia/Bangkok:20250701T150000
DTSTAMP:20260424T033322
CREATED:20250623T030710Z
LAST-MODIFIED:20250623T030710Z
UID:10002221-1751360400-1751382000@thaibloodcentre.redcross.or.th
SUMMARY:สำนักงานนิคมอุตสาหกรรมลาดกระบัง []
DESCRIPTION:สถานที่เจาะ : ชั้น 1 สำนักงานนิคมฯ (พัก 11-12 น.) \nที่อยู่ : 40 ฉลองกรุง 31 แขวงลำปลาทิว เขตลาดกระบัง กรุงเทพฯ 0 2326 0221-4
URL:https://thaibloodcentre.redcross.or.th/event/%e0%b8%aa%e0%b8%b3%e0%b8%99%e0%b8%b1%e0%b8%81%e0%b8%87%e0%b8%b2%e0%b8%99%e0%b8%99%e0%b8%b4%e0%b8%84%e0%b8%a1%e0%b8%ad%e0%b8%b8%e0%b8%95%e0%b8%aa%e0%b8%b2%e0%b8%ab%e0%b8%81%e0%b8%a3%e0%b8%a3%e0%b8%a1-8/
LOCATION:สำนักงานนิคมอุตสาหกรรมลาดกระบัง\, สำนักงานนิคมอุตสาหกรรมลาดกระบัง 40 ชั้น 4 อาคารสำนักงานนิคมอุตสาหกรรมลาดกระบัง ซอยฉลองกรุง 31 แขวงลำปลาทิว เขตลาดกระบัง กรุงเทพฯ 10520
CATEGORIES:ปฏิทินตารางหน่วยเคลื่อนที่
END:VEVENT
BEGIN:VEVENT
DTSTART;TZID=Asia/Bangkok:20250402T090000
DTEND;TZID=Asia/Bangkok:20250402T150000
DTSTAMP:20260424T033322
CREATED:20250328T031933Z
LAST-MODIFIED:20250328T031943Z
UID:10001136-1743584400-1743606000@thaibloodcentre.redcross.or.th
SUMMARY:สำนักงานนิคมอุตสาหกรรมลาดกระบัง [0M0112]
DESCRIPTION:สถานที่เจาะ : ชั้น 1 สำนักงานนิคมฯ (พัก 11.15-12.15 น.) \nที่อยู่ : 40 ฉลองกรุง 31 แขวงลำปลาทิว เขตลาดกระบัง กรุงเทพฯ 0 2326 0221-4
URL:https://thaibloodcentre.redcross.or.th/event/%e0%b8%aa%e0%b8%b3%e0%b8%99%e0%b8%b1%e0%b8%81%e0%b8%87%e0%b8%b2%e0%b8%99%e0%b8%99%e0%b8%b4%e0%b8%84%e0%b8%a1%e0%b8%ad%e0%b8%b8%e0%b8%95%e0%b8%aa%e0%b8%b2%e0%b8%ab%e0%b8%81%e0%b8%a3%e0%b8%a3%e0%b8%a1-5/
LOCATION:สำนักงานนิคมอุตสาหกรรมลาดกระบัง\, สำนักงานนิคมอุตสาหกรรมลาดกระบัง 40 ชั้น 4 อาคารสำนักงานนิคมอุตสาหกรรมลาดกระบัง ซอยฉลองกรุง 31 แขวงลำปลาทิว เขตลาดกระบัง กรุงเทพฯ 10520
CATEGORIES:ปฏิทินตารางหน่วยเคลื่อนที่
END:VEVENT
BEGIN:VEVENT
DTSTART;TZID=Asia/Bangkok:20250401T090000
DTEND;TZID=Asia/Bangkok:20250401T150000
DTSTAMP:20260424T033322
CREATED:20250328T030821Z
LAST-MODIFIED:20250328T030821Z
UID:10001117-1743498000-1743519600@thaibloodcentre.redcross.or.th
SUMMARY:สำนักงานนิคมอุตสาหกรรมลาดกระบัง [0M0112]
DESCRIPTION:สถานที่เจาะ : ชั้น 1 สำนักงานนิคมฯ (พัก 11.15-12.15 น.) \nที่อยู่ : 40 ฉลองกรุง 31 แขวงลำปลาทิว เขตลาดกระบัง กรุงเทพฯ 0 2326 0221-4
URL:https://thaibloodcentre.redcross.or.th/event/%e0%b8%aa%e0%b8%b3%e0%b8%99%e0%b8%b1%e0%b8%81%e0%b8%87%e0%b8%b2%e0%b8%99%e0%b8%99%e0%b8%b4%e0%b8%84%e0%b8%a1%e0%b8%ad%e0%b8%b8%e0%b8%95%e0%b8%aa%e0%b8%b2%e0%b8%ab%e0%b8%81%e0%b8%a3%e0%b8%a3%e0%b8%a1-4/
LOCATION:สำนักงานนิคมอุตสาหกรรมลาดกระบัง\, สำนักงานนิคมอุตสาหกรรมลาดกระบัง 40 ชั้น 4 อาคารสำนักงานนิคมอุตสาหกรรมลาดกระบัง ซอยฉลองกรุง 31 แขวงลำปลาทิว เขตลาดกระบัง กรุงเทพฯ 10520
CATEGORIES:ปฏิทินตารางหน่วยเคลื่อนที่
END:VEVENT
END:VCALENDAR