BEGIN:VCALENDAR
VERSION:2.0
PRODID:-//เว็บไซต์ศูนย์บริการโลหิตแห่งชาติ - ECPv6.11.2.1//NONSGML v1.0//EN
CALSCALE:GREGORIAN
METHOD:PUBLISH
X-ORIGINAL-URL:https://thaibloodcentre.redcross.or.th
X-WR-CALDESC:Events for เว็บไซต์ศูนย์บริการโลหิตแห่งชาติ
REFRESH-INTERVAL;VALUE=DURATION:PT1H
X-Robots-Tag:noindex
X-PUBLISHED-TTL:PT1H
BEGIN:VTIMEZONE
TZID:Asia/Krasnoyarsk
BEGIN:STANDARD
TZOFFSETFROM:+0700
TZOFFSETTO:+0700
TZNAME:+07
DTSTART:20250101T000000
END:STANDARD
END:VTIMEZONE
BEGIN:VTIMEZONE
TZID:Asia/Bangkok
BEGIN:STANDARD
TZOFFSETFROM:+0700
TZOFFSETTO:+0700
TZNAME:+07
DTSTART:20250101T000000
END:STANDARD
END:VTIMEZONE
BEGIN:VEVENT
DTSTART;TZID=Asia/Krasnoyarsk:20251120T090000
DTEND;TZID=Asia/Krasnoyarsk:20251120T110000
DTSTAMP:20260425T092551
CREATED:20251117T023245Z
LAST-MODIFIED:20251117T023245Z
UID:10004321-1763629200-1763636400@thaibloodcentre.redcross.or.th
SUMMARY:สำนักงานตลาดกรุงเทพมหานคร []
DESCRIPTION:สถานที่เจาะ : หน้าตลาดประชานิเวศน์ 1 \nที่อยู่ : ถนนเทศบาลสงเคราะห์ เขตจตุจักร กรุงเทพฯ 0 2158 0740-42
URL:https://thaibloodcentre.redcross.or.th/event/%e0%b8%aa%e0%b8%b3%e0%b8%99%e0%b8%b1%e0%b8%81%e0%b8%87%e0%b8%b2%e0%b8%99%e0%b8%95%e0%b8%a5%e0%b8%b2%e0%b8%94%e0%b8%81%e0%b8%a3%e0%b8%b8%e0%b8%87%e0%b9%80%e0%b8%97%e0%b8%9e%e0%b8%a1%e0%b8%ab%e0%b8%b2-4/
LOCATION:สำนักงานตลาดกรุงเทพมหานคร\, อาคารโกลด์มาร์เก็ต 8 ถนนเทศบาลสงเคราะห์ แขวงลาดยาว เขตจตุจักร กรุงเทพมหานคร 10900
CATEGORIES:ปฏิทินตารางหน่วยเคลื่อนที่
END:VEVENT
BEGIN:VEVENT
DTSTART;TZID=Asia/Bangkok:20250821T090000
DTEND;TZID=Asia/Bangkok:20250821T110000
DTSTAMP:20260425T092552
CREATED:20250819T134730Z
LAST-MODIFIED:20250819T134730Z
UID:10002955-1755766800-1755774000@thaibloodcentre.redcross.or.th
SUMMARY:สำนักงานตลาดกรุงเทพมหานคร [0D0393]
DESCRIPTION:สถานที่เจาะ : หน้าตลาดประชานิเวศน์ 1 \nที่อยู่ : ถนนเทศบาลสงเคราะห์ เขตจตุจักร กรุงเทพฯ 0 2158 0740-42
URL:https://thaibloodcentre.redcross.or.th/event/%e0%b8%aa%e0%b8%b3%e0%b8%99%e0%b8%b1%e0%b8%81%e0%b8%87%e0%b8%b2%e0%b8%99%e0%b8%95%e0%b8%a5%e0%b8%b2%e0%b8%94%e0%b8%81%e0%b8%a3%e0%b8%b8%e0%b8%87%e0%b9%80%e0%b8%97%e0%b8%9e%e0%b8%a1%e0%b8%ab%e0%b8%b2-3/
LOCATION:สำนักงานตลาดกรุงเทพมหานคร\, อาคารโกลด์มาร์เก็ต 8 ถนนเทศบาลสงเคราะห์ แขวงลาดยาว เขตจตุจักร กรุงเทพมหานคร 10900
CATEGORIES:ปฏิทินตารางหน่วยเคลื่อนที่
END:VEVENT
BEGIN:VEVENT
DTSTART;TZID=Asia/Bangkok:20250522T090000
DTEND;TZID=Asia/Bangkok:20250522T110000
DTSTAMP:20260425T092552
CREATED:20250515T095416Z
LAST-MODIFIED:20250515T095416Z
UID:10001831-1747904400-1747911600@thaibloodcentre.redcross.or.th
SUMMARY:สำนักงานตลาดกรุงเทพมหานคร []
DESCRIPTION:สถานที่เจาะ : หน้าตลาดประชานิเวศน์ 1 \nที่อยู่ : ถนนเทศบาลสงเคราะห์ เขตจตุจักร กรุงเทพฯ 0 2158 0740-42
URL:https://thaibloodcentre.redcross.or.th/event/%e0%b8%aa%e0%b8%b3%e0%b8%99%e0%b8%b1%e0%b8%81%e0%b8%87%e0%b8%b2%e0%b8%99%e0%b8%95%e0%b8%a5%e0%b8%b2%e0%b8%94%e0%b8%81%e0%b8%a3%e0%b8%b8%e0%b8%87%e0%b9%80%e0%b8%97%e0%b8%9e%e0%b8%a1%e0%b8%ab%e0%b8%b2-2/
LOCATION:สำนักงานตลาดกรุงเทพมหานคร\, อาคารโกลด์มาร์เก็ต 8 ถนนเทศบาลสงเคราะห์ แขวงลาดยาว เขตจตุจักร กรุงเทพมหานคร 10900
CATEGORIES:ปฏิทินตารางหน่วยเคลื่อนที่
END:VEVENT
BEGIN:VEVENT
DTSTART;TZID=Asia/Bangkok:20250220T090000
DTEND;TZID=Asia/Bangkok:20250220T110000
DTSTAMP:20260425T092552
CREATED:20250216T082347Z
LAST-MODIFIED:20250216T082347Z
UID:10000625-1740042000-1740049200@thaibloodcentre.redcross.or.th
SUMMARY:สำนักงานตลาดกรุงเทพมหานคร [0D0393]
DESCRIPTION:สถานที่เจาะ : หน้าตลาดประชานิเวศน์ 1 \nที่อยู่ : ถนนเทศบาลสงเคราะห์ เขตจตุจักร กรุงเทพฯ  \nโทร : 0 2158 0740-42
URL:https://thaibloodcentre.redcross.or.th/event/%e0%b8%aa%e0%b8%b3%e0%b8%99%e0%b8%b1%e0%b8%81%e0%b8%87%e0%b8%b2%e0%b8%99%e0%b8%95%e0%b8%a5%e0%b8%b2%e0%b8%94%e0%b8%81%e0%b8%a3%e0%b8%b8%e0%b8%87%e0%b9%80%e0%b8%97%e0%b8%9e%e0%b8%a1%e0%b8%ab%e0%b8%b2/
LOCATION:สำนักงานตลาดกรุงเทพมหานคร\, อาคารโกลด์มาร์เก็ต 8 ถนนเทศบาลสงเคราะห์ แขวงลาดยาว เขตจตุจักร กรุงเทพมหานคร 10900
CATEGORIES:ปฏิทินตารางหน่วยเคลื่อนที่
END:VEVENT
END:VCALENDAR