BEGIN:VCALENDAR
VERSION:2.0
PRODID:-//เว็บไซต์ศูนย์บริการโลหิตแห่งชาติ - ECPv6.11.2.1//NONSGML v1.0//EN
CALSCALE:GREGORIAN
METHOD:PUBLISH
X-ORIGINAL-URL:https://thaibloodcentre.redcross.or.th
X-WR-CALDESC:Events for เว็บไซต์ศูนย์บริการโลหิตแห่งชาติ
REFRESH-INTERVAL;VALUE=DURATION:PT1H
X-Robots-Tag:noindex
X-PUBLISHED-TTL:PT1H
BEGIN:VTIMEZONE
TZID:Asia/Krasnoyarsk
BEGIN:STANDARD
TZOFFSETFROM:+0700
TZOFFSETTO:+0700
TZNAME:+07
DTSTART:20260101T000000
END:STANDARD
END:VTIMEZONE
BEGIN:VEVENT
DTSTART;TZID=Asia/Krasnoyarsk:20260426T100000
DTEND;TZID=Asia/Krasnoyarsk:20260426T130000
DTSTAMP:20260423T234954
CREATED:20260420T062502Z
LAST-MODIFIED:20260420T062502Z
UID:10006590-1777197600-1777208400@thaibloodcentre.redcross.or.th
SUMMARY:สมาคมศรีคุรุสิงห์สภา []
DESCRIPTION:สถานที่เจาะ : ชั้น 3 \nที่อยู่ : 565 ถนนจักรเพชร แขวงวังบูรพา เขตพระนคร กรุงเทพฯ 0 2221 1011
URL:https://thaibloodcentre.redcross.or.th/event/%e0%b8%aa%e0%b8%a1%e0%b8%b2%e0%b8%84%e0%b8%a1%e0%b8%a8%e0%b8%a3%e0%b8%b5%e0%b8%84%e0%b8%b8%e0%b8%a3%e0%b8%b8%e0%b8%aa%e0%b8%b4%e0%b8%87%e0%b8%ab%e0%b9%8c%e0%b8%aa%e0%b8%a0%e0%b8%b2-4/
LOCATION:สมาคมศรีคุรุสิงห์สภา
CATEGORIES:ปฏิทินตารางหน่วยเคลื่อนที่
END:VEVENT
END:VCALENDAR