BEGIN:VCALENDAR
VERSION:2.0
PRODID:-//เว็บไซต์ศูนย์บริการโลหิตแห่งชาติ - ECPv6.11.2.1//NONSGML v1.0//EN
CALSCALE:GREGORIAN
METHOD:PUBLISH
X-WR-CALNAME:เว็บไซต์ศูนย์บริการโลหิตแห่งชาติ
X-ORIGINAL-URL:https://thaibloodcentre.redcross.or.th
X-WR-CALDESC:Events for เว็บไซต์ศูนย์บริการโลหิตแห่งชาติ
REFRESH-INTERVAL;VALUE=DURATION:PT1H
X-Robots-Tag:noindex
X-PUBLISHED-TTL:PT1H
BEGIN:VTIMEZONE
TZID:Asia/Krasnoyarsk
BEGIN:STANDARD
TZOFFSETFROM:+0700
TZOFFSETTO:+0700
TZNAME:+07
DTSTART:20250101T000000
END:STANDARD
END:VTIMEZONE
BEGIN:VTIMEZONE
TZID:Asia/Bangkok
BEGIN:STANDARD
TZOFFSETFROM:+0700
TZOFFSETTO:+0700
TZNAME:+07
DTSTART:20250101T000000
END:STANDARD
END:VTIMEZONE
BEGIN:VEVENT
DTSTART;TZID=Asia/Krasnoyarsk:20260304T090000
DTEND;TZID=Asia/Krasnoyarsk:20260304T120000
DTSTAMP:20260425T024859
CREATED:20260224T101742Z
LAST-MODIFIED:20260224T101742Z
UID:10005774-1772614800-1772625600@thaibloodcentre.redcross.or.th
SUMMARY:สถาบันเทคโนโลยีแห่งเอเชีย []
DESCRIPTION:สถานที่เจาะ : หน้า AIT Conference Center \nที่อยู่ : 58 ม.9 ถ.พหลโยธิน ต.คลองหนึ่ง อ.คลองหลวง ปทุมธานี 0 2524 5288
URL:https://thaibloodcentre.redcross.or.th/event/%e0%b8%aa%e0%b8%96%e0%b8%b2%e0%b8%9a%e0%b8%b1%e0%b8%99%e0%b9%80%e0%b8%97%e0%b8%84%e0%b9%82%e0%b8%99%e0%b9%82%e0%b8%a5%e0%b8%a2%e0%b8%b5%e0%b9%81%e0%b8%ab%e0%b9%88%e0%b8%87%e0%b9%80%e0%b8%ad%e0%b9%80-4/
LOCATION:สถาบันเทคโนโลยีแห่งเอเชีย\, สถาบันเทคโนโลยีแห่งเอเชีย 58 ม.9 ถ.พหลโยธิน ต.คลองหนึ่ง อ.คลองหลวง ปทุมธานี 12120
CATEGORIES:ปฏิทินตารางหน่วยเคลื่อนที่
END:VEVENT
BEGIN:VEVENT
DTSTART;TZID=Asia/Krasnoyarsk:20251128T090000
DTEND;TZID=Asia/Krasnoyarsk:20251128T120000
DTSTAMP:20260425T024900
CREATED:20251124T030034Z
LAST-MODIFIED:20251124T030034Z
UID:10004446-1764320400-1764331200@thaibloodcentre.redcross.or.th
SUMMARY:สถาบันเทคโนโลยีแห่งเอเชีย []
DESCRIPTION:สถานที่เจาะ : หน้า AIT Conference Center \nที่อยู่ : 58 ม.9 ถ.พหลโยธิน ต.คลองหนึ่ง อ.คลองหลวง ปทุมธานี 0 2524 5288
URL:https://thaibloodcentre.redcross.or.th/event/%e0%b8%aa%e0%b8%96%e0%b8%b2%e0%b8%9a%e0%b8%b1%e0%b8%99%e0%b9%80%e0%b8%97%e0%b8%84%e0%b9%82%e0%b8%99%e0%b9%82%e0%b8%a5%e0%b8%a2%e0%b8%b5%e0%b9%81%e0%b8%ab%e0%b9%88%e0%b8%87%e0%b9%80%e0%b8%ad%e0%b9%80-3/
LOCATION:สถาบันเทคโนโลยีแห่งเอเชีย\, สถาบันเทคโนโลยีแห่งเอเชีย 58 ม.9 ถ.พหลโยธิน ต.คลองหนึ่ง อ.คลองหลวง ปทุมธานี 12120
CATEGORIES:ปฏิทินตารางหน่วยเคลื่อนที่
END:VEVENT
BEGIN:VEVENT
DTSTART;TZID=Asia/Bangkok:20250903T090000
DTEND;TZID=Asia/Bangkok:20250903T120000
DTSTAMP:20260425T024900
CREATED:20250825T093815Z
LAST-MODIFIED:20250825T093815Z
UID:10003060-1756890000-1756900800@thaibloodcentre.redcross.or.th
SUMMARY:สถาบันเทคโนโลยีแห่งเอเชีย [0B0204]
DESCRIPTION:สถานที่เจาะ : หน้า AIT Conference Center \nที่อยู่ : 58 ม.9 ถ.พหลโยธิน ต.คลองหนึ่ง อ.คลองหลวง ปทุมธานี 0 2524 5288
URL:https://thaibloodcentre.redcross.or.th/event/%e0%b8%aa%e0%b8%96%e0%b8%b2%e0%b8%9a%e0%b8%b1%e0%b8%99%e0%b9%80%e0%b8%97%e0%b8%84%e0%b9%82%e0%b8%99%e0%b9%82%e0%b8%a5%e0%b8%a2%e0%b8%b5%e0%b9%81%e0%b8%ab%e0%b9%88%e0%b8%87%e0%b9%80%e0%b8%ad%e0%b9%80-2/
LOCATION:สถาบันเทคโนโลยีแห่งเอเชีย\, สถาบันเทคโนโลยีแห่งเอเชีย 58 ม.9 ถ.พหลโยธิน ต.คลองหนึ่ง อ.คลองหลวง ปทุมธานี 12120
CATEGORIES:ปฏิทินตารางหน่วยเคลื่อนที่
END:VEVENT
BEGIN:VEVENT
DTSTART;TZID=Asia/Bangkok:20250305T090000
DTEND;TZID=Asia/Bangkok:20250305T120000
DTSTAMP:20260425T024900
CREATED:20250303T100654Z
LAST-MODIFIED:20250303T100654Z
UID:10000723-1741165200-1741176000@thaibloodcentre.redcross.or.th
SUMMARY:สถาบันเทคโนโลยีแห่งเอเชีย [0B0204]
DESCRIPTION:สถานที่เจาะ : หน้า AIT Conference Center \nที่อยู่ : 58 ม.9 ถ.พหลโยธิน ต.คลองหนึ่ง อ.คลองหลวง ปทุมธานี 0 2524 5288
URL:https://thaibloodcentre.redcross.or.th/event/%e0%b8%aa%e0%b8%96%e0%b8%b2%e0%b8%9a%e0%b8%b1%e0%b8%99%e0%b9%80%e0%b8%97%e0%b8%84%e0%b9%82%e0%b8%99%e0%b9%82%e0%b8%a5%e0%b8%a2%e0%b8%b5%e0%b9%81%e0%b8%ab%e0%b9%88%e0%b8%87%e0%b9%80%e0%b8%ad%e0%b9%80/
LOCATION:สถาบันเทคโนโลยีแห่งเอเชีย\, สถาบันเทคโนโลยีแห่งเอเชีย 58 ม.9 ถ.พหลโยธิน ต.คลองหนึ่ง อ.คลองหลวง ปทุมธานี 12120
CATEGORIES:ปฏิทินตารางหน่วยเคลื่อนที่
END:VEVENT
END:VCALENDAR