BEGIN:VCALENDAR
VERSION:2.0
PRODID:-//เว็บไซต์ศูนย์บริการโลหิตแห่งชาติ - ECPv6.11.2.1//NONSGML v1.0//EN
CALSCALE:GREGORIAN
METHOD:PUBLISH
X-ORIGINAL-URL:https://thaibloodcentre.redcross.or.th
X-WR-CALDESC:Events for เว็บไซต์ศูนย์บริการโลหิตแห่งชาติ
REFRESH-INTERVAL;VALUE=DURATION:PT1H
X-Robots-Tag:noindex
X-PUBLISHED-TTL:PT1H
BEGIN:VTIMEZONE
TZID:Asia/Krasnoyarsk
BEGIN:STANDARD
TZOFFSETFROM:+0700
TZOFFSETTO:+0700
TZNAME:+07
DTSTART:20260101T000000
END:STANDARD
END:VTIMEZONE
BEGIN:VTIMEZONE
TZID:Asia/Bangkok
BEGIN:STANDARD
TZOFFSETFROM:+0700
TZOFFSETTO:+0700
TZNAME:+07
DTSTART:20250101T000000
END:STANDARD
END:VTIMEZONE
BEGIN:VEVENT
DTSTART;TZID=Asia/Krasnoyarsk:20260422T110000
DTEND;TZID=Asia/Krasnoyarsk:20260422T150000
DTSTAMP:20260423T190140
CREATED:20260420T062252Z
LAST-MODIFIED:20260420T075757Z
UID:10006570-1776855600-1776870000@thaibloodcentre.redcross.or.th
SUMMARY:ศูนย์การค้า มาร์เก็ต วิลเลจ สุวรรณภูมิ []
DESCRIPTION:สถานที่เจาะ : หลังศาลพระพรหม \nที่อยู่ : 99/29 ม.1 ต.ราชาเทวะ อ.บางพลี จ.สมุทรปราการ 0 2115 1000
URL:https://thaibloodcentre.redcross.or.th/event/%e0%b8%a8%e0%b8%b9%e0%b8%99%e0%b8%a2%e0%b9%8c%e0%b8%81%e0%b8%b2%e0%b8%a3%e0%b8%84%e0%b9%89%e0%b8%b2-%e0%b8%a1%e0%b8%b2%e0%b8%a3%e0%b9%8c%e0%b9%80%e0%b8%81%e0%b9%87%e0%b8%95-%e0%b8%a7%e0%b8%b4-4/
LOCATION:ศูนย์การค้า มาร์เก็ต วิลเลจ สุวรรณภูมิ\, มาร์เก็ต วิลเลจ สุวรรณภูมิ 99/29 ถ.เทพรัตน ต.บางพลีใหญ่ อ.บางพลี จ.สมุทรปราการ 10540
CATEGORIES:ปฏิทินตารางหน่วยเคลื่อนที่
END:VEVENT
BEGIN:VEVENT
DTSTART;TZID=Asia/Krasnoyarsk:20260122T110000
DTEND;TZID=Asia/Krasnoyarsk:20260122T150000
DTSTAMP:20260423T190140
CREATED:20260120T104059Z
LAST-MODIFIED:20260120T104059Z
UID:10005203-1769079600-1769094000@thaibloodcentre.redcross.or.th
SUMMARY:ศูนย์การค้า มาร์เก็ต วิลเลจ สุวรรณภูมิ []
DESCRIPTION:สถานที่เจาะ : หลังศาลพระพรหม \nที่อยู่ : 99/29 ม.1 ต.ราชาเทวะ อ.บางพลี จ.สมุทรปราการ 0 2115 1000
URL:https://thaibloodcentre.redcross.or.th/event/%e0%b8%a8%e0%b8%b9%e0%b8%99%e0%b8%a2%e0%b9%8c%e0%b8%81%e0%b8%b2%e0%b8%a3%e0%b8%84%e0%b9%89%e0%b8%b2-%e0%b8%a1%e0%b8%b2%e0%b8%a3%e0%b9%8c%e0%b9%80%e0%b8%81%e0%b9%87%e0%b8%95-%e0%b8%a7%e0%b8%b4-3/
LOCATION:ศูนย์การค้า มาร์เก็ต วิลเลจ สุวรรณภูมิ\, มาร์เก็ต วิลเลจ สุวรรณภูมิ 99/29 ถ.เทพรัตน ต.บางพลีใหญ่ อ.บางพลี จ.สมุทรปราการ 10540
CATEGORIES:ปฏิทินตารางหน่วยเคลื่อนที่
END:VEVENT
BEGIN:VEVENT
DTSTART;TZID=Asia/Bangkok:20250721T110000
DTEND;TZID=Asia/Bangkok:20250721T150000
DTSTAMP:20260423T190140
CREATED:20250716T120416Z
LAST-MODIFIED:20250716T120416Z
UID:10002630-1753095600-1753110000@thaibloodcentre.redcross.or.th
SUMMARY:ศูนย์การค้า มาร์เก็ต วิลเลจ สุวรรณภูมิ []
DESCRIPTION:สถานที่เจาะ : หน้า Mcdonald  (หลังศาลพระพรหม) \nที่อยู่ : 99/29 ม.1 ต.ราชาเทวะ อ.บางพลี จ.สมุทรปราการ 0 2115 1000
URL:https://thaibloodcentre.redcross.or.th/event/%e0%b8%a8%e0%b8%b9%e0%b8%99%e0%b8%a2%e0%b9%8c%e0%b8%81%e0%b8%b2%e0%b8%a3%e0%b8%84%e0%b9%89%e0%b8%b2-%e0%b8%a1%e0%b8%b2%e0%b8%a3%e0%b9%8c%e0%b9%80%e0%b8%81%e0%b9%87%e0%b8%95-%e0%b8%a7%e0%b8%b4-2/
LOCATION:ศูนย์การค้า มาร์เก็ต วิลเลจ สุวรรณภูมิ\, มาร์เก็ต วิลเลจ สุวรรณภูมิ 99/29 ถ.เทพรัตน ต.บางพลีใหญ่ อ.บางพลี จ.สมุทรปราการ 10540
CATEGORIES:ปฏิทินตารางหน่วยเคลื่อนที่
END:VEVENT
BEGIN:VEVENT
DTSTART;TZID=Asia/Bangkok:20250421T110000
DTEND;TZID=Asia/Bangkok:20250421T150000
DTSTAMP:20260423T190140
CREATED:20250417T092121Z
LAST-MODIFIED:20250417T092121Z
UID:10001389-1745233200-1745247600@thaibloodcentre.redcross.or.th
SUMMARY:ศูนย์การค้า มาร์เก็ต วิลเลจ สุวรรณภูมิ []
DESCRIPTION:สถานที่เจาะ : หน้า Mcdonald  (หลังศาลพระพรหม) \nที่อยู่ : 99/29 ม.1 ต.ราชาเทวะ อ.บางพลี จ.สมุทรปราการ 0 2115 1000
URL:https://thaibloodcentre.redcross.or.th/event/%e0%b8%a8%e0%b8%b9%e0%b8%99%e0%b8%a2%e0%b9%8c%e0%b8%81%e0%b8%b2%e0%b8%a3%e0%b8%84%e0%b9%89%e0%b8%b2-%e0%b8%a1%e0%b8%b2%e0%b8%a3%e0%b9%8c%e0%b9%80%e0%b8%81%e0%b9%87%e0%b8%95-%e0%b8%a7%e0%b8%b4%e0%b8%a5/
LOCATION:ศูนย์การค้า มาร์เก็ต วิลเลจ สุวรรณภูมิ\, มาร์เก็ต วิลเลจ สุวรรณภูมิ 99/29 ถ.เทพรัตน ต.บางพลีใหญ่ อ.บางพลี จ.สมุทรปราการ 10540
CATEGORIES:ปฏิทินตารางหน่วยเคลื่อนที่
END:VEVENT
END:VCALENDAR