BEGIN:VCALENDAR
VERSION:2.0
PRODID:-//เว็บไซต์ศูนย์บริการโลหิตแห่งชาติ - ECPv6.11.2.1//NONSGML v1.0//EN
CALSCALE:GREGORIAN
METHOD:PUBLISH
X-ORIGINAL-URL:https://thaibloodcentre.redcross.or.th
X-WR-CALDESC:Events for เว็บไซต์ศูนย์บริการโลหิตแห่งชาติ
REFRESH-INTERVAL;VALUE=DURATION:PT1H
X-Robots-Tag:noindex
X-PUBLISHED-TTL:PT1H
BEGIN:VTIMEZONE
TZID:Asia/Krasnoyarsk
BEGIN:STANDARD
TZOFFSETFROM:+0700
TZOFFSETTO:+0700
TZNAME:+07
DTSTART:20250101T000000
END:STANDARD
END:VTIMEZONE
BEGIN:VTIMEZONE
TZID:Asia/Bangkok
BEGIN:STANDARD
TZOFFSETFROM:+0700
TZOFFSETTO:+0700
TZNAME:+07
DTSTART:20250101T000000
END:STANDARD
END:VTIMEZONE
BEGIN:VEVENT
DTSTART;TZID=Asia/Krasnoyarsk:20260322T110000
DTEND;TZID=Asia/Krasnoyarsk:20260322T150000
DTSTAMP:20260423T025641
CREATED:20260318T122132Z
LAST-MODIFIED:20260318T122132Z
UID:10006163-1774177200-1774191600@thaibloodcentre.redcross.or.th
SUMMARY:ลูกเสือชาวบ้านเขตประเวศ []
DESCRIPTION:สถานที่เจาะ : สวนสุขภาพ ใต้ทางด่วนเขตประเวศ \nที่อยู่ : สวนสุขภาพ ใต้ทางด่วนเขตประเวศ แขวงประเวศ  เขตประเวศ กรุงเทพฯ  \nโทร : 0 2354 6566
URL:https://thaibloodcentre.redcross.or.th/event/%e0%b8%a5%e0%b8%b9%e0%b8%81%e0%b9%80%e0%b8%aa%e0%b8%b7%e0%b8%ad%e0%b8%8a%e0%b8%b2%e0%b8%a7%e0%b8%9a%e0%b9%89%e0%b8%b2%e0%b8%99%e0%b9%80%e0%b8%82%e0%b8%95%e0%b8%9b%e0%b8%a3%e0%b8%b0%e0%b9%80%e0%b8%a7-5/
LOCATION:ลูกเสือชาวบ้านเขตประเวศ\, สวนสุขภาพ ใต้ทางด่วนเขตประเวศ สวนสุขภาพ ใต้ทางด่วนเขตประเวศ แขวงประเวศ เขตประเวศ กรุงเทพฯ 10250
CATEGORIES:ปฏิทินตารางหน่วยเคลื่อนที่
END:VEVENT
BEGIN:VEVENT
DTSTART;TZID=Asia/Krasnoyarsk:20251221T110000
DTEND;TZID=Asia/Krasnoyarsk:20251221T150000
DTSTAMP:20260423T025641
CREATED:20251215T120027Z
LAST-MODIFIED:20251215T120027Z
UID:10004787-1766314800-1766329200@thaibloodcentre.redcross.or.th
SUMMARY:ลูกเสือชาวบ้านเขตประเวศ [0J0039]
DESCRIPTION:สถานที่เจาะ : สวนสุขภาพ ใต้ทางด่วนเขตประเวศ \nที่อยู่ : สวนสุขภาพ ใต้ทางด่วนเขตประเวศ แขวงประเวศ  เขตประเวศ กรุงเทพฯ 0 2354 6566
URL:https://thaibloodcentre.redcross.or.th/event/%e0%b8%a5%e0%b8%b9%e0%b8%81%e0%b9%80%e0%b8%aa%e0%b8%b7%e0%b8%ad%e0%b8%8a%e0%b8%b2%e0%b8%a7%e0%b8%9a%e0%b9%89%e0%b8%b2%e0%b8%99%e0%b9%80%e0%b8%82%e0%b8%95%e0%b8%9b%e0%b8%a3%e0%b8%b0%e0%b9%80%e0%b8%a7-4/
LOCATION:ลูกเสือชาวบ้านเขตประเวศ\, สวนสุขภาพ ใต้ทางด่วนเขตประเวศ สวนสุขภาพ ใต้ทางด่วนเขตประเวศ แขวงประเวศ เขตประเวศ กรุงเทพฯ 10250
CATEGORIES:ปฏิทินตารางหน่วยเคลื่อนที่
END:VEVENT
BEGIN:VEVENT
DTSTART;TZID=Asia/Bangkok:20250921T110000
DTEND;TZID=Asia/Bangkok:20250921T150000
DTSTAMP:20260423T025641
CREATED:20250911T033344Z
LAST-MODIFIED:20250911T033344Z
UID:10003305-1758452400-1758466800@thaibloodcentre.redcross.or.th
SUMMARY:ลูกเสือชาวบ้านเขตประเวศ [0J0039]
DESCRIPTION:สถานที่เจาะ : สวนสุขภาพ ใต้ทางด่วนเขตประเวศ \nที่อยู่ : สวนสุขภาพ ใต้ทางด่วนเขตประเวศ แขวงประเวศ  เขตประเวศ กรุงเทพฯ 0 2354 6566
URL:https://thaibloodcentre.redcross.or.th/event/%e0%b8%a5%e0%b8%b9%e0%b8%81%e0%b9%80%e0%b8%aa%e0%b8%b7%e0%b8%ad%e0%b8%8a%e0%b8%b2%e0%b8%a7%e0%b8%9a%e0%b9%89%e0%b8%b2%e0%b8%99%e0%b9%80%e0%b8%82%e0%b8%95%e0%b8%9b%e0%b8%a3%e0%b8%b0%e0%b9%80%e0%b8%a7-3/
LOCATION:ลูกเสือชาวบ้านเขตประเวศ\, สวนสุขภาพ ใต้ทางด่วนเขตประเวศ สวนสุขภาพ ใต้ทางด่วนเขตประเวศ แขวงประเวศ เขตประเวศ กรุงเทพฯ 10250
CATEGORIES:ปฏิทินตารางหน่วยเคลื่อนที่
END:VEVENT
BEGIN:VEVENT
DTSTART;TZID=Asia/Bangkok:20250622T110000
DTEND;TZID=Asia/Bangkok:20250622T150000
DTSTAMP:20260423T025641
CREATED:20250612T094952Z
LAST-MODIFIED:20250619T034223Z
UID:10002201-1750590000-1750604400@thaibloodcentre.redcross.or.th
SUMMARY:ลูกเสือชาวบ้านเขตประเวศ []
DESCRIPTION:สถานที่เจาะ : สวนสุขภาพ ใต้ทางด่วนเขตประเวศ \nที่อยู่ : สวนสุขภาพ ใต้ทางด่วนเขตประเวศ แขวงประเวศ  เขตประเวศ กรุงเทพฯ 0 2354 6566
URL:https://thaibloodcentre.redcross.or.th/event/%e0%b8%a5%e0%b8%b9%e0%b8%81%e0%b9%80%e0%b8%aa%e0%b8%b7%e0%b8%ad%e0%b8%8a%e0%b8%b2%e0%b8%a7%e0%b8%9a%e0%b9%89%e0%b8%b2%e0%b8%99%e0%b9%80%e0%b8%82%e0%b8%95%e0%b8%9b%e0%b8%a3%e0%b8%b0%e0%b9%80%e0%b8%a7-2/
LOCATION:ลูกเสือชาวบ้านเขตประเวศ\, สวนสุขภาพ ใต้ทางด่วนเขตประเวศ สวนสุขภาพ ใต้ทางด่วนเขตประเวศ แขวงประเวศ เขตประเวศ กรุงเทพฯ 10250
CATEGORIES:ปฏิทินตารางหน่วยเคลื่อนที่
END:VEVENT
BEGIN:VEVENT
DTSTART;TZID=Asia/Bangkok:20250323T110000
DTEND;TZID=Asia/Bangkok:20250323T150000
DTSTAMP:20260423T025641
CREATED:20250315T044305Z
LAST-MODIFIED:20250315T044305Z
UID:10000977-1742727600-1742742000@thaibloodcentre.redcross.or.th
SUMMARY:ลูกเสือชาวบ้านเขตประเวศ [0J0039]
DESCRIPTION:สถานที่เจาะ : สวนสุขภาพ ใต้ทางด่วนเขตประเวศ \nที่อยู่ : สวนสุขภาพ ใต้ทางด่วนเขตประเวศ แขวงประเวศ  เขตประเวศ กรุงเทพฯ 0 2354 6566
URL:https://thaibloodcentre.redcross.or.th/event/%e0%b8%a5%e0%b8%b9%e0%b8%81%e0%b9%80%e0%b8%aa%e0%b8%b7%e0%b8%ad%e0%b8%8a%e0%b8%b2%e0%b8%a7%e0%b8%9a%e0%b9%89%e0%b8%b2%e0%b8%99%e0%b9%80%e0%b8%82%e0%b8%95%e0%b8%9b%e0%b8%a3%e0%b8%b0%e0%b9%80%e0%b8%a7/
LOCATION:ลูกเสือชาวบ้านเขตประเวศ\, สวนสุขภาพ ใต้ทางด่วนเขตประเวศ สวนสุขภาพ ใต้ทางด่วนเขตประเวศ แขวงประเวศ เขตประเวศ กรุงเทพฯ 10250
CATEGORIES:ปฏิทินตารางหน่วยเคลื่อนที่
END:VEVENT
END:VCALENDAR