BEGIN:VCALENDAR
VERSION:2.0
PRODID:-//เว็บไซต์ศูนย์บริการโลหิตแห่งชาติ - ECPv6.11.2.1//NONSGML v1.0//EN
CALSCALE:GREGORIAN
METHOD:PUBLISH
X-WR-CALNAME:เว็บไซต์ศูนย์บริการโลหิตแห่งชาติ
X-ORIGINAL-URL:https://thaibloodcentre.redcross.or.th
X-WR-CALDESC:Events for เว็บไซต์ศูนย์บริการโลหิตแห่งชาติ
REFRESH-INTERVAL;VALUE=DURATION:PT1H
X-Robots-Tag:noindex
X-PUBLISHED-TTL:PT1H
BEGIN:VTIMEZONE
TZID:Asia/Krasnoyarsk
BEGIN:STANDARD
TZOFFSETFROM:+0700
TZOFFSETTO:+0700
TZNAME:+07
DTSTART:20260101T000000
END:STANDARD
END:VTIMEZONE
BEGIN:VTIMEZONE
TZID:Asia/Bangkok
BEGIN:STANDARD
TZOFFSETFROM:+0700
TZOFFSETTO:+0700
TZNAME:+07
DTSTART:20250101T000000
END:STANDARD
END:VTIMEZONE
BEGIN:VEVENT
DTSTART;TZID=Asia/Krasnoyarsk:20260405T110000
DTEND;TZID=Asia/Krasnoyarsk:20260405T150000
DTSTAMP:20260424T110735
CREATED:20260401T021043Z
LAST-MODIFIED:20260401T021043Z
UID:10006373-1775386800-1775401200@thaibloodcentre.redcross.or.th
SUMMARY:ลุมพินี วิลล์ อ่อนนุช-พัฒนาการ [0N0009]
DESCRIPTION:สถานที่เจาะ : หน้าเซเว่น อาคาร A \nที่อยู่ : 3 ถนนอ่อนนุช-ลาดกระบัง แขวงประเวศ เขตประเวศ กรุงเทพฯ
URL:https://thaibloodcentre.redcross.or.th/event/%e0%b8%a5%e0%b8%b8%e0%b8%a1%e0%b8%9e%e0%b8%b4%e0%b8%99%e0%b8%b5-%e0%b8%a7%e0%b8%b4%e0%b8%a5%e0%b8%a5%e0%b9%8c-%e0%b8%ad%e0%b9%88%e0%b8%ad%e0%b8%99%e0%b8%99%e0%b8%b8%e0%b8%8a-%e0%b8%9e%e0%b8%b1-6/
LOCATION:ลุมพินี วิลล์ อ่อนนุช-พัฒนาการ\, ลุมพินี วิลล์ อ่อนนุช-พัฒนาการ ถ.อ่อนนุช แขวงประเวศ เขตสวนหลวง กรุงเทพมหานคร 10250
CATEGORIES:ปฏิทินตารางหน่วยเคลื่อนที่
END:VEVENT
BEGIN:VEVENT
DTSTART;TZID=Asia/Krasnoyarsk:20260104T110000
DTEND;TZID=Asia/Krasnoyarsk:20260104T150000
DTSTAMP:20260424T110735
CREATED:20251224T091839Z
LAST-MODIFIED:20251224T091839Z
UID:10004950-1767524400-1767538800@thaibloodcentre.redcross.or.th
SUMMARY:ลุมพินี วิลล์ อ่อนนุช-พัฒนาการ []
DESCRIPTION:สถานที่เจาะ : หน้าเซเว่น อาคาร A \nที่อยู่ : 3 ถนนอ่อนนุช-ลาดกระบัง แขวงประเวศ เขตประเวศ กรุงเทพฯ
URL:https://thaibloodcentre.redcross.or.th/event/%e0%b8%a5%e0%b8%b8%e0%b8%a1%e0%b8%9e%e0%b8%b4%e0%b8%99%e0%b8%b5-%e0%b8%a7%e0%b8%b4%e0%b8%a5%e0%b8%a5%e0%b9%8c-%e0%b8%ad%e0%b9%88%e0%b8%ad%e0%b8%99%e0%b8%99%e0%b8%b8%e0%b8%8a-%e0%b8%9e%e0%b8%b1-5/
LOCATION:ลุมพินี วิลล์ อ่อนนุช-พัฒนาการ\, ลุมพินี วิลล์ อ่อนนุช-พัฒนาการ ถ.อ่อนนุช แขวงประเวศ เขตสวนหลวง กรุงเทพมหานคร 10250
CATEGORIES:ปฏิทินตารางหน่วยเคลื่อนที่
END:VEVENT
BEGIN:VEVENT
DTSTART;TZID=Asia/Bangkok:20251005T110000
DTEND;TZID=Asia/Bangkok:20251005T150000
DTSTAMP:20260424T110735
CREATED:20250924T111005Z
LAST-MODIFIED:20250924T111005Z
UID:10003409-1759662000-1759676400@thaibloodcentre.redcross.or.th
SUMMARY:ลุมพินี วิลล์ อ่อนนุช-พัฒนาการ [0N0009]
DESCRIPTION:สถานที่เจาะ : หน้าเซเว่น อาคาร A \nที่อยู่ : 3 ถนนอ่อนนุช-ลาดกระบัง แขวงประเวศ เขตประเวศ กรุงเทพฯ
URL:https://thaibloodcentre.redcross.or.th/event/%e0%b8%a5%e0%b8%b8%e0%b8%a1%e0%b8%9e%e0%b8%b4%e0%b8%99%e0%b8%b5-%e0%b8%a7%e0%b8%b4%e0%b8%a5%e0%b8%a5%e0%b9%8c-%e0%b8%ad%e0%b9%88%e0%b8%ad%e0%b8%99%e0%b8%99%e0%b8%b8%e0%b8%8a-%e0%b8%9e%e0%b8%b1-4/
LOCATION:ลุมพินี วิลล์ อ่อนนุช-พัฒนาการ\, ลุมพินี วิลล์ อ่อนนุช-พัฒนาการ ถ.อ่อนนุช แขวงประเวศ เขตสวนหลวง กรุงเทพมหานคร 10250
CATEGORIES:ปฏิทินตารางหน่วยเคลื่อนที่
END:VEVENT
BEGIN:VEVENT
DTSTART;TZID=Asia/Bangkok:20250706T110000
DTEND;TZID=Asia/Bangkok:20250706T150000
DTSTAMP:20260424T110735
CREATED:20250623T035245Z
LAST-MODIFIED:20250623T035245Z
UID:10002304-1751799600-1751814000@thaibloodcentre.redcross.or.th
SUMMARY:ลุมพินี วิลล์ อ่อนนุช-พัฒนาการ []
DESCRIPTION:สถานที่เจาะ : หน้าเซเว่น อาคาร A \nที่อยู่ : 3 ถนนอ่อนนุช-ลาดกระบัง แขวงประเวศ เขตประเวศ กรุงเทพฯ
URL:https://thaibloodcentre.redcross.or.th/event/%e0%b8%a5%e0%b8%b8%e0%b8%a1%e0%b8%9e%e0%b8%b4%e0%b8%99%e0%b8%b5-%e0%b8%a7%e0%b8%b4%e0%b8%a5%e0%b8%a5%e0%b9%8c-%e0%b8%ad%e0%b9%88%e0%b8%ad%e0%b8%99%e0%b8%99%e0%b8%b8%e0%b8%8a-%e0%b8%9e%e0%b8%b1-3/
LOCATION:ลุมพินี วิลล์ อ่อนนุช-พัฒนาการ\, ลุมพินี วิลล์ อ่อนนุช-พัฒนาการ ถ.อ่อนนุช แขวงประเวศ เขตสวนหลวง กรุงเทพมหานคร 10250
CATEGORIES:ปฏิทินตารางหน่วยเคลื่อนที่
END:VEVENT
BEGIN:VEVENT
DTSTART;TZID=Asia/Bangkok:20250406T110000
DTEND;TZID=Asia/Bangkok:20250406T150000
DTSTAMP:20260424T110735
CREATED:20250328T033022Z
LAST-MODIFIED:20250328T033022Z
UID:10001200-1743937200-1743951600@thaibloodcentre.redcross.or.th
SUMMARY:ลุมพินี วิลล์ อ่อนนุช-พัฒนาการ [0N0009]
DESCRIPTION:สถานที่เจาะ : หน้าเซเว่น อาคาร A \nที่อยู่ : 3 ถนนอ่อนนุช-ลาดกระบัง แขวงประเวศ เขตประเวศ กรุงเทพฯ
URL:https://thaibloodcentre.redcross.or.th/event/%e0%b8%a5%e0%b8%b8%e0%b8%a1%e0%b8%9e%e0%b8%b4%e0%b8%99%e0%b8%b5-%e0%b8%a7%e0%b8%b4%e0%b8%a5%e0%b8%a5%e0%b9%8c-%e0%b8%ad%e0%b9%88%e0%b8%ad%e0%b8%99%e0%b8%99%e0%b8%b8%e0%b8%8a-%e0%b8%9e%e0%b8%b1-2/
LOCATION:ลุมพินี วิลล์ อ่อนนุช-พัฒนาการ\, ลุมพินี วิลล์ อ่อนนุช-พัฒนาการ ถ.อ่อนนุช แขวงประเวศ เขตสวนหลวง กรุงเทพมหานคร 10250
CATEGORIES:ปฏิทินตารางหน่วยเคลื่อนที่
END:VEVENT
BEGIN:VEVENT
DTSTART;TZID=Asia/Bangkok:20250105T110000
DTEND;TZID=Asia/Bangkok:20250105T150000
DTSTAMP:20260424T110735
CREATED:20250103T070659Z
LAST-MODIFIED:20250103T070659Z
UID:10000159-1736074800-1736089200@thaibloodcentre.redcross.or.th
SUMMARY:ลุมพินี วิลล์ อ่อนนุช-พัฒนาการ [0N0009]
DESCRIPTION:สถานที่เจาะ : หน้าเซเว่น อาคาร A \nที่อยู่ : 3 ถนนอ่อนนุช-ลาดกระบัง แขวงประเวศ เขตประเวศ กรุงเทพฯ
URL:https://thaibloodcentre.redcross.or.th/event/%e0%b8%a5%e0%b8%b8%e0%b8%a1%e0%b8%9e%e0%b8%b4%e0%b8%99%e0%b8%b5-%e0%b8%a7%e0%b8%b4%e0%b8%a5%e0%b8%a5%e0%b9%8c-%e0%b8%ad%e0%b9%88%e0%b8%ad%e0%b8%99%e0%b8%99%e0%b8%b8%e0%b8%8a-%e0%b8%9e%e0%b8%b1/
LOCATION:ลุมพินี วิลล์ อ่อนนุช-พัฒนาการ\, ลุมพินี วิลล์ อ่อนนุช-พัฒนาการ ถ.อ่อนนุช แขวงประเวศ เขตสวนหลวง กรุงเทพมหานคร 10250
CATEGORIES:ปฏิทินตารางหน่วยเคลื่อนที่
END:VEVENT
END:VCALENDAR