BEGIN:VCALENDAR
VERSION:2.0
PRODID:-//เว็บไซต์ศูนย์บริการโลหิตแห่งชาติ - ECPv6.11.2.1//NONSGML v1.0//EN
CALSCALE:GREGORIAN
METHOD:PUBLISH
X-WR-CALNAME:เว็บไซต์ศูนย์บริการโลหิตแห่งชาติ
X-ORIGINAL-URL:https://thaibloodcentre.redcross.or.th
X-WR-CALDESC:Events for เว็บไซต์ศูนย์บริการโลหิตแห่งชาติ
REFRESH-INTERVAL;VALUE=DURATION:PT1H
X-Robots-Tag:noindex
X-PUBLISHED-TTL:PT1H
BEGIN:VTIMEZONE
TZID:Asia/Krasnoyarsk
BEGIN:STANDARD
TZOFFSETFROM:+0700
TZOFFSETTO:+0700
TZNAME:+07
DTSTART:20260101T000000
END:STANDARD
END:VTIMEZONE
BEGIN:VEVENT
DTSTART;TZID=Asia/Krasnoyarsk:20260428T090000
DTEND;TZID=Asia/Krasnoyarsk:20260428T150000
DTSTAMP:20260423T075220
CREATED:20260420T063246Z
LAST-MODIFIED:20260420T063246Z
UID:10006611-1777366800-1777388400@thaibloodcentre.redcross.or.th
SUMMARY:บริษัท ไทยแอร์เอเชีย จำกัด []
DESCRIPTION:สถานที่เจาะ : โถงชั้น 3 เอเชีย เอวิเอชั่น อะคาเดมี่ (พัก 12.00-13.00 น.) \nที่อยู่ : ตรงข้ามวิภาวดีรังสิต 35 แขวงสนามบิน เขตดอนเมือง กรุงเทพฯ
URL:https://thaibloodcentre.redcross.or.th/event/%e0%b8%9a%e0%b8%a3%e0%b8%b4%e0%b8%a9%e0%b8%b1%e0%b8%97-%e0%b9%84%e0%b8%97%e0%b8%a2%e0%b9%81%e0%b8%ad%e0%b8%a3%e0%b9%8c%e0%b9%80%e0%b8%ad%e0%b9%80%e0%b8%8a%e0%b8%b5%e0%b8%a2-%e0%b8%88%e0%b8%b3-5/
LOCATION:บริษัท ไทยแอร์เอเชีย จำกัด\, บริษัท ไทยแอร์เอเชีย จำกัด 222 ท่าอากาศยานดอนเมือง อาคารส่วนกลางชั้น 3 ห้องหมายเลข 3200 ถนนวิภาวดีรังสิต แขวงสนามบิน เขตดอนเมือง กรุงเทพฯ 10210
CATEGORIES:ปฏิทินตารางหน่วยเคลื่อนที่
END:VEVENT
END:VCALENDAR