BEGIN:VCALENDAR
VERSION:2.0
PRODID:-//เว็บไซต์ศูนย์บริการโลหิตแห่งชาติ - ECPv6.11.2.1//NONSGML v1.0//EN
CALSCALE:GREGORIAN
METHOD:PUBLISH
X-ORIGINAL-URL:https://thaibloodcentre.redcross.or.th
X-WR-CALDESC:Events for เว็บไซต์ศูนย์บริการโลหิตแห่งชาติ
REFRESH-INTERVAL;VALUE=DURATION:PT1H
X-Robots-Tag:noindex
X-PUBLISHED-TTL:PT1H
BEGIN:VTIMEZONE
TZID:Asia/Krasnoyarsk
BEGIN:STANDARD
TZOFFSETFROM:+0700
TZOFFSETTO:+0700
TZNAME:+07
DTSTART:20250101T000000
END:STANDARD
END:VTIMEZONE
BEGIN:VTIMEZONE
TZID:Asia/Bangkok
BEGIN:STANDARD
TZOFFSETFROM:+0700
TZOFFSETTO:+0700
TZNAME:+07
DTSTART:20250101T000000
END:STANDARD
END:VTIMEZONE
BEGIN:VEVENT
DTSTART;TZID=Asia/Krasnoyarsk:20260330T090000
DTEND;TZID=Asia/Krasnoyarsk:20260330T150000
DTSTAMP:20260424T033309
CREATED:20260325T043103Z
LAST-MODIFIED:20260325T043103Z
UID:10006287-1774861200-1774882800@thaibloodcentre.redcross.or.th
SUMMARY:บริษัท ไทยออพติคอลกรุ๊ป จำกัด (มหาชน) [0M0340]
DESCRIPTION:สถานที่เจาะ : ห้องประชุม Tog hall (พัก 12-13 น.) \nที่อยู่ : 15 ม.6 ถ.บางบัวทอง-สุพรรณบุรี ต.ละหาร อ.บางบัวทอง จ.นนทบุรี  \nโทร : 0 2194 1145-50
URL:https://thaibloodcentre.redcross.or.th/event/%e0%b8%9a%e0%b8%a3%e0%b8%b4%e0%b8%a9%e0%b8%b1%e0%b8%97-%e0%b9%84%e0%b8%97%e0%b8%a2%e0%b8%ad%e0%b8%ad%e0%b8%9e%e0%b8%95%e0%b8%b4%e0%b8%84%e0%b8%ad%e0%b8%a5%e0%b8%81%e0%b8%a3%e0%b8%b8%e0%b9%8a-5/
LOCATION:บริษัท ไทยออพติคอลกรุ๊ป จำกัด (มหาชน)
CATEGORIES:ปฏิทินตารางหน่วยเคลื่อนที่
END:VEVENT
BEGIN:VEVENT
DTSTART;TZID=Asia/Krasnoyarsk:20251112T090000
DTEND;TZID=Asia/Krasnoyarsk:20251112T150000
DTSTAMP:20260424T033309
CREATED:20251111T050154Z
LAST-MODIFIED:20251111T050218Z
UID:10004212-1762938000-1762959600@thaibloodcentre.redcross.or.th
SUMMARY:บริษัท ไทยออพติคอลกรุ๊ป จำกัด (มหาชน) []
DESCRIPTION:สถานที่เจาะ : ห้องประชุม Tog hall (พัก 12-13 น.) \nที่อยู่ : 15 ม.6 ถ.บางบัวทอง-สุพรรณบุรี ต.ละหาร อ.บางบัวทอง จ.นนทบุรี  \nโทร : 0 2194 1145-50
URL:https://thaibloodcentre.redcross.or.th/event/%e0%b8%9a%e0%b8%a3%e0%b8%b4%e0%b8%a9%e0%b8%b1%e0%b8%97-%e0%b9%84%e0%b8%97%e0%b8%a2%e0%b8%ad%e0%b8%ad%e0%b8%9e%e0%b8%95%e0%b8%b4%e0%b8%84%e0%b8%ad%e0%b8%a5%e0%b8%81%e0%b8%a3%e0%b8%b8%e0%b9%8a-4/
LOCATION:บริษัท ไทยออพติคอลกรุ๊ป จำกัด (มหาชน)
CATEGORIES:ปฏิทินตารางหน่วยเคลื่อนที่
END:VEVENT
BEGIN:VEVENT
DTSTART;TZID=Asia/Bangkok:20250717T090000
DTEND;TZID=Asia/Bangkok:20250717T150000
DTSTAMP:20260424T033309
CREATED:20250716T114141Z
LAST-MODIFIED:20250716T114141Z
UID:10002575-1752742800-1752764400@thaibloodcentre.redcross.or.th
SUMMARY:บริษัท ไทยออพติคอลกรุ๊ป จำกัด (มหาชน) []
DESCRIPTION:สถานที่เจาะ : ห้องประชุม Tog hall (พัก 12-13 น.) \nที่อยู่ : 15 ม.6 ถ.บางบัวทอง-สุพรรณบุรี ต.ละหาร อ.บางบัวทอง จ.นนทบุรี 0 2194 1145-50
URL:https://thaibloodcentre.redcross.or.th/event/%e0%b8%9a%e0%b8%a3%e0%b8%b4%e0%b8%a9%e0%b8%b1%e0%b8%97-%e0%b9%84%e0%b8%97%e0%b8%a2%e0%b8%ad%e0%b8%ad%e0%b8%9e%e0%b8%95%e0%b8%b4%e0%b8%84%e0%b8%ad%e0%b8%a5%e0%b8%81%e0%b8%a3%e0%b8%b8%e0%b9%8a%e0%b8%9b/
LOCATION:บริษัท ไทยออพติคอลกรุ๊ป จำกัด (มหาชน)
CATEGORIES:ปฏิทินตารางหน่วยเคลื่อนที่
END:VEVENT
END:VCALENDAR