BEGIN:VCALENDAR
VERSION:2.0
PRODID:-//เว็บไซต์ศูนย์บริการโลหิตแห่งชาติ - ECPv6.11.2.1//NONSGML v1.0//EN
CALSCALE:GREGORIAN
METHOD:PUBLISH
X-ORIGINAL-URL:https://thaibloodcentre.redcross.or.th
X-WR-CALDESC:Events for เว็บไซต์ศูนย์บริการโลหิตแห่งชาติ
REFRESH-INTERVAL;VALUE=DURATION:PT1H
X-Robots-Tag:noindex
X-PUBLISHED-TTL:PT1H
BEGIN:VTIMEZONE
TZID:Asia/Bangkok
BEGIN:STANDARD
TZOFFSETFROM:+0700
TZOFFSETTO:+0700
TZNAME:+07
DTSTART:20250101T000000
END:STANDARD
END:VTIMEZONE
BEGIN:VEVENT
DTSTART;TZID=Asia/Bangkok:20250423T090000
DTEND;TZID=Asia/Bangkok:20250423T150000
DTSTAMP:20260423T182049
CREATED:20250418T103538Z
LAST-MODIFIED:20250418T103538Z
UID:10001427-1745398800-1745420400@thaibloodcentre.redcross.or.th
SUMMARY:บริษัท ไทยประกันชีวิต จำกัด (มหาชน) []
DESCRIPTION:สถานที่เจาะ : ชั้น 1 ตรงข้ามไปรษณีย์ (พัก 11.30-12.30 น.) \nที่อยู่ : 123 อาคารไทยประกันชีวิต ถนนรัชดาภิเษก แขวงดินแดง เขตดินแดง กรุงเทพฯ
URL:https://thaibloodcentre.redcross.or.th/event/%e0%b8%9a%e0%b8%a3%e0%b8%b4%e0%b8%a9%e0%b8%b1%e0%b8%97-%e0%b9%84%e0%b8%97%e0%b8%a2%e0%b8%9b%e0%b8%a3%e0%b8%b0%e0%b8%81%e0%b8%b1%e0%b8%99%e0%b8%8a%e0%b8%b5%e0%b8%a7%e0%b8%b4%e0%b8%95-%e0%b8%88-7/
LOCATION:บริษัท ไทยประกันชีวิต จำกัด (มหาชน)\, บริษัท ไทยประกันชีวิต จำกัด (มหาชน) ไทยประกันชีวิต 123 ถ. รัชดาภิเษก แขวงดินแดง เขตดินแดง กรุงเทพมหานคร 10400
CATEGORIES:ปฏิทินตารางหน่วยเคลื่อนที่
END:VEVENT
BEGIN:VEVENT
DTSTART;TZID=Asia/Bangkok:20250117T090000
DTEND;TZID=Asia/Bangkok:20250117T150000
DTSTAMP:20260423T182049
CREATED:20250114T104958Z
LAST-MODIFIED:20250114T104958Z
UID:10000255-1737104400-1737126000@thaibloodcentre.redcross.or.th
SUMMARY:บริษัท ไทยประกันชีวิต จำกัด (มหาชน) [0E0132]
DESCRIPTION:สถานที่เจาะ : ชั้น 1 ตรงข้ามไปรษณีย์ (พัก 11.30-12.30 น.) \nที่อยู่ : 123 อาคารไทยประกันชีวิต ถนนรัชดาภิเษก แขวงดินแดง เขตดินแดง กรุงเทพฯ
URL:https://thaibloodcentre.redcross.or.th/event/%e0%b8%9a%e0%b8%a3%e0%b8%b4%e0%b8%a9%e0%b8%b1%e0%b8%97-%e0%b9%84%e0%b8%97%e0%b8%a2%e0%b8%9b%e0%b8%a3%e0%b8%b0%e0%b8%81%e0%b8%b1%e0%b8%99%e0%b8%8a%e0%b8%b5%e0%b8%a7%e0%b8%b4%e0%b8%95-%e0%b8%88-4/
LOCATION:บริษัท ไทยประกันชีวิต จำกัด (มหาชน)\, บริษัท ไทยประกันชีวิต จำกัด (มหาชน) ไทยประกันชีวิต 123 ถ. รัชดาภิเษก แขวงดินแดง เขตดินแดง กรุงเทพมหานคร 10400
CATEGORIES:ปฏิทินตารางหน่วยเคลื่อนที่
END:VEVENT
BEGIN:VEVENT
DTSTART;TZID=Asia/Bangkok:20250116T090000
DTEND;TZID=Asia/Bangkok:20250116T150000
DTSTAMP:20260423T182049
CREATED:20250114T104502Z
LAST-MODIFIED:20250114T104502Z
UID:10000234-1737018000-1737039600@thaibloodcentre.redcross.or.th
SUMMARY:บริษัท ไทยประกันชีวิต จำกัด (มหาชน) [0E0132]
DESCRIPTION:สถานที่เจาะ : ชั้น 1 ตรงข้ามไปรษณีย์ (พัก 11.30-12.30 น.) \nที่อยู่ : 123 อาคารไทยประกันชีวิต ถนนรัชดาภิเษก แขวงดินแดง เขตดินแดง กรุงเทพฯ
URL:https://thaibloodcentre.redcross.or.th/event/%e0%b8%9a%e0%b8%a3%e0%b8%b4%e0%b8%a9%e0%b8%b1%e0%b8%97-%e0%b9%84%e0%b8%97%e0%b8%a2%e0%b8%9b%e0%b8%a3%e0%b8%b0%e0%b8%81%e0%b8%b1%e0%b8%99%e0%b8%8a%e0%b8%b5%e0%b8%a7%e0%b8%b4%e0%b8%95-%e0%b8%88-3/
LOCATION:บริษัท ไทยประกันชีวิต จำกัด (มหาชน)\, บริษัท ไทยประกันชีวิต จำกัด (มหาชน) ไทยประกันชีวิต 123 ถ. รัชดาภิเษก แขวงดินแดง เขตดินแดง กรุงเทพมหานคร 10400
CATEGORIES:ปฏิทินตารางหน่วยเคลื่อนที่
END:VEVENT
BEGIN:VEVENT
DTSTART;TZID=Asia/Bangkok:20250115T090000
DTEND;TZID=Asia/Bangkok:20250115T150000
DTSTAMP:20260423T182049
CREATED:20250114T103754Z
LAST-MODIFIED:20250114T103754Z
UID:10000214-1736931600-1736953200@thaibloodcentre.redcross.or.th
SUMMARY:บริษัท ไทยประกันชีวิต จำกัด (มหาชน) [0E0132]
DESCRIPTION:สถานที่เจาะ : ชั้น 1 ตรงข้ามไปรษณีย์ (พัก 11.30-12.30 น.) \nที่อยู่ : 123 อาคารไทยประกันชีวิต ถนนรัชดาภิเษก แขวงดินแดง เขตดินแดง กรุงเทพฯ
URL:https://thaibloodcentre.redcross.or.th/event/%e0%b8%9a%e0%b8%a3%e0%b8%b4%e0%b8%a9%e0%b8%b1%e0%b8%97-%e0%b9%84%e0%b8%97%e0%b8%a2%e0%b8%9b%e0%b8%a3%e0%b8%b0%e0%b8%81%e0%b8%b1%e0%b8%99%e0%b8%8a%e0%b8%b5%e0%b8%a7%e0%b8%b4%e0%b8%95-%e0%b8%88%e0%b8%b3/
LOCATION:บริษัท ไทยประกันชีวิต จำกัด (มหาชน)\, บริษัท ไทยประกันชีวิต จำกัด (มหาชน) ไทยประกันชีวิต 123 ถ. รัชดาภิเษก แขวงดินแดง เขตดินแดง กรุงเทพมหานคร 10400
CATEGORIES:ปฏิทินตารางหน่วยเคลื่อนที่
END:VEVENT
END:VCALENDAR