BEGIN:VCALENDAR
VERSION:2.0
PRODID:-//เว็บไซต์ศูนย์บริการโลหิตแห่งชาติ - ECPv6.11.2.1//NONSGML v1.0//EN
CALSCALE:GREGORIAN
METHOD:PUBLISH
X-ORIGINAL-URL:https://thaibloodcentre.redcross.or.th
X-WR-CALDESC:Events for เว็บไซต์ศูนย์บริการโลหิตแห่งชาติ
REFRESH-INTERVAL;VALUE=DURATION:PT1H
X-Robots-Tag:noindex
X-PUBLISHED-TTL:PT1H
BEGIN:VTIMEZONE
TZID:Asia/Krasnoyarsk
BEGIN:STANDARD
TZOFFSETFROM:+0700
TZOFFSETTO:+0700
TZNAME:+07
DTSTART:20250101T000000
END:STANDARD
END:VTIMEZONE
BEGIN:VTIMEZONE
TZID:Asia/Bangkok
BEGIN:STANDARD
TZOFFSETFROM:+0700
TZOFFSETTO:+0700
TZNAME:+07
DTSTART:20250101T000000
END:STANDARD
END:VTIMEZONE
BEGIN:VEVENT
DTSTART;TZID=Asia/Krasnoyarsk:20260216T090000
DTEND;TZID=Asia/Krasnoyarsk:20260216T120000
DTSTAMP:20260425T111559
CREATED:20260217T045859Z
LAST-MODIFIED:20260217T045859Z
UID:10005547-1771232400-1771243200@thaibloodcentre.redcross.or.th
SUMMARY:บริษัท ไทยประกันชีวิต จำกัด (มหาชน) สาขาบางนา []
DESCRIPTION:สถานที่เจาะ : หน้าอาคาร \nที่อยู่ : 911 อาคารไทยประกันชีวิต 4 ถนนเทพรัตน แขวงบางนาเหนือ เขตบางนา กรุงเทพฯ 0 2175 9911
URL:https://thaibloodcentre.redcross.or.th/event/%e0%b8%9a%e0%b8%a3%e0%b8%b4%e0%b8%a9%e0%b8%b1%e0%b8%97-%e0%b9%84%e0%b8%97%e0%b8%a2%e0%b8%9b%e0%b8%a3%e0%b8%b0%e0%b8%81%e0%b8%b1%e0%b8%99%e0%b8%8a%e0%b8%b5%e0%b8%a7%e0%b8%b4%e0%b8%95-%e0%b8%88-24/
LOCATION:บริษัท ไทยประกันชีวิต จำกัด (มหาชน) สาขาบางนา\, บริษัท ไทยประกันชีวิต จำกัด (มหาชน) สาขาบางนา 911 อาคารไทยประกันชีวิต4 (ชั้น12) ถ.เทพรัตน แขวงบางนาเหนือ เขตบางนา บางนาเหนือ บางนา กรุงเทพมหานคร 10260
CATEGORIES:ปฏิทินตารางหน่วยเคลื่อนที่
END:VEVENT
BEGIN:VEVENT
DTSTART;TZID=Asia/Krasnoyarsk:20251117T090000
DTEND;TZID=Asia/Krasnoyarsk:20251117T120000
DTSTAMP:20260425T111559
CREATED:20251117T022738Z
LAST-MODIFIED:20251117T022738Z
UID:10004280-1763370000-1763380800@thaibloodcentre.redcross.or.th
SUMMARY:บริษัท ไทยประกันชีวิต จำกัด (มหาชน) สาขาบางนา []
DESCRIPTION:สถานที่เจาะ : หน้าอาคาร \nที่อยู่ : 911 อาคารไทยประกันชีวิต 4 ถนนเทพรัตน แขวงบางนาเหนือ เขตบางนา กรุงเทพฯ 0 2175 9911
URL:https://thaibloodcentre.redcross.or.th/event/%e0%b8%9a%e0%b8%a3%e0%b8%b4%e0%b8%a9%e0%b8%b1%e0%b8%97-%e0%b9%84%e0%b8%97%e0%b8%a2%e0%b8%9b%e0%b8%a3%e0%b8%b0%e0%b8%81%e0%b8%b1%e0%b8%99%e0%b8%8a%e0%b8%b5%e0%b8%a7%e0%b8%b4%e0%b8%95-%e0%b8%88-19/
LOCATION:บริษัท ไทยประกันชีวิต จำกัด (มหาชน) สาขาบางนา\, บริษัท ไทยประกันชีวิต จำกัด (มหาชน) สาขาบางนา 911 อาคารไทยประกันชีวิต4 (ชั้น12) ถ.เทพรัตน แขวงบางนาเหนือ เขตบางนา บางนาเหนือ บางนา กรุงเทพมหานคร 10260
CATEGORIES:ปฏิทินตารางหน่วยเคลื่อนที่
END:VEVENT
BEGIN:VEVENT
DTSTART;TZID=Asia/Bangkok:20250818T090000
DTEND;TZID=Asia/Bangkok:20250818T120000
DTSTAMP:20260425T111559
CREATED:20250805T053817Z
LAST-MODIFIED:20250805T053817Z
UID:10002817-1755507600-1755518400@thaibloodcentre.redcross.or.th
SUMMARY:บริษัท ไทยประกันชีวิต จำกัด (มหาชน) สาขาบางนา [0M0803]
DESCRIPTION:สถานที่เจาะ : หน้าอาคาร \nที่อยู่ : 911 อาคารไทยประกันชีวิต 4 ถนนเทพรัตน แขวงบางนาเหนือ เขตบางนา กรุงเทพฯ 0 2175 9911
URL:https://thaibloodcentre.redcross.or.th/event/%e0%b8%9a%e0%b8%a3%e0%b8%b4%e0%b8%a9%e0%b8%b1%e0%b8%97-%e0%b9%84%e0%b8%97%e0%b8%a2%e0%b8%9b%e0%b8%a3%e0%b8%b0%e0%b8%81%e0%b8%b1%e0%b8%99%e0%b8%8a%e0%b8%b5%e0%b8%a7%e0%b8%b4%e0%b8%95-%e0%b8%88-13/
LOCATION:บริษัท ไทยประกันชีวิต จำกัด (มหาชน) สาขาบางนา\, บริษัท ไทยประกันชีวิต จำกัด (มหาชน) สาขาบางนา 911 อาคารไทยประกันชีวิต4 (ชั้น12) ถ.เทพรัตน แขวงบางนาเหนือ เขตบางนา บางนาเหนือ บางนา กรุงเทพมหานคร 10260
CATEGORIES:ปฏิทินตารางหน่วยเคลื่อนที่
END:VEVENT
BEGIN:VEVENT
DTSTART;TZID=Asia/Bangkok:20250519T090000
DTEND;TZID=Asia/Bangkok:20250519T120000
DTSTAMP:20260425T111559
CREATED:20250514T105421Z
LAST-MODIFIED:20250514T105421Z
UID:10001794-1747645200-1747656000@thaibloodcentre.redcross.or.th
SUMMARY:บริษัท ไทยประกันชีวิต จำกัด (มหาชน) สาขาบางนา []
DESCRIPTION:สถานที่เจาะ : หน้าอาคาร \nที่อยู่ : 911 อาคารไทยประกันชีวิต 4 ถนนเทพรัตน แขวงบางนาเหนือ เขตบางนา กรุงเทพฯ 0 2175 9911
URL:https://thaibloodcentre.redcross.or.th/event/%e0%b8%9a%e0%b8%a3%e0%b8%b4%e0%b8%a9%e0%b8%b1%e0%b8%97-%e0%b9%84%e0%b8%97%e0%b8%a2%e0%b8%9b%e0%b8%a3%e0%b8%b0%e0%b8%81%e0%b8%b1%e0%b8%99%e0%b8%8a%e0%b8%b5%e0%b8%a7%e0%b8%b4%e0%b8%95-%e0%b8%88-10/
LOCATION:บริษัท ไทยประกันชีวิต จำกัด (มหาชน) สาขาบางนา\, บริษัท ไทยประกันชีวิต จำกัด (มหาชน) สาขาบางนา 911 อาคารไทยประกันชีวิต4 (ชั้น12) ถ.เทพรัตน แขวงบางนาเหนือ เขตบางนา บางนาเหนือ บางนา กรุงเทพมหานคร 10260
CATEGORIES:ปฏิทินตารางหน่วยเคลื่อนที่
END:VEVENT
BEGIN:VEVENT
DTSTART;TZID=Asia/Bangkok:20250217T090000
DTEND;TZID=Asia/Bangkok:20250217T120000
DTSTAMP:20260425T111559
CREATED:20250216T080536Z
LAST-MODIFIED:20250216T080536Z
UID:10000561-1739782800-1739793600@thaibloodcentre.redcross.or.th
SUMMARY:บริษัท ไทยประกันชีวิต จำกัด (มหาชน) สาขาบางนา [0M0803]
DESCRIPTION:สถานที่เจาะ : หน้าอาคาร \nที่อยู่ : 911 อาคารไทยประกันชีวิต 4 ถนนเทพรัตน แขวงบางนาเหนือ เขตบางนา กรุงเทพฯ  \nโทร : 0 2175 9911
URL:https://thaibloodcentre.redcross.or.th/event/%e0%b8%9a%e0%b8%a3%e0%b8%b4%e0%b8%a9%e0%b8%b1%e0%b8%97-%e0%b9%84%e0%b8%97%e0%b8%a2%e0%b8%9b%e0%b8%a3%e0%b8%b0%e0%b8%81%e0%b8%b1%e0%b8%99%e0%b8%8a%e0%b8%b5%e0%b8%a7%e0%b8%b4%e0%b8%95-%e0%b8%88-5/
LOCATION:บริษัท ไทยประกันชีวิต จำกัด (มหาชน) สาขาบางนา\, บริษัท ไทยประกันชีวิต จำกัด (มหาชน) สาขาบางนา 911 อาคารไทยประกันชีวิต4 (ชั้น12) ถ.เทพรัตน แขวงบางนาเหนือ เขตบางนา บางนาเหนือ บางนา กรุงเทพมหานคร 10260
CATEGORIES:ปฏิทินตารางหน่วยเคลื่อนที่
END:VEVENT
END:VCALENDAR