BEGIN:VCALENDAR
VERSION:2.0
PRODID:-//เว็บไซต์ศูนย์บริการโลหิตแห่งชาติ - ECPv6.11.2.1//NONSGML v1.0//EN
CALSCALE:GREGORIAN
METHOD:PUBLISH
X-ORIGINAL-URL:https://thaibloodcentre.redcross.or.th
X-WR-CALDESC:Events for เว็บไซต์ศูนย์บริการโลหิตแห่งชาติ
REFRESH-INTERVAL;VALUE=DURATION:PT1H
X-Robots-Tag:noindex
X-PUBLISHED-TTL:PT1H
BEGIN:VTIMEZONE
TZID:Asia/Krasnoyarsk
BEGIN:STANDARD
TZOFFSETFROM:+0700
TZOFFSETTO:+0700
TZNAME:+07
DTSTART:20260101T000000
END:STANDARD
END:VTIMEZONE
BEGIN:VTIMEZONE
TZID:Asia/Bangkok
BEGIN:STANDARD
TZOFFSETFROM:+0700
TZOFFSETTO:+0700
TZNAME:+07
DTSTART:20250101T000000
END:STANDARD
END:VTIMEZONE
BEGIN:VEVENT
DTSTART;TZID=Asia/Krasnoyarsk:20260422T090000
DTEND;TZID=Asia/Krasnoyarsk:20260422T120000
DTSTAMP:20260423T052703
CREATED:20260420T062246Z
LAST-MODIFIED:20260420T075756Z
UID:10006568-1776848400-1776859200@thaibloodcentre.redcross.or.th
SUMMARY:บริษัท ไทยประกันชีวิต จำกัด (มหาชน) สาขารัตนาธิเบศร์ []
DESCRIPTION:สถานที่เจาะ : หน้าอาคาร \nที่อยู่ : 99/999 ม.8 ถ.รัตนาธิเบศร์ ต.บางกระสอ อ.เมือง จ.นนทบุรี 0 2965 6999
URL:https://thaibloodcentre.redcross.or.th/event/%e0%b8%9a%e0%b8%a3%e0%b8%b4%e0%b8%a9%e0%b8%b1%e0%b8%97-%e0%b9%84%e0%b8%97%e0%b8%a2%e0%b8%9b%e0%b8%a3%e0%b8%b0%e0%b8%81%e0%b8%b1%e0%b8%99%e0%b8%8a%e0%b8%b5%e0%b8%a7%e0%b8%b4%e0%b8%95-%e0%b8%88-28/
LOCATION:บริษัท ไทยประกันชีวิต จำกัด (มหาชน) สาขารัตนาธิเบศร์\, บริษัท ไทยประกันชีวิต จำกัด (มหาชน) สาขารัตนาธิเบศร์ 99/999 หมู่ 8 ถนนรัตนาธิเบศร์ ตำบลบางกระสอ อำเภอเมืองนนทบุรี จังหวัดนนทบุรี 11000
CATEGORIES:ปฏิทินตารางหน่วยเคลื่อนที่
END:VEVENT
BEGIN:VEVENT
DTSTART;TZID=Asia/Krasnoyarsk:20260114T090000
DTEND;TZID=Asia/Krasnoyarsk:20260114T120000
DTSTAMP:20260423T052703
CREATED:20260113T115510Z
LAST-MODIFIED:20260113T115510Z
UID:10005097-1768381200-1768392000@thaibloodcentre.redcross.or.th
SUMMARY:บริษัท ไทยประกันชีวิต จำกัด (มหาชน) สาขารัตนาธิเบศร์ []
DESCRIPTION:สถานที่เจาะ : หน้าอาคาร \nที่อยู่ : 99/999 ม.8 ถ.รัตนาธิเบศร์ ต.บางกระสอ อ.เมือง จ.นนทบุรี 0 2965 6999
URL:https://thaibloodcentre.redcross.or.th/event/%e0%b8%9a%e0%b8%a3%e0%b8%b4%e0%b8%a9%e0%b8%b1%e0%b8%97-%e0%b9%84%e0%b8%97%e0%b8%a2%e0%b8%9b%e0%b8%a3%e0%b8%b0%e0%b8%81%e0%b8%b1%e0%b8%99%e0%b8%8a%e0%b8%b5%e0%b8%a7%e0%b8%b4%e0%b8%95-%e0%b8%88-21/
LOCATION:บริษัท ไทยประกันชีวิต จำกัด (มหาชน) สาขารัตนาธิเบศร์\, บริษัท ไทยประกันชีวิต จำกัด (มหาชน) สาขารัตนาธิเบศร์ 99/999 หมู่ 8 ถนนรัตนาธิเบศร์ ตำบลบางกระสอ อำเภอเมืองนนทบุรี จังหวัดนนทบุรี 11000
CATEGORIES:ปฏิทินตารางหน่วยเคลื่อนที่
END:VEVENT
BEGIN:VEVENT
DTSTART;TZID=Asia/Bangkok:20251015T090000
DTEND;TZID=Asia/Bangkok:20251015T120000
DTSTAMP:20260423T052703
CREATED:20251003T101917Z
LAST-MODIFIED:20251003T101917Z
UID:10003645-1760518800-1760529600@thaibloodcentre.redcross.or.th
SUMMARY:บริษัท ไทยประกันชีวิต จำกัด (มหาชน) สาขารัตนาธิเบศร์ [0M0485]
DESCRIPTION:สถานที่เจาะ : หน้าอาคาร \nที่อยู่ : 99/999 ม.8 ถ.รัตนาธิเบศร์ ต.บางกระสอ อ.เมือง จ.นนทบุรี 0 2965 6999
URL:https://thaibloodcentre.redcross.or.th/event/%e0%b8%9a%e0%b8%a3%e0%b8%b4%e0%b8%a9%e0%b8%b1%e0%b8%97-%e0%b9%84%e0%b8%97%e0%b8%a2%e0%b8%9b%e0%b8%a3%e0%b8%b0%e0%b8%81%e0%b8%b1%e0%b8%99%e0%b8%8a%e0%b8%b5%e0%b8%a7%e0%b8%b4%e0%b8%95-%e0%b8%88-15/
LOCATION:บริษัท ไทยประกันชีวิต จำกัด (มหาชน) สาขารัตนาธิเบศร์\, บริษัท ไทยประกันชีวิต จำกัด (มหาชน) สาขารัตนาธิเบศร์ 99/999 หมู่ 8 ถนนรัตนาธิเบศร์ ตำบลบางกระสอ อำเภอเมืองนนทบุรี จังหวัดนนทบุรี 11000
CATEGORIES:ปฏิทินตารางหน่วยเคลื่อนที่
END:VEVENT
BEGIN:VEVENT
DTSTART;TZID=Asia/Bangkok:20250423T090000
DTEND;TZID=Asia/Bangkok:20250423T120000
DTSTAMP:20260423T052703
CREATED:20250418T103512Z
LAST-MODIFIED:20250418T103512Z
UID:10001421-1745398800-1745409600@thaibloodcentre.redcross.or.th
SUMMARY:บริษัท ไทยประกันชีวิต จำกัด (มหาชน) สาขารัตนาธิเบศร์ []
DESCRIPTION:สถานที่เจาะ : หน้าอาคาร \nที่อยู่ : 99/999 ม.8 ถ.รัตนาธิเบศร์ ต.บางกระสอ อ.เมือง จ.นนทบุรี 0 2965 6999
URL:https://thaibloodcentre.redcross.or.th/event/%e0%b8%9a%e0%b8%a3%e0%b8%b4%e0%b8%a9%e0%b8%b1%e0%b8%97-%e0%b9%84%e0%b8%97%e0%b8%a2%e0%b8%9b%e0%b8%a3%e0%b8%b0%e0%b8%81%e0%b8%b1%e0%b8%99%e0%b8%8a%e0%b8%b5%e0%b8%a7%e0%b8%b4%e0%b8%95-%e0%b8%88-6/
LOCATION:บริษัท ไทยประกันชีวิต จำกัด (มหาชน) สาขารัตนาธิเบศร์\, บริษัท ไทยประกันชีวิต จำกัด (มหาชน) สาขารัตนาธิเบศร์ 99/999 หมู่ 8 ถนนรัตนาธิเบศร์ ตำบลบางกระสอ อำเภอเมืองนนทบุรี จังหวัดนนทบุรี 11000
CATEGORIES:ปฏิทินตารางหน่วยเคลื่อนที่
END:VEVENT
BEGIN:VEVENT
DTSTART;TZID=Asia/Bangkok:20250115T090000
DTEND;TZID=Asia/Bangkok:20250115T120000
DTSTAMP:20260423T052703
CREATED:20250114T103756Z
LAST-MODIFIED:20250114T103756Z
UID:10000215-1736931600-1736942400@thaibloodcentre.redcross.or.th
SUMMARY:บริษัท ไทยประกันชีวิต จำกัด (มหาชน) สาขารัตนาธิเบศร์ [0M0485]
DESCRIPTION:สถานที่เจาะ : หน้าอาคาร \nที่อยู่ : 99/999 ม.8 ถ.รัตนาธิเบศร์ ต.บางกระสอ อ.เมือง นนทบุรี  \nโทร : 0 2965 6999
URL:https://thaibloodcentre.redcross.or.th/event/%e0%b8%9a%e0%b8%a3%e0%b8%b4%e0%b8%a9%e0%b8%b1%e0%b8%97-%e0%b9%84%e0%b8%97%e0%b8%a2%e0%b8%9b%e0%b8%a3%e0%b8%b0%e0%b8%81%e0%b8%b1%e0%b8%99%e0%b8%8a%e0%b8%b5%e0%b8%a7%e0%b8%b4%e0%b8%95-%e0%b8%88-2/
LOCATION:บริษัท ไทยประกันชีวิต จำกัด (มหาชน) สาขารัตนาธิเบศร์\, บริษัท ไทยประกันชีวิต จำกัด (มหาชน) สาขารัตนาธิเบศร์ 99/999 หมู่ 8 ถนนรัตนาธิเบศร์ ตำบลบางกระสอ อำเภอเมืองนนทบุรี จังหวัดนนทบุรี 11000
CATEGORIES:ปฏิทินตารางหน่วยเคลื่อนที่
END:VEVENT
END:VCALENDAR