BEGIN:VCALENDAR
VERSION:2.0
PRODID:-//เว็บไซต์ศูนย์บริการโลหิตแห่งชาติ - ECPv6.11.2.1//NONSGML v1.0//EN
CALSCALE:GREGORIAN
METHOD:PUBLISH
X-WR-CALNAME:เว็บไซต์ศูนย์บริการโลหิตแห่งชาติ
X-ORIGINAL-URL:https://thaibloodcentre.redcross.or.th
X-WR-CALDESC:Events for เว็บไซต์ศูนย์บริการโลหิตแห่งชาติ
REFRESH-INTERVAL;VALUE=DURATION:PT1H
X-Robots-Tag:noindex
X-PUBLISHED-TTL:PT1H
BEGIN:VTIMEZONE
TZID:Asia/Krasnoyarsk
BEGIN:STANDARD
TZOFFSETFROM:+0700
TZOFFSETTO:+0700
TZNAME:+07
DTSTART:20260101T000000
END:STANDARD
END:VTIMEZONE
BEGIN:VTIMEZONE
TZID:Asia/Bangkok
BEGIN:STANDARD
TZOFFSETFROM:+0700
TZOFFSETTO:+0700
TZNAME:+07
DTSTART:20250101T000000
END:STANDARD
END:VTIMEZONE
BEGIN:VEVENT
DTSTART;TZID=Asia/Krasnoyarsk:20260403T090000
DTEND;TZID=Asia/Krasnoyarsk:20260403T110000
DTSTAMP:20260423T111541
CREATED:20260401T020452Z
LAST-MODIFIED:20260401T020452Z
UID:10006347-1775206800-1775214000@thaibloodcentre.redcross.or.th
SUMMARY:บริษัท โทรคมนาคมแห่งชาติ จำกัด (มหาชน) (สาขา 00014) [0D0047]
DESCRIPTION:สถานที่เจาะ : ลานจอดรถ \nที่อยู่ : 3658 ถนนพระราม 4 แขวงคลองเตย เขตคลองเตย กรุงเทพฯ  \nโทร : 09 8858 5479
URL:https://thaibloodcentre.redcross.or.th/event/%e0%b8%9a%e0%b8%a3%e0%b8%b4%e0%b8%a9%e0%b8%b1%e0%b8%97-%e0%b9%82%e0%b8%97%e0%b8%a3%e0%b8%84%e0%b8%a1%e0%b8%99%e0%b8%b2%e0%b8%84%e0%b8%a1%e0%b9%81%e0%b8%ab%e0%b9%88%e0%b8%87%e0%b8%8a%e0%b8%b2-14/
LOCATION:บริษัท โทรคมนาคมแห่งชาติ จำกัด (มหาชน) (สาขา 00014)\, บริษัท โทรคมนาคมแห่งชาติ จำกัด (มหาชน) (สาขา 00014) 3658 ถนนพระราม 4 แขวงคลองตัน เขตคลองเตย กรุงเทพมหานคร 10110
CATEGORIES:ปฏิทินตารางหน่วยเคลื่อนที่
END:VEVENT
BEGIN:VEVENT
DTSTART;TZID=Asia/Krasnoyarsk:20260106T090000
DTEND;TZID=Asia/Krasnoyarsk:20260106T110000
DTSTAMP:20260423T111541
CREATED:20251224T092807Z
LAST-MODIFIED:20251224T092807Z
UID:10004974-1767690000-1767697200@thaibloodcentre.redcross.or.th
SUMMARY:บริษัท โทรคมนาคมแห่งชาติ จำกัด (มหาชน) (สาขา 00014) []
DESCRIPTION:สถานที่เจาะ : ลานจอดรถ \nที่อยู่ : 3658 ถนนพระราม 4 แขวงคลองเตย เขตคลองเตย กรุงเทพฯ 09 8858 5479
URL:https://thaibloodcentre.redcross.or.th/event/%e0%b8%9a%e0%b8%a3%e0%b8%b4%e0%b8%a9%e0%b8%b1%e0%b8%97-%e0%b9%82%e0%b8%97%e0%b8%a3%e0%b8%84%e0%b8%a1%e0%b8%99%e0%b8%b2%e0%b8%84%e0%b8%a1%e0%b9%81%e0%b8%ab%e0%b9%88%e0%b8%87%e0%b8%8a%e0%b8%b2-11/
LOCATION:บริษัท โทรคมนาคมแห่งชาติ จำกัด (มหาชน) (สาขา 00014)\, บริษัท โทรคมนาคมแห่งชาติ จำกัด (มหาชน) (สาขา 00014) 3658 ถนนพระราม 4 แขวงคลองตัน เขตคลองเตย กรุงเทพมหานคร 10110
CATEGORIES:ปฏิทินตารางหน่วยเคลื่อนที่
END:VEVENT
BEGIN:VEVENT
DTSTART;TZID=Asia/Bangkok:20251006T090000
DTEND;TZID=Asia/Bangkok:20251006T110000
DTSTAMP:20260423T111541
CREATED:20250924T111304Z
LAST-MODIFIED:20250924T111304Z
UID:10003423-1759741200-1759748400@thaibloodcentre.redcross.or.th
SUMMARY:บริษัท โทรคมนาคมแห่งชาติ จำกัด (มหาชน) (สาขา 00014) [0D0047]
DESCRIPTION:สถานที่เจาะ : ลานจอดรถ \nที่อยู่ : 3658 ถนนพระราม 4 แขวงคลองเตย เขตคลองเตย กรุงเทพฯ 09 8858 5479
URL:https://thaibloodcentre.redcross.or.th/event/%e0%b8%9a%e0%b8%a3%e0%b8%b4%e0%b8%a9%e0%b8%b1%e0%b8%97-%e0%b9%82%e0%b8%97%e0%b8%a3%e0%b8%84%e0%b8%a1%e0%b8%99%e0%b8%b2%e0%b8%84%e0%b8%a1%e0%b9%81%e0%b8%ab%e0%b9%88%e0%b8%87%e0%b8%8a%e0%b8%b2-8/
LOCATION:บริษัท โทรคมนาคมแห่งชาติ จำกัด (มหาชน) (สาขา 00014)\, บริษัท โทรคมนาคมแห่งชาติ จำกัด (มหาชน) (สาขา 00014) 3658 ถนนพระราม 4 แขวงคลองตัน เขตคลองเตย กรุงเทพมหานคร 10110
CATEGORIES:ปฏิทินตารางหน่วยเคลื่อนที่
END:VEVENT
BEGIN:VEVENT
DTSTART;TZID=Asia/Bangkok:20250707T090000
DTEND;TZID=Asia/Bangkok:20250707T110000
DTSTAMP:20260423T111541
CREATED:20250623T035842Z
LAST-MODIFIED:20250623T035842Z
UID:10002317-1751878800-1751886000@thaibloodcentre.redcross.or.th
SUMMARY:บริษัท โทรคมนาคมแห่งชาติ จำกัด (มหาชน) (สาขา 00014) []
DESCRIPTION:สถานที่เจาะ : ลานจอดรถ \nที่อยู่ : 3658 ถนนพระราม 4 แขวงคลองเตย เขตคลองเตย กรุงเทพฯ 09 8858 5479
URL:https://thaibloodcentre.redcross.or.th/event/%e0%b8%9a%e0%b8%a3%e0%b8%b4%e0%b8%a9%e0%b8%b1%e0%b8%97-%e0%b9%82%e0%b8%97%e0%b8%a3%e0%b8%84%e0%b8%a1%e0%b8%99%e0%b8%b2%e0%b8%84%e0%b8%a1%e0%b9%81%e0%b8%ab%e0%b9%88%e0%b8%87%e0%b8%8a%e0%b8%b2-6/
LOCATION:บริษัท โทรคมนาคมแห่งชาติ จำกัด (มหาชน) (สาขา 00014)\, บริษัท โทรคมนาคมแห่งชาติ จำกัด (มหาชน) (สาขา 00014) 3658 ถนนพระราม 4 แขวงคลองตัน เขตคลองเตย กรุงเทพมหานคร 10110
CATEGORIES:ปฏิทินตารางหน่วยเคลื่อนที่
END:VEVENT
BEGIN:VEVENT
DTSTART;TZID=Asia/Bangkok:20250403T090000
DTEND;TZID=Asia/Bangkok:20250403T110000
DTSTAMP:20260423T111541
CREATED:20250328T032102Z
LAST-MODIFIED:20250328T032102Z
UID:10001154-1743670800-1743678000@thaibloodcentre.redcross.or.th
SUMMARY:บริษัท โทรคมนาคมแห่งชาติ จำกัด (มหาชน) (สาขา 00014) [0D0047]
DESCRIPTION:สถานที่เจาะ : ลานจอดรถ \nที่อยู่ : 3658 ถนนพระราม 4 แขวงคลองเตย เขตคลองเตย กรุงเทพฯ 09 8858 5479
URL:https://thaibloodcentre.redcross.or.th/event/%e0%b8%9a%e0%b8%a3%e0%b8%b4%e0%b8%a9%e0%b8%b1%e0%b8%97-%e0%b9%82%e0%b8%97%e0%b8%a3%e0%b8%84%e0%b8%a1%e0%b8%99%e0%b8%b2%e0%b8%84%e0%b8%a1%e0%b9%81%e0%b8%ab%e0%b9%88%e0%b8%87%e0%b8%8a%e0%b8%b2-3/
LOCATION:บริษัท โทรคมนาคมแห่งชาติ จำกัด (มหาชน) (สาขา 00014)\, บริษัท โทรคมนาคมแห่งชาติ จำกัด (มหาชน) (สาขา 00014) 3658 ถนนพระราม 4 แขวงคลองตัน เขตคลองเตย กรุงเทพมหานคร 10110
CATEGORIES:ปฏิทินตารางหน่วยเคลื่อนที่
END:VEVENT
END:VCALENDAR