BEGIN:VCALENDAR
VERSION:2.0
PRODID:-//เว็บไซต์ศูนย์บริการโลหิตแห่งชาติ - ECPv6.11.2.1//NONSGML v1.0//EN
CALSCALE:GREGORIAN
METHOD:PUBLISH
X-WR-CALNAME:เว็บไซต์ศูนย์บริการโลหิตแห่งชาติ
X-ORIGINAL-URL:https://thaibloodcentre.redcross.or.th
X-WR-CALDESC:Events for เว็บไซต์ศูนย์บริการโลหิตแห่งชาติ
REFRESH-INTERVAL;VALUE=DURATION:PT1H
X-Robots-Tag:noindex
X-PUBLISHED-TTL:PT1H
BEGIN:VTIMEZONE
TZID:Asia/Krasnoyarsk
BEGIN:STANDARD
TZOFFSETFROM:+0700
TZOFFSETTO:+0700
TZNAME:+07
DTSTART:20260101T000000
END:STANDARD
END:VTIMEZONE
BEGIN:VTIMEZONE
TZID:Asia/Bangkok
BEGIN:STANDARD
TZOFFSETFROM:+0700
TZOFFSETTO:+0700
TZNAME:+07
DTSTART:20250101T000000
END:STANDARD
END:VTIMEZONE
BEGIN:VEVENT
DTSTART;TZID=Asia/Krasnoyarsk:20260220T090000
DTEND;TZID=Asia/Krasnoyarsk:20260220T150000
DTSTAMP:20260424T064115
CREATED:20260217T091501Z
LAST-MODIFIED:20260217T091501Z
UID:10005589-1771578000-1771599600@thaibloodcentre.redcross.or.th
SUMMARY:บริษัท โตโยต้า แอท ยูไนเต็ด จำกัด สาขาเทพารักษ์ []
DESCRIPTION:สถานที่เจาะ : หน้าโชว์รูม (พัก 11.00-12.00 น.) \nที่อยู่ : 149 ม. 3 ถ.เทพารักษ์ กม.2.5 ต.เทพารักษ์ อ.เมือง จ.สมุทรปราการ 0 2753 3388
URL:https://thaibloodcentre.redcross.or.th/event/%e0%b8%9a%e0%b8%a3%e0%b8%b4%e0%b8%a9%e0%b8%b1%e0%b8%97-%e0%b9%82%e0%b8%95%e0%b9%82%e0%b8%a2%e0%b8%95%e0%b9%89%e0%b8%b2-%e0%b9%81%e0%b8%ad%e0%b8%97-%e0%b8%a2%e0%b8%b9%e0%b9%84%e0%b8%99%e0%b9%80-5/
LOCATION:บริษัท โตโยต้า แอท ยูไนเต็ด จำกัด สาขาเทพารักษ์\, บริษัท โตโยต้า แอท ยูไนเต็ด จำกัด สาขาเทพารักษ์ 149 หมู่ที่ 3 ถ.เทพารักษ์ ตำบลเทพารักษ์ อำเภอเมืองสมุทรปราการ สมุทรปราการ 10270
CATEGORIES:ปฏิทินตารางหน่วยเคลื่อนที่
END:VEVENT
BEGIN:VEVENT
DTSTART;TZID=Asia/Bangkok:20250822T090000
DTEND;TZID=Asia/Bangkok:20250822T150000
DTSTAMP:20260424T064115
CREATED:20250817T104325Z
LAST-MODIFIED:20250817T110124Z
UID:10002849-1755853200-1755874800@thaibloodcentre.redcross.or.th
SUMMARY:บริษัท โตโยต้า แอท ยูไนเต็ด จำกัด สาขาเทพารักษ์ [0M0687]
DESCRIPTION:สถานที่เจาะ : หน้าโชว์รูม \nที่อยู่ : 149 ม. 3 ถ.เทพารักษ์ กม.2.5 ต.เทพารักษ์ อ.เมือง จ.สมุทรปราการ 0 2753 3388
URL:https://thaibloodcentre.redcross.or.th/event/%e0%b8%9a%e0%b8%a3%e0%b8%b4%e0%b8%a9%e0%b8%b1%e0%b8%97-%e0%b9%82%e0%b8%95%e0%b9%82%e0%b8%a2%e0%b8%95%e0%b9%89%e0%b8%b2-%e0%b9%81%e0%b8%ad%e0%b8%97-%e0%b8%a2%e0%b8%b9%e0%b9%84%e0%b8%99%e0%b9%80-3/
LOCATION:บริษัท โตโยต้า แอท ยูไนเต็ด จำกัด สาขาเทพารักษ์\, บริษัท โตโยต้า แอท ยูไนเต็ด จำกัด สาขาเทพารักษ์ 149 หมู่ที่ 3 ถ.เทพารักษ์ ตำบลเทพารักษ์ อำเภอเมืองสมุทรปราการ สมุทรปราการ 10270
CATEGORIES:ปฏิทินตารางหน่วยเคลื่อนที่
END:VEVENT
BEGIN:VEVENT
DTSTART;TZID=Asia/Bangkok:20250221T090000
DTEND;TZID=Asia/Bangkok:20250221T150000
DTSTAMP:20260424T064115
CREATED:20250216T083149Z
LAST-MODIFIED:20250216T083149Z
UID:10000644-1740128400-1740150000@thaibloodcentre.redcross.or.th
SUMMARY:บริษัท โตโยต้า แอท ยูไนเต็ด จำกัด สาขาเทพารักษ์ [0M0687]
DESCRIPTION:สถานที่เจาะ : หน้าโชว์รูม (พัก 11.00-12.00 น.) \nที่อยู่ : 149 ม. 3 ถ.เทพารักษ์ กม.2.5 ต.เทพารักษ์ อ.เมือง สมุทรปราการ  \nโทร : 0 2753 3388
URL:https://thaibloodcentre.redcross.or.th/event/%e0%b8%9a%e0%b8%a3%e0%b8%b4%e0%b8%a9%e0%b8%b1%e0%b8%97-%e0%b9%82%e0%b8%95%e0%b9%82%e0%b8%a2%e0%b8%95%e0%b9%89%e0%b8%b2-%e0%b9%81%e0%b8%ad%e0%b8%97-%e0%b8%a2%e0%b8%b9%e0%b9%84%e0%b8%99%e0%b9%80/
LOCATION:บริษัท โตโยต้า แอท ยูไนเต็ด จำกัด สาขาเทพารักษ์\, บริษัท โตโยต้า แอท ยูไนเต็ด จำกัด สาขาเทพารักษ์ 149 หมู่ที่ 3 ถ.เทพารักษ์ ตำบลเทพารักษ์ อำเภอเมืองสมุทรปราการ สมุทรปราการ 10270
CATEGORIES:ปฏิทินตารางหน่วยเคลื่อนที่
END:VEVENT
END:VCALENDAR