BEGIN:VCALENDAR
VERSION:2.0
PRODID:-//เว็บไซต์ศูนย์บริการโลหิตแห่งชาติ - ECPv6.11.2.1//NONSGML v1.0//EN
CALSCALE:GREGORIAN
METHOD:PUBLISH
X-ORIGINAL-URL:https://thaibloodcentre.redcross.or.th
X-WR-CALDESC:Events for เว็บไซต์ศูนย์บริการโลหิตแห่งชาติ
REFRESH-INTERVAL;VALUE=DURATION:PT1H
X-Robots-Tag:noindex
X-PUBLISHED-TTL:PT1H
BEGIN:VTIMEZONE
TZID:Asia/Krasnoyarsk
BEGIN:STANDARD
TZOFFSETFROM:+0700
TZOFFSETTO:+0700
TZNAME:+07
DTSTART:20250101T000000
END:STANDARD
END:VTIMEZONE
BEGIN:VTIMEZONE
TZID:Asia/Bangkok
BEGIN:STANDARD
TZOFFSETFROM:+0700
TZOFFSETTO:+0700
TZNAME:+07
DTSTART:20250101T000000
END:STANDARD
END:VTIMEZONE
BEGIN:VEVENT
DTSTART;TZID=Asia/Krasnoyarsk:20260309T090000
DTEND;TZID=Asia/Krasnoyarsk:20260309T150000
DTSTAMP:20260425T031005
CREATED:20260304T082006Z
LAST-MODIFIED:20260304T082006Z
UID:10005846-1773046800-1773068400@thaibloodcentre.redcross.or.th
SUMMARY:บริษัท แกมม่าอินดัสตรี้ส์ จำกัด []
DESCRIPTION:สถานที่เจาะ : ชั้น 3 อาคาร A (พัก 11.30-12.30 น.) \nที่อยู่ : 192 เพชรเกษม 28 แขวงปากคลอง เขตภาษีเจริญ กรุงเทพฯ 0 2868 5686
URL:https://thaibloodcentre.redcross.or.th/event/%e0%b8%9a%e0%b8%a3%e0%b8%b4%e0%b8%a9%e0%b8%b1%e0%b8%97-%e0%b9%81%e0%b8%81%e0%b8%a1%e0%b8%a1%e0%b9%88%e0%b8%b2%e0%b8%ad%e0%b8%b4%e0%b8%99%e0%b8%94%e0%b8%b1%e0%b8%aa%e0%b8%95%e0%b8%a3%e0%b8%b5-5/
LOCATION:บริษัท แกมม่าอินดัสตรี้ส์ จำกัด\, บริษัท แกมม่าอินดัสตรี้ส์ จำกัด 192 ซอยเพชรเกษม 28 แยก 16 แขวงปากคลองภาษีเจริญ เขตภาษีเจริญ กรุงเทพมหานคร 10160
CATEGORIES:ปฏิทินตารางหน่วยเคลื่อนที่
END:VEVENT
BEGIN:VEVENT
DTSTART;TZID=Asia/Krasnoyarsk:20251201T090000
DTEND;TZID=Asia/Krasnoyarsk:20251201T150000
DTSTAMP:20260425T031005
CREATED:20251128T085603Z
LAST-MODIFIED:20251128T110037Z
UID:10004483-1764579600-1764601200@thaibloodcentre.redcross.or.th
SUMMARY:บริษัท แกมม่าอินดัสตรี้ส์ จำกัด []
DESCRIPTION:สถานที่เจาะ : ชั้น 3 อาคาร A (พัก 11.30-12.30 น.) \nที่อยู่ : 192 เพชรเกษม 28 แขวงปากคลอง เขตภาษีเจริญ กรุงเทพฯ 0 2868 5686
URL:https://thaibloodcentre.redcross.or.th/event/%e0%b8%9a%e0%b8%a3%e0%b8%b4%e0%b8%a9%e0%b8%b1%e0%b8%97-%e0%b9%81%e0%b8%81%e0%b8%a1%e0%b8%a1%e0%b9%88%e0%b8%b2%e0%b8%ad%e0%b8%b4%e0%b8%99%e0%b8%94%e0%b8%b1%e0%b8%aa%e0%b8%95%e0%b8%a3%e0%b8%b5-4/
LOCATION:บริษัท แกมม่าอินดัสตรี้ส์ จำกัด\, บริษัท แกมม่าอินดัสตรี้ส์ จำกัด 192 ซอยเพชรเกษม 28 แยก 16 แขวงปากคลองภาษีเจริญ เขตภาษีเจริญ กรุงเทพมหานคร 10160
CATEGORIES:ปฏิทินตารางหน่วยเคลื่อนที่
END:VEVENT
BEGIN:VEVENT
DTSTART;TZID=Asia/Bangkok:20250901T090000
DTEND;TZID=Asia/Bangkok:20250901T150000
DTSTAMP:20260425T031006
CREATED:20250825T091202Z
LAST-MODIFIED:20250825T091202Z
UID:10003042-1756717200-1756738800@thaibloodcentre.redcross.or.th
SUMMARY:บริษัท แกมม่าอินดัสตรี้ส์ จำกัด [0M0024]
DESCRIPTION:สถานที่เจาะ : ชั้น 3 อาคาร A (พัก 11.30-12.30 น.) \nที่อยู่ : 192 เพชรเกษม 28 แขวงปากคลอง เขตภาษีเจริญ กรุงเทพฯ 0 2868 5686
URL:https://thaibloodcentre.redcross.or.th/event/%e0%b8%9a%e0%b8%a3%e0%b8%b4%e0%b8%a9%e0%b8%b1%e0%b8%97-%e0%b9%81%e0%b8%81%e0%b8%a1%e0%b8%a1%e0%b9%88%e0%b8%b2%e0%b8%ad%e0%b8%b4%e0%b8%99%e0%b8%94%e0%b8%b1%e0%b8%aa%e0%b8%95%e0%b8%a3%e0%b8%b5-3/
LOCATION:บริษัท แกมม่าอินดัสตรี้ส์ จำกัด\, บริษัท แกมม่าอินดัสตรี้ส์ จำกัด 192 ซอยเพชรเกษม 28 แยก 16 แขวงปากคลองภาษีเจริญ เขตภาษีเจริญ กรุงเทพมหานคร 10160
CATEGORIES:ปฏิทินตารางหน่วยเคลื่อนที่
END:VEVENT
BEGIN:VEVENT
DTSTART;TZID=Asia/Bangkok:20250609T090000
DTEND;TZID=Asia/Bangkok:20250609T150000
DTSTAMP:20260425T031006
CREATED:20250530T124426Z
LAST-MODIFIED:20250707T034710Z
UID:10001997-1749459600-1749481200@thaibloodcentre.redcross.or.th
SUMMARY:บริษัท แกมม่าอินดัสตรี้ส์ จำกัด []
DESCRIPTION:สถานที่เจาะ : ชั้น 3 อาคาร A (พัก 11.30-12.30 น.) \nที่อยู่ : 192 เพชรเกษม 28 แขวงปากคลอง เขตภาษีเจริญ กรุงเทพฯ 0 2868 5686
URL:https://thaibloodcentre.redcross.or.th/event/%e0%b8%9a%e0%b8%a3%e0%b8%b4%e0%b8%a9%e0%b8%b1%e0%b8%97-%e0%b9%81%e0%b8%81%e0%b8%a1%e0%b8%a1%e0%b9%88%e0%b8%b2%e0%b8%ad%e0%b8%b4%e0%b8%99%e0%b8%94%e0%b8%b1%e0%b8%aa%e0%b8%95%e0%b8%a3%e0%b8%b5-2/
LOCATION:บริษัท แกมม่าอินดัสตรี้ส์ จำกัด\, บริษัท แกมม่าอินดัสตรี้ส์ จำกัด 192 ซอยเพชรเกษม 28 แยก 16 แขวงปากคลองภาษีเจริญ เขตภาษีเจริญ กรุงเทพมหานคร 10160
CATEGORIES:ปฏิทินตารางหน่วยเคลื่อนที่
END:VEVENT
BEGIN:VEVENT
DTSTART;TZID=Asia/Bangkok:20250303T090000
DTEND;TZID=Asia/Bangkok:20250303T150000
DTSTAMP:20260425T031006
CREATED:20250303T093138Z
LAST-MODIFIED:20250303T093138Z
UID:10000687-1740992400-1741014000@thaibloodcentre.redcross.or.th
SUMMARY:บริษัท แกมม่าอินดัสตรี้ส์ จำกัด [0M0024]
DESCRIPTION:สถานที่เจาะ : ชั้น 3 อาคาร A (พัก 11.30-12.30 น.) \nที่อยู่ : 192 เพชรเกษม 28 แขวงปากคลอง เขตภาษีเจริญ กรุงเทพฯ 0 2868 5686
URL:https://thaibloodcentre.redcross.or.th/event/%e0%b8%9a%e0%b8%a3%e0%b8%b4%e0%b8%a9%e0%b8%b1%e0%b8%97-%e0%b9%81%e0%b8%81%e0%b8%a1%e0%b8%a1%e0%b9%88%e0%b8%b2%e0%b8%ad%e0%b8%b4%e0%b8%99%e0%b8%94%e0%b8%b1%e0%b8%aa%e0%b8%95%e0%b8%a3%e0%b8%b5%e0%b9%89/
LOCATION:บริษัท แกมม่าอินดัสตรี้ส์ จำกัด\, บริษัท แกมม่าอินดัสตรี้ส์ จำกัด 192 ซอยเพชรเกษม 28 แยก 16 แขวงปากคลองภาษีเจริญ เขตภาษีเจริญ กรุงเทพมหานคร 10160
CATEGORIES:ปฏิทินตารางหน่วยเคลื่อนที่
END:VEVENT
END:VCALENDAR