BEGIN:VCALENDAR
VERSION:2.0
PRODID:-//เว็บไซต์ศูนย์บริการโลหิตแห่งชาติ - ECPv6.11.2.1//NONSGML v1.0//EN
CALSCALE:GREGORIAN
METHOD:PUBLISH
X-ORIGINAL-URL:https://thaibloodcentre.redcross.or.th
X-WR-CALDESC:Events for เว็บไซต์ศูนย์บริการโลหิตแห่งชาติ
REFRESH-INTERVAL;VALUE=DURATION:PT1H
X-Robots-Tag:noindex
X-PUBLISHED-TTL:PT1H
BEGIN:VTIMEZONE
TZID:Asia/Krasnoyarsk
BEGIN:STANDARD
TZOFFSETFROM:+0700
TZOFFSETTO:+0700
TZNAME:+07
DTSTART:20250101T000000
END:STANDARD
END:VTIMEZONE
BEGIN:VTIMEZONE
TZID:Asia/Bangkok
BEGIN:STANDARD
TZOFFSETFROM:+0700
TZOFFSETTO:+0700
TZNAME:+07
DTSTART:20250101T000000
END:STANDARD
END:VTIMEZONE
BEGIN:VEVENT
DTSTART;TZID=Asia/Krasnoyarsk:20260331T090000
DTEND;TZID=Asia/Krasnoyarsk:20260331T150000
DTSTAMP:20260422T011207
CREATED:20260325T043310Z
LAST-MODIFIED:20260325T043310Z
UID:10006300-1774947600-1774969200@thaibloodcentre.redcross.or.th
SUMMARY:บริษัท เมืองไทยประกันชีวิต จำกัด (มหาชน) [0]
DESCRIPTION:สถานที่เจาะ : ข้างสวนสุขภาพโพธิพงษ์ (หน้าอาคาร 2) \nที่อยู่ : 250 ถนนรัชดาภิเษก แขวงห้วยขวาง เขตห้วยขวาง กรุงเทพฯ  \nโทร : 0 2290 2421
URL:https://thaibloodcentre.redcross.or.th/event/%e0%b8%9a%e0%b8%a3%e0%b8%b4%e0%b8%a9%e0%b8%b1%e0%b8%97-%e0%b9%80%e0%b8%a1%e0%b8%b7%e0%b8%ad%e0%b8%87%e0%b9%84%e0%b8%97%e0%b8%a2%e0%b8%9b%e0%b8%a3%e0%b8%b0%e0%b8%81%e0%b8%b1%e0%b8%99%e0%b8%8a-6/
LOCATION:บริษัท เมืองไทยประกันชีวิต จำกัด (มหาชน)\, บริษัท เมืองไทยประกันชีวิต จำกัด (มหาชน) 250 ถนนรัชดาภิเษก แขวงห้วยขวาง เขตห้วยขวาง กรุงเทพมหานคร 10310
CATEGORIES:ปฏิทินตารางหน่วยเคลื่อนที่
END:VEVENT
BEGIN:VEVENT
DTSTART;TZID=Asia/Krasnoyarsk:20251223T090000
DTEND;TZID=Asia/Krasnoyarsk:20251223T150000
DTSTAMP:20260422T011208
CREATED:20251215T120337Z
LAST-MODIFIED:20251215T120337Z
UID:10004818-1766480400-1766502000@thaibloodcentre.redcross.or.th
SUMMARY:บริษัท เมืองไทยประกันชีวิต จำกัด (มหาชน) [0E0206]
DESCRIPTION:สถานที่เจาะ : ข้างสวนสุขภาพโพธิพงษ์ (หน้าอาคาร 2) \nที่อยู่ : 250 ถนนรัชดาภิเษก แขวงห้วยขวาง เขตห้วยขวาง กรุงเทพฯ 0 2290 2421
URL:https://thaibloodcentre.redcross.or.th/event/%e0%b8%9a%e0%b8%a3%e0%b8%b4%e0%b8%a9%e0%b8%b1%e0%b8%97-%e0%b9%80%e0%b8%a1%e0%b8%b7%e0%b8%ad%e0%b8%87%e0%b9%84%e0%b8%97%e0%b8%a2%e0%b8%9b%e0%b8%a3%e0%b8%b0%e0%b8%81%e0%b8%b1%e0%b8%99%e0%b8%8a-5/
LOCATION:บริษัท เมืองไทยประกันชีวิต จำกัด (มหาชน)\, บริษัท เมืองไทยประกันชีวิต จำกัด (มหาชน) 250 ถนนรัชดาภิเษก แขวงห้วยขวาง เขตห้วยขวาง กรุงเทพมหานคร 10310
CATEGORIES:ปฏิทินตารางหน่วยเคลื่อนที่
END:VEVENT
BEGIN:VEVENT
DTSTART;TZID=Asia/Bangkok:20250923T090000
DTEND;TZID=Asia/Bangkok:20250923T150000
DTSTAMP:20260422T011208
CREATED:20250911T034656Z
LAST-MODIFIED:20250911T034656Z
UID:10003334-1758618000-1758639600@thaibloodcentre.redcross.or.th
SUMMARY:บริษัท เมืองไทยประกันชีวิต จำกัด (มหาชน) [0]
DESCRIPTION:สถานที่เจาะ : ข้างสวนสุขภาพโพธิพงษ์ (หน้าอาคาร 2) \nที่อยู่ : 250 ถนนรัชดาภิเษก แขวงห้วยขวาง เขตห้วยขวาง กรุงเทพฯ 0 2290 2421
URL:https://thaibloodcentre.redcross.or.th/event/%e0%b8%9a%e0%b8%a3%e0%b8%b4%e0%b8%a9%e0%b8%b1%e0%b8%97-%e0%b9%80%e0%b8%a1%e0%b8%b7%e0%b8%ad%e0%b8%87%e0%b9%84%e0%b8%97%e0%b8%a2%e0%b8%9b%e0%b8%a3%e0%b8%b0%e0%b8%81%e0%b8%b1%e0%b8%99%e0%b8%8a-4/
LOCATION:บริษัท เมืองไทยประกันชีวิต จำกัด (มหาชน)\, บริษัท เมืองไทยประกันชีวิต จำกัด (มหาชน) 250 ถนนรัชดาภิเษก แขวงห้วยขวาง เขตห้วยขวาง กรุงเทพมหานคร 10310
CATEGORIES:ปฏิทินตารางหน่วยเคลื่อนที่
END:VEVENT
BEGIN:VEVENT
DTSTART;TZID=Asia/Bangkok:20250626T090000
DTEND;TZID=Asia/Bangkok:20250626T150000
DTSTAMP:20260422T011208
CREATED:20250626T013855Z
LAST-MODIFIED:20250626T013855Z
UID:10002376-1750928400-1750950000@thaibloodcentre.redcross.or.th
SUMMARY:บริษัท เมืองไทยประกันชีวิต จำกัด (มหาชน) []
DESCRIPTION:สถานที่เจาะ : ข้างสวนสุขภาพโพธิพงษ์ (หน้าอาคาร 2) \nที่อยู่ : 250 ถนนรัชดาภิเษก แขวงห้วยขวาง เขตห้วยขวาง กรุงเทพฯ 0 2290 2421
URL:https://thaibloodcentre.redcross.or.th/event/%e0%b8%9a%e0%b8%a3%e0%b8%b4%e0%b8%a9%e0%b8%b1%e0%b8%97-%e0%b9%80%e0%b8%a1%e0%b8%b7%e0%b8%ad%e0%b8%87%e0%b9%84%e0%b8%97%e0%b8%a2%e0%b8%9b%e0%b8%a3%e0%b8%b0%e0%b8%81%e0%b8%b1%e0%b8%99%e0%b8%8a-3/
LOCATION:บริษัท เมืองไทยประกันชีวิต จำกัด (มหาชน)\, บริษัท เมืองไทยประกันชีวิต จำกัด (มหาชน) 250 ถนนรัชดาภิเษก แขวงห้วยขวาง เขตห้วยขวาง กรุงเทพมหานคร 10310
CATEGORIES:ปฏิทินตารางหน่วยเคลื่อนที่
END:VEVENT
BEGIN:VEVENT
DTSTART;TZID=Asia/Bangkok:20250626T090000
DTEND;TZID=Asia/Bangkok:20250626T150000
DTSTAMP:20260422T011208
CREATED:20250626T013852Z
LAST-MODIFIED:20250626T013852Z
UID:10002375-1750928400-1750950000@thaibloodcentre.redcross.or.th
SUMMARY:บริษัท เมืองไทยประกันชีวิต จำกัด (มหาชน) []
DESCRIPTION:สถานที่เจาะ : ข้างสวนสุขภาพโพธิพงษ์ (หน้าอาคาร 2) \nที่อยู่ : 250 ถนนรัชดาภิเษก แขวงห้วยขวาง เขตห้วยขวาง กรุงเทพฯ 0 2290 2421
URL:https://thaibloodcentre.redcross.or.th/event/%e0%b8%9a%e0%b8%a3%e0%b8%b4%e0%b8%a9%e0%b8%b1%e0%b8%97-%e0%b9%80%e0%b8%a1%e0%b8%b7%e0%b8%ad%e0%b8%87%e0%b9%84%e0%b8%97%e0%b8%a2%e0%b8%9b%e0%b8%a3%e0%b8%b0%e0%b8%81%e0%b8%b1%e0%b8%99%e0%b8%8a-2/
LOCATION:บริษัท เมืองไทยประกันชีวิต จำกัด (มหาชน)\, บริษัท เมืองไทยประกันชีวิต จำกัด (มหาชน) 250 ถนนรัชดาภิเษก แขวงห้วยขวาง เขตห้วยขวาง กรุงเทพมหานคร 10310
CATEGORIES:ปฏิทินตารางหน่วยเคลื่อนที่
END:VEVENT
BEGIN:VEVENT
DTSTART;TZID=Asia/Bangkok:20250404T090000
DTEND;TZID=Asia/Bangkok:20250404T150000
DTSTAMP:20260422T011208
CREATED:20250328T032821Z
LAST-MODIFIED:20250328T032821Z
UID:10001170-1743757200-1743778800@thaibloodcentre.redcross.or.th
SUMMARY:บริษัท เมืองไทยประกันชีวิต จำกัด (มหาชน) [0E0206]
DESCRIPTION:สถานที่เจาะ : ข้างสวนสุขภาพโพธิพงษ์ (หน้าอาคาร 2) \nที่อยู่ : 250 ถนนรัชดาภิเษก แขวงห้วยขวาง เขตห้วยขวาง กรุงเทพฯ 0 2290 2421
URL:https://thaibloodcentre.redcross.or.th/event/%e0%b8%9a%e0%b8%a3%e0%b8%b4%e0%b8%a9%e0%b8%b1%e0%b8%97-%e0%b9%80%e0%b8%a1%e0%b8%b7%e0%b8%ad%e0%b8%87%e0%b9%84%e0%b8%97%e0%b8%a2%e0%b8%9b%e0%b8%a3%e0%b8%b0%e0%b8%81%e0%b8%b1%e0%b8%99%e0%b8%8a%e0%b8%b5/
LOCATION:บริษัท เมืองไทยประกันชีวิต จำกัด (มหาชน)\, บริษัท เมืองไทยประกันชีวิต จำกัด (มหาชน) 250 ถนนรัชดาภิเษก แขวงห้วยขวาง เขตห้วยขวาง กรุงเทพมหานคร 10310
CATEGORIES:ปฏิทินตารางหน่วยเคลื่อนที่
END:VEVENT
END:VCALENDAR