BEGIN:VCALENDAR
VERSION:2.0
PRODID:-//เว็บไซต์ศูนย์บริการโลหิตแห่งชาติ - ECPv6.11.2.1//NONSGML v1.0//EN
CALSCALE:GREGORIAN
METHOD:PUBLISH
X-ORIGINAL-URL:https://thaibloodcentre.redcross.or.th
X-WR-CALDESC:Events for เว็บไซต์ศูนย์บริการโลหิตแห่งชาติ
REFRESH-INTERVAL;VALUE=DURATION:PT1H
X-Robots-Tag:noindex
X-PUBLISHED-TTL:PT1H
BEGIN:VTIMEZONE
TZID:Asia/Krasnoyarsk
BEGIN:STANDARD
TZOFFSETFROM:+0700
TZOFFSETTO:+0700
TZNAME:+07
DTSTART:20250101T000000
END:STANDARD
END:VTIMEZONE
BEGIN:VTIMEZONE
TZID:Asia/Bangkok
BEGIN:STANDARD
TZOFFSETFROM:+0700
TZOFFSETTO:+0700
TZNAME:+07
DTSTART:20250101T000000
END:STANDARD
END:VTIMEZONE
BEGIN:VEVENT
DTSTART;TZID=Asia/Krasnoyarsk:20251216T090000
DTEND;TZID=Asia/Krasnoyarsk:20251216T150000
DTSTAMP:20260426T032807
CREATED:20251208T073733Z
LAST-MODIFIED:20251208T073733Z
UID:10004707-1765875600-1765897200@thaibloodcentre.redcross.or.th
SUMMARY:บริษัท เคซีจี คอร์ปอเรชั่น จำกัด (มหาชน) สาขาเทพารักษ์ []
DESCRIPTION:สถานที่เจาะ : หน้าอาคาร Excellence Center (พัก 12.00-13.00 น.) \nที่อยู่ : 228 ม.11 ถ.เทพารักษ์ กม.14 ต.บางพลีใหญ่ อ.เมือง จ.สมุทรปราการ 0 2744 2000
URL:https://thaibloodcentre.redcross.or.th/event/%e0%b8%9a%e0%b8%a3%e0%b8%b4%e0%b8%a9%e0%b8%b1%e0%b8%97-%e0%b9%80%e0%b8%84%e0%b8%8b%e0%b8%b5%e0%b8%88%e0%b8%b5-%e0%b8%84%e0%b8%ad%e0%b8%a3%e0%b9%8c%e0%b8%9b%e0%b8%ad%e0%b9%80%e0%b8%a3%e0%b8%8a-8/
LOCATION:บริษัท เคซีจี คอร์ปอเรชั่น จำกัด (มหาชน) สาขาเทพารักษ์\, บริษัท เคซีจี คอร์ปอเรชั่น จำกัด (มหาชน) สาขาเทพารักษ์ 228 ม.11 ถ.เทพารักษ์ ต.บางพลีใหญ่ อ.บางพลี จ.สมุทรปราการ 10540
CATEGORIES:ปฏิทินตารางหน่วยเคลื่อนที่
END:VEVENT
BEGIN:VEVENT
DTSTART;TZID=Asia/Bangkok:20250916T090000
DTEND;TZID=Asia/Bangkok:20250916T150000
DTSTAMP:20260426T032807
CREATED:20250905T104959Z
LAST-MODIFIED:20250908T063923Z
UID:10003193-1758013200-1758034800@thaibloodcentre.redcross.or.th
SUMMARY:บริษัท เคซีจี คอร์ปอเรชั่น จำกัด (มหาชน) สาขาเทพารักษ์ [0M0807]
DESCRIPTION:สถานที่เจาะ : หน้าอาคาร Excellence Center (พัก 12-13 น.) \nที่อยู่ : 228 ม.11 ถ.เทพารักษ์ กม.14 ต.บางพลีใหญ่ อ.เมือง จ.สมุทรปราการ 0 2744 2000
URL:https://thaibloodcentre.redcross.or.th/event/%e0%b8%9a%e0%b8%a3%e0%b8%b4%e0%b8%a9%e0%b8%b1%e0%b8%97-%e0%b9%80%e0%b8%84%e0%b8%8b%e0%b8%b5%e0%b8%88%e0%b8%b5-%e0%b8%84%e0%b8%ad%e0%b8%a3%e0%b9%8c%e0%b8%9b%e0%b8%ad%e0%b9%80%e0%b8%a3%e0%b8%8a-6/
LOCATION:บริษัท เคซีจี คอร์ปอเรชั่น จำกัด (มหาชน) สาขาเทพารักษ์\, บริษัท เคซีจี คอร์ปอเรชั่น จำกัด (มหาชน) สาขาเทพารักษ์ 228 ม.11 ถ.เทพารักษ์ ต.บางพลีใหญ่ อ.บางพลี จ.สมุทรปราการ 10540
CATEGORIES:ปฏิทินตารางหน่วยเคลื่อนที่
END:VEVENT
BEGIN:VEVENT
DTSTART;TZID=Asia/Bangkok:20250617T090000
DTEND;TZID=Asia/Bangkok:20250617T150000
DTSTAMP:20260426T032807
CREATED:20250612T090141Z
LAST-MODIFIED:20250619T031003Z
UID:10002118-1750150800-1750172400@thaibloodcentre.redcross.or.th
SUMMARY:บริษัท เคซีจี คอร์ปอเรชั่น จำกัด (มหาชน) สาขาเทพารักษ์ []
DESCRIPTION:สถานที่เจาะ : หน้าอาคาร Excellence Center (พัก 12-13 น.) \nที่อยู่ : 228 ม.11 ถ.เทพารักษ์ กม.14 ต.บางพลีใหญ่ อ.เมือง จ.สมุทรปราการ 0 2744 2000
URL:https://thaibloodcentre.redcross.or.th/event/%e0%b8%9a%e0%b8%a3%e0%b8%b4%e0%b8%a9%e0%b8%b1%e0%b8%97-%e0%b9%80%e0%b8%84%e0%b8%8b%e0%b8%b5%e0%b8%88%e0%b8%b5-%e0%b8%84%e0%b8%ad%e0%b8%a3%e0%b9%8c%e0%b8%9b%e0%b8%ad%e0%b9%80%e0%b8%a3%e0%b8%8a-4/
LOCATION:บริษัท เคซีจี คอร์ปอเรชั่น จำกัด (มหาชน) สาขาเทพารักษ์\, บริษัท เคซีจี คอร์ปอเรชั่น จำกัด (มหาชน) สาขาเทพารักษ์ 228 ม.11 ถ.เทพารักษ์ ต.บางพลีใหญ่ อ.บางพลี จ.สมุทรปราการ 10540
CATEGORIES:ปฏิทินตารางหน่วยเคลื่อนที่
END:VEVENT
BEGIN:VEVENT
DTSTART;TZID=Asia/Bangkok:20250318T090000
DTEND;TZID=Asia/Bangkok:20250318T150000
DTSTAMP:20260426T032807
CREATED:20250315T041010Z
LAST-MODIFIED:20250315T041010Z
UID:10000931-1742288400-1742310000@thaibloodcentre.redcross.or.th
SUMMARY:บริษัท เคซีจี คอร์ปอเรชั่น จำกัด (มหาชน) สาขาเทพารักษ์ [0M0807]
DESCRIPTION:สถานที่เจาะ : หน้าอาคาร Excellence Center (พัก 12.00-13.00 น.) \nที่อยู่ : 228 ม.11 ถ.เทพารักษ์ กม.14 ต.บางพลีใหญ่ อ.เมือง จ.สมุทรปราการ 0 2744 2000
URL:https://thaibloodcentre.redcross.or.th/event/%e0%b8%9a%e0%b8%a3%e0%b8%b4%e0%b8%a9%e0%b8%b1%e0%b8%97-%e0%b9%80%e0%b8%84%e0%b8%8b%e0%b8%b5%e0%b8%88%e0%b8%b5-%e0%b8%84%e0%b8%ad%e0%b8%a3%e0%b9%8c%e0%b8%9b%e0%b8%ad%e0%b9%80%e0%b8%a3%e0%b8%8a%e0%b8%b1/
LOCATION:บริษัท เคซีจี คอร์ปอเรชั่น จำกัด (มหาชน) สาขาเทพารักษ์\, บริษัท เคซีจี คอร์ปอเรชั่น จำกัด (มหาชน) สาขาเทพารักษ์ 228 ม.11 ถ.เทพารักษ์ ต.บางพลีใหญ่ อ.บางพลี จ.สมุทรปราการ 10540
CATEGORIES:ปฏิทินตารางหน่วยเคลื่อนที่
END:VEVENT
END:VCALENDAR