BEGIN:VCALENDAR
VERSION:2.0
PRODID:-//เว็บไซต์ศูนย์บริการโลหิตแห่งชาติ - ECPv6.11.2.1//NONSGML v1.0//EN
CALSCALE:GREGORIAN
METHOD:PUBLISH
X-ORIGINAL-URL:https://thaibloodcentre.redcross.or.th
X-WR-CALDESC:Events for เว็บไซต์ศูนย์บริการโลหิตแห่งชาติ
REFRESH-INTERVAL;VALUE=DURATION:PT1H
X-Robots-Tag:noindex
X-PUBLISHED-TTL:PT1H
BEGIN:VTIMEZONE
TZID:Asia/Krasnoyarsk
BEGIN:STANDARD
TZOFFSETFROM:+0700
TZOFFSETTO:+0700
TZNAME:+07
DTSTART:20250101T000000
END:STANDARD
END:VTIMEZONE
BEGIN:VTIMEZONE
TZID:Asia/Bangkok
BEGIN:STANDARD
TZOFFSETFROM:+0700
TZOFFSETTO:+0700
TZNAME:+07
DTSTART:20250101T000000
END:STANDARD
END:VTIMEZONE
BEGIN:VEVENT
DTSTART;TZID=Asia/Krasnoyarsk:20251216T090000
DTEND;TZID=Asia/Krasnoyarsk:20251216T150000
DTSTAMP:20260426T095858
CREATED:20251208T073730Z
LAST-MODIFIED:20251208T073730Z
UID:10004706-1765875600-1765897200@thaibloodcentre.redcross.or.th
SUMMARY:บริษัท เคซีจี คอร์ปอเรชั่น จำกัด (มหาชน) สาขาบางพลี []
DESCRIPTION:สถานที่เจาะ : ลานจอดรถเคซีจี (พัก 11.00-12.00 น.) \nที่อยู่ : 79 ม.11 ถ.เทพารักษ์ ต.บางปลา อ.บางพลี จ.สมุทรปราการ 0 2744 2000
URL:https://thaibloodcentre.redcross.or.th/event/%e0%b8%9a%e0%b8%a3%e0%b8%b4%e0%b8%a9%e0%b8%b1%e0%b8%97-%e0%b9%80%e0%b8%84%e0%b8%8b%e0%b8%b5%e0%b8%88%e0%b8%b5-%e0%b8%84%e0%b8%ad%e0%b8%a3%e0%b9%8c%e0%b8%9b%e0%b8%ad%e0%b9%80%e0%b8%a3%e0%b8%8a-7/
LOCATION:บริษัท เคซีจี คอร์ปอเรชั่น จำกัด (มหาชน) สาขาบางพลี\, บริษัท เคซีจี คอร์ปอเรชั่น จำกัด (มหาชน) สาขาบางพลี 79 ม.11 ถ.เทพารักษ์ ต.บางพลีใหญ่ อ.บางพลี จ.สมุทรปราการ 10540
CATEGORIES:ปฏิทินตารางหน่วยเคลื่อนที่
END:VEVENT
BEGIN:VEVENT
DTSTART;TZID=Asia/Bangkok:20250916T090000
DTEND;TZID=Asia/Bangkok:20250916T150000
DTSTAMP:20260426T095858
CREATED:20250905T104940Z
LAST-MODIFIED:20250908T063913Z
UID:10003187-1758013200-1758034800@thaibloodcentre.redcross.or.th
SUMMARY:บริษัท เคซีจี คอร์ปอเรชั่น จำกัด (มหาชน) สาขาบางพลี [0M1012]
DESCRIPTION:สถานที่เจาะ : ลานจอดรถเคซีจี (พัก 11-12 น.) \nที่อยู่ : 79 ม.11 ถ.เทพารักษ์ ต.บางปลา อ.บางพลี จ.สมุทรปราการ 0 2744 2000
URL:https://thaibloodcentre.redcross.or.th/event/%e0%b8%9a%e0%b8%a3%e0%b8%b4%e0%b8%a9%e0%b8%b1%e0%b8%97-%e0%b9%80%e0%b8%84%e0%b8%8b%e0%b8%b5%e0%b8%88%e0%b8%b5-%e0%b8%84%e0%b8%ad%e0%b8%a3%e0%b9%8c%e0%b8%9b%e0%b8%ad%e0%b9%80%e0%b8%a3%e0%b8%8a-5/
LOCATION:บริษัท เคซีจี คอร์ปอเรชั่น จำกัด (มหาชน) สาขาบางพลี\, บริษัท เคซีจี คอร์ปอเรชั่น จำกัด (มหาชน) สาขาบางพลี 79 ม.11 ถ.เทพารักษ์ ต.บางพลีใหญ่ อ.บางพลี จ.สมุทรปราการ 10540
CATEGORIES:ปฏิทินตารางหน่วยเคลื่อนที่
END:VEVENT
BEGIN:VEVENT
DTSTART;TZID=Asia/Bangkok:20250617T090000
DTEND;TZID=Asia/Bangkok:20250617T150000
DTSTAMP:20260426T095858
CREATED:20250612T085955Z
LAST-MODIFIED:20250619T030811Z
UID:10002117-1750150800-1750172400@thaibloodcentre.redcross.or.th
SUMMARY:บริษัท เคซีจี คอร์ปอเรชั่น จำกัด (มหาชน) สาขาบางพลี []
DESCRIPTION:สถานที่เจาะ : ลานจอดรถเคซีจี (พัก 11-12 น.) \nที่อยู่ : 79 ม.11 ถ.เทพารักษ์ ต.บางปลา อ.บางพลี จ.สมุทรปราการ 0 2744 2000
URL:https://thaibloodcentre.redcross.or.th/event/%e0%b8%9a%e0%b8%a3%e0%b8%b4%e0%b8%a9%e0%b8%b1%e0%b8%97-%e0%b9%80%e0%b8%84%e0%b8%8b%e0%b8%b5%e0%b8%88%e0%b8%b5-%e0%b8%84%e0%b8%ad%e0%b8%a3%e0%b9%8c%e0%b8%9b%e0%b8%ad%e0%b9%80%e0%b8%a3%e0%b8%8a-3/
LOCATION:บริษัท เคซีจี คอร์ปอเรชั่น จำกัด (มหาชน) สาขาบางพลี\, บริษัท เคซีจี คอร์ปอเรชั่น จำกัด (มหาชน) สาขาบางพลี 79 ม.11 ถ.เทพารักษ์ ต.บางพลีใหญ่ อ.บางพลี จ.สมุทรปราการ 10540
CATEGORIES:ปฏิทินตารางหน่วยเคลื่อนที่
END:VEVENT
BEGIN:VEVENT
DTSTART;TZID=Asia/Bangkok:20250327T090000
DTEND;TZID=Asia/Bangkok:20250327T150000
DTSTAMP:20260426T095858
CREATED:20250321T102944Z
LAST-MODIFIED:20250321T102944Z
UID:10001035-1743066000-1743087600@thaibloodcentre.redcross.or.th
SUMMARY:บริษัท เคซีจี คอร์ปอเรชั่น จำกัด (มหาชน) สาขาบางพลี [0M1012]
DESCRIPTION:สถานที่เจาะ : ลานจอดรถเคซีจี (พัก 11.00-12.00 น.) \nที่อยู่ : 79 ม.11 ถ.เทพารักษ์ ต.บางปลา อ.บางพลี จ.สมุทรปราการ  \nโทร : 0 2744 2000
URL:https://thaibloodcentre.redcross.or.th/event/%e0%b8%9a%e0%b8%a3%e0%b8%b4%e0%b8%a9%e0%b8%b1%e0%b8%97-%e0%b9%80%e0%b8%84%e0%b8%8b%e0%b8%b5%e0%b8%88%e0%b8%b5-%e0%b8%84%e0%b8%ad%e0%b8%a3%e0%b9%8c%e0%b8%9b%e0%b8%ad%e0%b9%80%e0%b8%a3%e0%b8%8a-2/
LOCATION:บริษัท เคซีจี คอร์ปอเรชั่น จำกัด (มหาชน) สาขาบางพลี\, บริษัท เคซีจี คอร์ปอเรชั่น จำกัด (มหาชน) สาขาบางพลี 79 ม.11 ถ.เทพารักษ์ ต.บางพลีใหญ่ อ.บางพลี จ.สมุทรปราการ 10540
CATEGORIES:ปฏิทินตารางหน่วยเคลื่อนที่
END:VEVENT
END:VCALENDAR