BEGIN:VCALENDAR
VERSION:2.0
PRODID:-//เว็บไซต์ศูนย์บริการโลหิตแห่งชาติ - ECPv6.11.2.1//NONSGML v1.0//EN
CALSCALE:GREGORIAN
METHOD:PUBLISH
X-WR-CALNAME:เว็บไซต์ศูนย์บริการโลหิตแห่งชาติ
X-ORIGINAL-URL:https://thaibloodcentre.redcross.or.th
X-WR-CALDESC:Events for เว็บไซต์ศูนย์บริการโลหิตแห่งชาติ
REFRESH-INTERVAL;VALUE=DURATION:PT1H
X-Robots-Tag:noindex
X-PUBLISHED-TTL:PT1H
BEGIN:VTIMEZONE
TZID:Asia/Krasnoyarsk
BEGIN:STANDARD
TZOFFSETFROM:+0700
TZOFFSETTO:+0700
TZNAME:+07
DTSTART:20250101T000000
END:STANDARD
END:VTIMEZONE
BEGIN:VTIMEZONE
TZID:Asia/Bangkok
BEGIN:STANDARD
TZOFFSETFROM:+0700
TZOFFSETTO:+0700
TZNAME:+07
DTSTART:20250101T000000
END:STANDARD
END:VTIMEZONE
BEGIN:VEVENT
DTSTART;TZID=Asia/Krasnoyarsk:20260306T090000
DTEND;TZID=Asia/Krasnoyarsk:20260306T150000
DTSTAMP:20260424T233236
CREATED:20260304T081501Z
LAST-MODIFIED:20260304T081501Z
UID:10005800-1772787600-1772809200@thaibloodcentre.redcross.or.th
SUMMARY:บริษัท อิมแพ็ค เอ็กซิบิชั่น แมเนจเม้นท์ จำกัด []
DESCRIPTION:สถานที่เจาะ : ห้องแซฟไฟร์ 111-112 อาคารอิมแพ็คฟอรั่ม (พัก 12.00-13.00 น.) \nที่อยู่ : 47/569-576 ถ.ป๊อปปูล่า 3 ต.บ้านใหม่ อ.ปากเกร็ด จ.นนทบุรี 0 2833 5186
URL:https://thaibloodcentre.redcross.or.th/event/%e0%b8%9a%e0%b8%a3%e0%b8%b4%e0%b8%a9%e0%b8%b1%e0%b8%97-%e0%b8%ad%e0%b8%b4%e0%b8%a1%e0%b9%81%e0%b8%9e%e0%b9%87%e0%b8%84-%e0%b9%80%e0%b8%ad%e0%b9%87%e0%b8%81%e0%b8%8b%e0%b8%b4%e0%b8%9a%e0%b8%b4-5/
LOCATION:บริษัท อิมแพ็ค เอ็กซิบิชั่น แมเนจเม้นท์ จำกัด\, IMPACT Forum Building 47/569-576 ม. 3 ชั้น 10 ถ.ป๊อปปูล่า 3 บ้านใหม่ นนทบุรี 11120
CATEGORIES:ปฏิทินตารางหน่วยเคลื่อนที่
END:VEVENT
BEGIN:VEVENT
DTSTART;TZID=Asia/Krasnoyarsk:20251203T090000
DTEND;TZID=Asia/Krasnoyarsk:20251203T150000
DTSTAMP:20260424T233236
CREATED:20251128T090203Z
LAST-MODIFIED:20251128T110224Z
UID:10004522-1764752400-1764774000@thaibloodcentre.redcross.or.th
SUMMARY:บริษัท อิมแพ็ค เอ็กซิบิชั่น แมเนจเม้นท์ จำกัด []
DESCRIPTION:สถานที่เจาะ : ห้องแซฟไฟร์ 113 อาคารอิมแพ็คฟอรั่ม (พัก 12.00-13.00 น.) \nที่อยู่ : 47/569-576 ถ.ป๊อปปูล่า 3 ต.บ้านใหม่ อ.ปากเกร็ด จ.นนทบุรี 0 2833 5186
URL:https://thaibloodcentre.redcross.or.th/event/%e0%b8%9a%e0%b8%a3%e0%b8%b4%e0%b8%a9%e0%b8%b1%e0%b8%97-%e0%b8%ad%e0%b8%b4%e0%b8%a1%e0%b9%81%e0%b8%9e%e0%b9%87%e0%b8%84-%e0%b9%80%e0%b8%ad%e0%b9%87%e0%b8%81%e0%b8%8b%e0%b8%b4%e0%b8%9a%e0%b8%b4-4/
LOCATION:บริษัท อิมแพ็ค เอ็กซิบิชั่น แมเนจเม้นท์ จำกัด\, IMPACT Forum Building 47/569-576 ม. 3 ชั้น 10 ถ.ป๊อปปูล่า 3 บ้านใหม่ นนทบุรี 11120
CATEGORIES:ปฏิทินตารางหน่วยเคลื่อนที่
END:VEVENT
BEGIN:VEVENT
DTSTART;TZID=Asia/Bangkok:20250905T090000
DTEND;TZID=Asia/Bangkok:20250905T150000
DTSTAMP:20260424T233236
CREATED:20250903T034423Z
LAST-MODIFIED:20250903T034423Z
UID:10003075-1757062800-1757084400@thaibloodcentre.redcross.or.th
SUMMARY:บริษัท อิมแพ็ค เอ็กซิบิชั่น แมเนจเม้นท์ จำกัด [0M0393]
DESCRIPTION:สถานที่เจาะ : ห้องแซฟไฟร์ 111-112 อาคารอิมแพ็คฟอรั่ม (พัก 12-13 น.) \nที่อยู่ : 47/569-576 ถ.ป๊อปปูล่า 3 ต.บ้านใหม่ อ.ปากเกร็ด จ.นนทบุรี 0 2833 5186
URL:https://thaibloodcentre.redcross.or.th/event/%e0%b8%9a%e0%b8%a3%e0%b8%b4%e0%b8%a9%e0%b8%b1%e0%b8%97-%e0%b8%ad%e0%b8%b4%e0%b8%a1%e0%b9%81%e0%b8%9e%e0%b9%87%e0%b8%84-%e0%b9%80%e0%b8%ad%e0%b9%87%e0%b8%81%e0%b8%8b%e0%b8%b4%e0%b8%9a%e0%b8%b4-3/
LOCATION:บริษัท อิมแพ็ค เอ็กซิบิชั่น แมเนจเม้นท์ จำกัด\, IMPACT Forum Building 47/569-576 ม. 3 ชั้น 10 ถ.ป๊อปปูล่า 3 บ้านใหม่ นนทบุรี 11120
CATEGORIES:ปฏิทินตารางหน่วยเคลื่อนที่
END:VEVENT
BEGIN:VEVENT
DTSTART;TZID=Asia/Bangkok:20250606T090000
DTEND;TZID=Asia/Bangkok:20250606T150000
DTSTAMP:20260424T233236
CREATED:20250530T123207Z
LAST-MODIFIED:20250707T034457Z
UID:10001955-1749200400-1749222000@thaibloodcentre.redcross.or.th
SUMMARY:บริษัท อิมแพ็ค เอ็กซิบิชั่น แมเนจเม้นท์ จำกัด []
DESCRIPTION:สถานที่เจาะ : ห้องแซฟไฟร์ 113 อาคารอิมแพ็คฟอรั่ม (พัก 12-13 น.) \nที่อยู่ : 47/569-576 ถ.ป๊อปปูล่า 3 ต.บ้านใหม่ อ.ปากเกร็ด จ.นนทบุรี 0 2833 5186
URL:https://thaibloodcentre.redcross.or.th/event/%e0%b8%9a%e0%b8%a3%e0%b8%b4%e0%b8%a9%e0%b8%b1%e0%b8%97-%e0%b8%ad%e0%b8%b4%e0%b8%a1%e0%b9%81%e0%b8%9e%e0%b9%87%e0%b8%84-%e0%b9%80%e0%b8%ad%e0%b9%87%e0%b8%81%e0%b8%8b%e0%b8%b4%e0%b8%9a%e0%b8%b4-2/
LOCATION:บริษัท อิมแพ็ค เอ็กซิบิชั่น แมเนจเม้นท์ จำกัด\, IMPACT Forum Building 47/569-576 ม. 3 ชั้น 10 ถ.ป๊อปปูล่า 3 บ้านใหม่ นนทบุรี 11120
CATEGORIES:ปฏิทินตารางหน่วยเคลื่อนที่
END:VEVENT
BEGIN:VEVENT
DTSTART;TZID=Asia/Bangkok:20250307T090000
DTEND;TZID=Asia/Bangkok:20250307T150000
DTSTAMP:20260424T233236
CREATED:20250303T101449Z
LAST-MODIFIED:20250303T101449Z
UID:10000752-1741338000-1741359600@thaibloodcentre.redcross.or.th
SUMMARY:บริษัท อิมแพ็ค เอ็กซิบิชั่น แมเนจเม้นท์ จำกัด [0M0393]
DESCRIPTION:สถานที่เจาะ : ห้องแซฟไฟร์ 111-112 อาคารอิมแพ็คฟอรั่ม \nที่อยู่ : 47/569-576 ถ.ป๊อปปูล่า 3 ต.บ้านใหม่ อ.ปากเกร็ด จ.นนทบุรี 0 2833 5186
URL:https://thaibloodcentre.redcross.or.th/event/%e0%b8%9a%e0%b8%a3%e0%b8%b4%e0%b8%a9%e0%b8%b1%e0%b8%97-%e0%b8%ad%e0%b8%b4%e0%b8%a1%e0%b9%81%e0%b8%9e%e0%b9%87%e0%b8%84-%e0%b9%80%e0%b8%ad%e0%b9%87%e0%b8%81%e0%b8%8b%e0%b8%b4%e0%b8%9a%e0%b8%b4%e0%b8%8a/
LOCATION:บริษัท อิมแพ็ค เอ็กซิบิชั่น แมเนจเม้นท์ จำกัด\, IMPACT Forum Building 47/569-576 ม. 3 ชั้น 10 ถ.ป๊อปปูล่า 3 บ้านใหม่ นนทบุรี 11120
CATEGORIES:ปฏิทินตารางหน่วยเคลื่อนที่
END:VEVENT
END:VCALENDAR