BEGIN:VCALENDAR
VERSION:2.0
PRODID:-//เว็บไซต์ศูนย์บริการโลหิตแห่งชาติ - ECPv6.11.2.1//NONSGML v1.0//EN
CALSCALE:GREGORIAN
METHOD:PUBLISH
X-ORIGINAL-URL:https://thaibloodcentre.redcross.or.th
X-WR-CALDESC:Events for เว็บไซต์ศูนย์บริการโลหิตแห่งชาติ
REFRESH-INTERVAL;VALUE=DURATION:PT1H
X-Robots-Tag:noindex
X-PUBLISHED-TTL:PT1H
BEGIN:VTIMEZONE
TZID:Asia/Krasnoyarsk
BEGIN:STANDARD
TZOFFSETFROM:+0700
TZOFFSETTO:+0700
TZNAME:+07
DTSTART:20260101T000000
END:STANDARD
END:VTIMEZONE
BEGIN:VTIMEZONE
TZID:Asia/Bangkok
BEGIN:STANDARD
TZOFFSETFROM:+0700
TZOFFSETTO:+0700
TZNAME:+07
DTSTART:20250101T000000
END:STANDARD
END:VTIMEZONE
BEGIN:VEVENT
DTSTART;TZID=Asia/Krasnoyarsk:20260423T090000
DTEND;TZID=Asia/Krasnoyarsk:20260423T150000
DTSTAMP:20260423T162534
CREATED:20260420T061852Z
LAST-MODIFIED:20260420T061852Z
UID:10006528-1776934800-1776956400@thaibloodcentre.redcross.or.th
SUMMARY:บริษัท อลิอันซ์ อยุธยา ประกันชีวิต จำกัด (มหาชน) []
DESCRIPTION:สถานที่เจาะ : ข้างอาคารเพลินจิตทาวเวอร์ (พัก 11.30-12.30 น.) \nที่อยู่ : 898 อาคารเพลินจิตทาวเวอร์ชั้น 6 ถนนเพลินจิต แขวงลุมพินี เขตปทุมวัน กรุงเทพฯ 0 2305 7768
URL:https://thaibloodcentre.redcross.or.th/event/%e0%b8%9a%e0%b8%a3%e0%b8%b4%e0%b8%a9%e0%b8%b1%e0%b8%97-%e0%b8%ad%e0%b8%a5%e0%b8%b4%e0%b8%ad%e0%b8%b1%e0%b8%99%e0%b8%8b%e0%b9%8c-%e0%b8%ad%e0%b8%a2%e0%b8%b8%e0%b8%98%e0%b8%a2%e0%b8%b2-%e0%b8%9b-3/
LOCATION:บริษัท อลิอันซ์ อยุธยา ประกันชีวิต จำกัด (มหาชน)\, อาคารเพลินจิตทาวเวอร์ 898 ชั้น7 ถนนเพลินจิต แขวงลุมพินี เขตปทุมวัน กรุงเทพมหานคร 10330
CATEGORIES:ปฏิทินตารางหน่วยเคลื่อนที่
END:VEVENT
BEGIN:VEVENT
DTSTART;TZID=Asia/Krasnoyarsk:20260122T090000
DTEND;TZID=Asia/Krasnoyarsk:20260122T150000
DTSTAMP:20260423T162534
CREATED:20260120T104123Z
LAST-MODIFIED:20260120T104123Z
UID:10005207-1769072400-1769094000@thaibloodcentre.redcross.or.th
SUMMARY:บริษัท อลิอันซ์ อยุธยา ประกันชีวิต จำกัด (มหาชน) []
DESCRIPTION:สถานที่เจาะ : ข้างอาคารเพลินจิตทาวเวอร์ (พัก 11.30-12.30 น.) \nที่อยู่ : 898 อาคารเพลินจิตทาวเวอร์ชั้น 6 ถนนเพลินจิต แขวงลุมพินี เขตปทุมวัน กรุงเทพฯ 0 2305 7768
URL:https://thaibloodcentre.redcross.or.th/event/%e0%b8%9a%e0%b8%a3%e0%b8%b4%e0%b8%a9%e0%b8%b1%e0%b8%97-%e0%b8%ad%e0%b8%a5%e0%b8%b4%e0%b8%ad%e0%b8%b1%e0%b8%99%e0%b8%8b%e0%b9%8c-%e0%b8%ad%e0%b8%a2%e0%b8%b8%e0%b8%98%e0%b8%a2%e0%b8%b2-%e0%b8%9b-2/
LOCATION:บริษัท อลิอันซ์ อยุธยา ประกันชีวิต จำกัด (มหาชน)\, อาคารเพลินจิตทาวเวอร์ 898 ชั้น7 ถนนเพลินจิต แขวงลุมพินี เขตปทุมวัน กรุงเทพมหานคร 10330
CATEGORIES:ปฏิทินตารางหน่วยเคลื่อนที่
END:VEVENT
BEGIN:VEVENT
DTSTART;TZID=Asia/Bangkok:20250430T090000
DTEND;TZID=Asia/Bangkok:20250430T150000
DTSTAMP:20260423T162534
CREATED:20250424T064824Z
LAST-MODIFIED:20250424T064824Z
UID:10001535-1746003600-1746025200@thaibloodcentre.redcross.or.th
SUMMARY:บริษัท อลิอันซ์ อยุธยา ประกันชีวิต จำกัด (มหาชน) []
DESCRIPTION:สถานที่เจาะ : ข้างอาคารเพลินจิตทาวเวอร์ (พัก 11.30-12.30 น.) \nที่อยู่ : 898 อาคารเพลินจิตทาวเวอร์ชั้น 6 ถนนเพลินจิต แขวงลุมพินี เขตปทุมวัน กรุงเทพฯ 0 2305 7768
URL:https://thaibloodcentre.redcross.or.th/event/%e0%b8%9a%e0%b8%a3%e0%b8%b4%e0%b8%a9%e0%b8%b1%e0%b8%97-%e0%b8%ad%e0%b8%a5%e0%b8%b4%e0%b8%ad%e0%b8%b1%e0%b8%99%e0%b8%8b%e0%b9%8c-%e0%b8%ad%e0%b8%a2%e0%b8%b8%e0%b8%98%e0%b8%a2%e0%b8%b2-%e0%b8%9b/
LOCATION:บริษัท อลิอันซ์ อยุธยา ประกันชีวิต จำกัด (มหาชน)\, อาคารเพลินจิตทาวเวอร์ 898 ชั้น7 ถนนเพลินจิต แขวงลุมพินี เขตปทุมวัน กรุงเทพมหานคร 10330
CATEGORIES:ปฏิทินตารางหน่วยเคลื่อนที่
END:VEVENT
END:VCALENDAR