BEGIN:VCALENDAR
VERSION:2.0
PRODID:-//เว็บไซต์ศูนย์บริการโลหิตแห่งชาติ - ECPv6.11.2.1//NONSGML v1.0//EN
CALSCALE:GREGORIAN
METHOD:PUBLISH
X-WR-CALNAME:เว็บไซต์ศูนย์บริการโลหิตแห่งชาติ
X-ORIGINAL-URL:https://thaibloodcentre.redcross.or.th
X-WR-CALDESC:Events for เว็บไซต์ศูนย์บริการโลหิตแห่งชาติ
REFRESH-INTERVAL;VALUE=DURATION:PT1H
X-Robots-Tag:noindex
X-PUBLISHED-TTL:PT1H
BEGIN:VTIMEZONE
TZID:Asia/Bangkok
BEGIN:STANDARD
TZOFFSETFROM:+0700
TZOFFSETTO:+0700
TZNAME:+07
DTSTART:20250101T000000
END:STANDARD
END:VTIMEZONE
BEGIN:VEVENT
DTSTART;TZID=Asia/Bangkok:20251016T090000
DTEND;TZID=Asia/Bangkok:20251016T150000
DTSTAMP:20260426T090643
CREATED:20251003T102054Z
LAST-MODIFIED:20251003T102054Z
UID:10003662-1760605200-1760626800@thaibloodcentre.redcross.or.th
SUMMARY:บริษัท ศรีสวัสดิ์ แคปปิตอล 1969 จำกัด (มหาชน) และบริษัทในเครือ [0N0065]
DESCRIPTION:สถานที่เจาะ : ชั้น 1 (พัก 11-12 น.) \nที่อยู่ : 99/392 ชั้น 3 ซอยแจ้งวัฒนะ 10 แยก 3 ถนนแจ้งวัฒนะ แขวงทุ่งสองห้อง เขตหลักสี่ กรุงเทพฯ 0 2073 0677
URL:https://thaibloodcentre.redcross.or.th/event/%e0%b8%9a%e0%b8%a3%e0%b8%b4%e0%b8%a9%e0%b8%b1%e0%b8%97-%e0%b8%a8%e0%b8%a3%e0%b8%b5%e0%b8%aa%e0%b8%a7%e0%b8%b1%e0%b8%aa%e0%b8%94%e0%b8%b4%e0%b9%8c-%e0%b9%81%e0%b8%84%e0%b8%9b%e0%b8%9b%e0%b8%b4-3/
LOCATION:บริษัท ศรีสวัสดิ์ แคปปิตอล 1969 จำกัด (มหาชน) และบริษัทในเครือ\, บริษัท ศรีสวัสดิ์ แคปปิตอล1969 จำกัด (มหาชน) 99/392 อาคารศรีสวัสดิ์ ซอยแจ้งวัฒนะ 10 แยก 3 (เบญจมิตร) ถนนแจ้งวัฒนะ แขวงทุ่งสองห้อง เขตหลักสี่ กรุงเทพมหานคร 10210
CATEGORIES:ปฏิทินตารางหน่วยเคลื่อนที่
END:VEVENT
BEGIN:VEVENT
DTSTART;TZID=Asia/Bangkok:20250619T090000
DTEND;TZID=Asia/Bangkok:20250619T150000
DTSTAMP:20260426T090643
CREATED:20250612T093341Z
LAST-MODIFIED:20250619T032616Z
UID:10002160-1750323600-1750345200@thaibloodcentre.redcross.or.th
SUMMARY:บริษัท ศรีสวัสดิ์ แคปปิตอล 1969 จำกัด (มหาชน) และบริษัทในเครือ []
DESCRIPTION:สถานที่เจาะ : ชั้น 1 (พัก 11-12 น.) \nที่อยู่ : 99/392 ชั้น 3 ซอยแจ้งวัฒนะ 10 แยก 3 ถนนแจ้งวัฒนะ แขวงทุ่งสองห้อง เขตหลักสี่ กรุงเทพฯ 0 2073 0677
URL:https://thaibloodcentre.redcross.or.th/event/%e0%b8%9a%e0%b8%a3%e0%b8%b4%e0%b8%a9%e0%b8%b1%e0%b8%97-%e0%b8%a8%e0%b8%a3%e0%b8%b5%e0%b8%aa%e0%b8%a7%e0%b8%b1%e0%b8%aa%e0%b8%94%e0%b8%b4%e0%b9%8c-%e0%b9%81%e0%b8%84%e0%b8%9b%e0%b8%9b%e0%b8%b4-2/
LOCATION:บริษัท ศรีสวัสดิ์ แคปปิตอล 1969 จำกัด (มหาชน) และบริษัทในเครือ\, บริษัท ศรีสวัสดิ์ แคปปิตอล1969 จำกัด (มหาชน) 99/392 อาคารศรีสวัสดิ์ ซอยแจ้งวัฒนะ 10 แยก 3 (เบญจมิตร) ถนนแจ้งวัฒนะ แขวงทุ่งสองห้อง เขตหลักสี่ กรุงเทพมหานคร 10210
CATEGORIES:ปฏิทินตารางหน่วยเคลื่อนที่
END:VEVENT
BEGIN:VEVENT
DTSTART;TZID=Asia/Bangkok:20250219T090000
DTEND;TZID=Asia/Bangkok:20250219T150000
DTSTAMP:20260426T090643
CREATED:20250216T081739Z
LAST-MODIFIED:20250216T081739Z
UID:10000608-1739955600-1739977200@thaibloodcentre.redcross.or.th
SUMMARY:บริษัท ศรีสวัสดิ์ แคปปิตอล 1969 จำกัด (มหาชน) และบริษัทในเครือ [0N0065]
DESCRIPTION:สถานที่เจาะ : ชั้น 1 (พัก 11.00-12.00 น.) \nที่อยู่ : 99/392 ชั้น 3 ซอยแจ้งวัฒนะ 10 แยก 3 ถนนแจ้งวัฒนะ แขวงทุ่งสองห้อง เขตหลักสี่ กรุงเทพฯ  \nโทร : 0 2073 0677
URL:https://thaibloodcentre.redcross.or.th/event/%e0%b8%9a%e0%b8%a3%e0%b8%b4%e0%b8%a9%e0%b8%b1%e0%b8%97-%e0%b8%a8%e0%b8%a3%e0%b8%b5%e0%b8%aa%e0%b8%a7%e0%b8%b1%e0%b8%aa%e0%b8%94%e0%b8%b4%e0%b9%8c-%e0%b9%81%e0%b8%84%e0%b8%9b%e0%b8%9b%e0%b8%b4%e0%b8%95/
LOCATION:บริษัท ศรีสวัสดิ์ แคปปิตอล 1969 จำกัด (มหาชน) และบริษัทในเครือ\, บริษัท ศรีสวัสดิ์ แคปปิตอล1969 จำกัด (มหาชน) 99/392 อาคารศรีสวัสดิ์ ซอยแจ้งวัฒนะ 10 แยก 3 (เบญจมิตร) ถนนแจ้งวัฒนะ แขวงทุ่งสองห้อง เขตหลักสี่ กรุงเทพมหานคร 10210
CATEGORIES:ปฏิทินตารางหน่วยเคลื่อนที่
END:VEVENT
END:VCALENDAR