BEGIN:VCALENDAR
VERSION:2.0
PRODID:-//เว็บไซต์ศูนย์บริการโลหิตแห่งชาติ - ECPv6.11.2.1//NONSGML v1.0//EN
CALSCALE:GREGORIAN
METHOD:PUBLISH
X-ORIGINAL-URL:https://thaibloodcentre.redcross.or.th
X-WR-CALDESC:Events for เว็บไซต์ศูนย์บริการโลหิตแห่งชาติ
REFRESH-INTERVAL;VALUE=DURATION:PT1H
X-Robots-Tag:noindex
X-PUBLISHED-TTL:PT1H
BEGIN:VTIMEZONE
TZID:Asia/Krasnoyarsk
BEGIN:STANDARD
TZOFFSETFROM:+0700
TZOFFSETTO:+0700
TZNAME:+07
DTSTART:20250101T000000
END:STANDARD
END:VTIMEZONE
BEGIN:VTIMEZONE
TZID:Asia/Bangkok
BEGIN:STANDARD
TZOFFSETFROM:+0700
TZOFFSETTO:+0700
TZNAME:+07
DTSTART:20250101T000000
END:STANDARD
END:VTIMEZONE
BEGIN:VEVENT
DTSTART;TZID=Asia/Krasnoyarsk:20251127T090000
DTEND;TZID=Asia/Krasnoyarsk:20251127T120000
DTSTAMP:20260424T033322
CREATED:20251124T025848Z
LAST-MODIFIED:20251124T025848Z
UID:10004429-1764234000-1764244800@thaibloodcentre.redcross.or.th
SUMMARY:บริษัท วโรปกรณ์ จำกัด (มหาชน) []
DESCRIPTION:สถานที่เจาะ : หน้าฝ่ายบุคคล \nที่อยู่ : 280 หมู่ 4 ซ.เทศบาลบางปู 101 ถ.สุขุมวิท ต.บางปูใหม่ อ.เมือง จ.สมุทรปราการ 0 2323 1684
URL:https://thaibloodcentre.redcross.or.th/event/%e0%b8%9a%e0%b8%a3%e0%b8%b4%e0%b8%a9%e0%b8%b1%e0%b8%97-%e0%b8%a7%e0%b9%82%e0%b8%a3%e0%b8%9b%e0%b8%81%e0%b8%a3%e0%b8%93%e0%b9%8c-%e0%b8%88%e0%b8%b3%e0%b8%81%e0%b8%b1%e0%b8%94-%e0%b8%a1%e0%b8%ab-2/
LOCATION:บริษัท วโรปกรณ์ จำกัด (มหาชน)\, บริษัท วโรปกรณ์ จำกัด (มหาชน) 280 ม.4 ถ.สุขุมวิท ต.บางปูใหม่ อ.เมือง จ.สมุทรปราการ 10280
CATEGORIES:ปฏิทินตารางหน่วยเคลื่อนที่
END:VEVENT
BEGIN:VEVENT
DTSTART;TZID=Asia/Bangkok:20250828T090000
DTEND;TZID=Asia/Bangkok:20250828T120000
DTSTAMP:20260424T033322
CREATED:20250817T114026Z
LAST-MODIFIED:20250817T114026Z
UID:10002946-1756371600-1756382400@thaibloodcentre.redcross.or.th
SUMMARY:บริษัท วโรปกรณ์ จำกัด (มหาชน) [0N0051]
DESCRIPTION:สถานที่เจาะ : หน้าฝ่ายบุคคล \nที่อยู่ : 280 หมู่ 4 ซ.เทศบาลบางปู 101 ถ.สุขุมวิท ต.บางปูใหม่ อ.เมือง จ.สมุทรปราการ 0 2323 1684
URL:https://thaibloodcentre.redcross.or.th/event/%e0%b8%9a%e0%b8%a3%e0%b8%b4%e0%b8%a9%e0%b8%b1%e0%b8%97-%e0%b8%a7%e0%b9%82%e0%b8%a3%e0%b8%9b%e0%b8%81%e0%b8%a3%e0%b8%93%e0%b9%8c-%e0%b8%88%e0%b8%b3%e0%b8%81%e0%b8%b1%e0%b8%94-%e0%b8%a1%e0%b8%ab/
LOCATION:บริษัท วโรปกรณ์ จำกัด (มหาชน)\, บริษัท วโรปกรณ์ จำกัด (มหาชน) 280 ม.4 ถ.สุขุมวิท ต.บางปูใหม่ อ.เมือง จ.สมุทรปราการ 10280
CATEGORIES:ปฏิทินตารางหน่วยเคลื่อนที่
END:VEVENT
END:VCALENDAR