BEGIN:VCALENDAR
VERSION:2.0
PRODID:-//เว็บไซต์ศูนย์บริการโลหิตแห่งชาติ - ECPv6.11.2.1//NONSGML v1.0//EN
CALSCALE:GREGORIAN
METHOD:PUBLISH
X-ORIGINAL-URL:https://thaibloodcentre.redcross.or.th
X-WR-CALDESC:Events for เว็บไซต์ศูนย์บริการโลหิตแห่งชาติ
REFRESH-INTERVAL;VALUE=DURATION:PT1H
X-Robots-Tag:noindex
X-PUBLISHED-TTL:PT1H
BEGIN:VTIMEZONE
TZID:Asia/Krasnoyarsk
BEGIN:STANDARD
TZOFFSETFROM:+0700
TZOFFSETTO:+0700
TZNAME:+07
DTSTART:20250101T000000
END:STANDARD
END:VTIMEZONE
BEGIN:VTIMEZONE
TZID:Asia/Bangkok
BEGIN:STANDARD
TZOFFSETFROM:+0700
TZOFFSETTO:+0700
TZNAME:+07
DTSTART:20250101T000000
END:STANDARD
END:VTIMEZONE
BEGIN:VEVENT
DTSTART;TZID=Asia/Krasnoyarsk:20260218T090000
DTEND;TZID=Asia/Krasnoyarsk:20260218T150000
DTSTAMP:20260424T133211
CREATED:20260218T023323Z
LAST-MODIFIED:20260218T023323Z
UID:10005678-1771405200-1771426800@thaibloodcentre.redcross.or.th
SUMMARY:บริษัท วัชรพล จำกัด []
DESCRIPTION:สถานที่เจาะ : ด้านหน้าอาคาร 12 (พัก 12.00-13.00 น.) \nที่อยู่ : 1 ถนนวิภาวดีรังสิต แขวงจอมพล เขตจตุจักร กรุงเทพฯ 0 2272 1030
URL:https://thaibloodcentre.redcross.or.th/event/%e0%b8%9a%e0%b8%a3%e0%b8%b4%e0%b8%a9%e0%b8%b1%e0%b8%97-%e0%b8%a7%e0%b8%b1%e0%b8%8a%e0%b8%a3%e0%b8%9e%e0%b8%a5-%e0%b8%88%e0%b8%b3%e0%b8%81%e0%b8%b1%e0%b8%94-3/
LOCATION:บริษัท วัชรพล จำกัด\, บริษัท วัชรพล จำกัด 1 ถนนวิภาวดีรังสิต แขวงจอมพล เขตจตุจักร กรุงเทพมหานคร 10900
CATEGORIES:ปฏิทินตารางหน่วยเคลื่อนที่
END:VEVENT
BEGIN:VEVENT
DTSTART;TZID=Asia/Krasnoyarsk:20251118T090000
DTEND;TZID=Asia/Krasnoyarsk:20251118T150000
DTSTAMP:20260424T133212
CREATED:20251117T022935Z
LAST-MODIFIED:20251117T022935Z
UID:10004292-1763456400-1763478000@thaibloodcentre.redcross.or.th
SUMMARY:บริษัท วัชรพล จำกัด []
DESCRIPTION:สถานที่เจาะ : ด้านหน้าอาคาร 12 (พัก 12.00-13.00 น.) \nที่อยู่ : 1 ถนนวิภาวดีรังสิต แขวงจอมพล เขตจตุจักร กรุงเทพฯ 0 2272 1030
URL:https://thaibloodcentre.redcross.or.th/event/%e0%b8%9a%e0%b8%a3%e0%b8%b4%e0%b8%a9%e0%b8%b1%e0%b8%97-%e0%b8%a7%e0%b8%b1%e0%b8%8a%e0%b8%a3%e0%b8%9e%e0%b8%a5-%e0%b8%88%e0%b8%b3%e0%b8%81%e0%b8%b1%e0%b8%94-2/
LOCATION:บริษัท วัชรพล จำกัด\, บริษัท วัชรพล จำกัด 1 ถนนวิภาวดีรังสิต แขวงจอมพล เขตจตุจักร กรุงเทพมหานคร 10900
CATEGORIES:ปฏิทินตารางหน่วยเคลื่อนที่
END:VEVENT
BEGIN:VEVENT
DTSTART;TZID=Asia/Bangkok:20250521T090000
DTEND;TZID=Asia/Bangkok:20250521T150000
DTSTAMP:20260424T133212
CREATED:20250515T094813Z
LAST-MODIFIED:20250515T094813Z
UID:10001816-1747818000-1747839600@thaibloodcentre.redcross.or.th
SUMMARY:บริษัท วัชรพล จำกัด []
DESCRIPTION:สถานที่เจาะ : ด้านหน้าอาคาร 12 (พัก 12-13 น.) \nที่อยู่ : 1 ถนนวิภาวดีรังสิต แขวงจอมพล เขตจตุจักร กรุงเทพฯ 0 2272 1030
URL:https://thaibloodcentre.redcross.or.th/event/%e0%b8%9a%e0%b8%a3%e0%b8%b4%e0%b8%a9%e0%b8%b1%e0%b8%97-%e0%b8%a7%e0%b8%b1%e0%b8%8a%e0%b8%a3%e0%b8%9e%e0%b8%a5-%e0%b8%88%e0%b8%b3%e0%b8%81%e0%b8%b1%e0%b8%94/
LOCATION:บริษัท วัชรพล จำกัด\, บริษัท วัชรพล จำกัด 1 ถนนวิภาวดีรังสิต แขวงจอมพล เขตจตุจักร กรุงเทพมหานคร 10900
CATEGORIES:ปฏิทินตารางหน่วยเคลื่อนที่
END:VEVENT
BEGIN:VEVENT
DTSTART;TZID=Asia/Bangkok:20250218T090000
DTEND;TZID=Asia/Bangkok:20250218T150000
DTSTAMP:20260424T133212
CREATED:20250216T080911Z
LAST-MODIFIED:20250216T080911Z
UID:10000584-1739869200-1739890800@thaibloodcentre.redcross.or.th
SUMMARY:บริษัท วัชรพล จำกัด [0M0779]
DESCRIPTION:สถานที่เจาะ : ด้านหน้าอาคาร 12 (พัก 12.00-13.00 น.) \nที่อยู่ : 1 ถนนวิภาวดีรังสิต แขวงจอมพล เขตจตุจักร กรุงเทพฯ  \nโทร : 0 2272 1030
URL:https://thaibloodcentre.redcross.or.th/event/%e0%b8%9a%e0%b8%a3%e0%b8%b4%e0%b8%a9%e0%b8%b1%e0%b8%97-%e0%b8%a7%e0%b8%b1%e0%b8%8a%e0%b8%a3%e0%b8%9e%e0%b8%a5-%e0%b8%88%e0%b8%b3%e0%b8%81%e0%b8%b1%e0%b8%94-0m0779/
LOCATION:บริษัท วัชรพล จำกัด\, บริษัท วัชรพล จำกัด 1 ถนนวิภาวดีรังสิต แขวงจอมพล เขตจตุจักร กรุงเทพมหานคร 10900
CATEGORIES:ปฏิทินตารางหน่วยเคลื่อนที่
END:VEVENT
END:VCALENDAR