BEGIN:VCALENDAR
VERSION:2.0
PRODID:-//เว็บไซต์ศูนย์บริการโลหิตแห่งชาติ - ECPv6.11.2.1//NONSGML v1.0//EN
CALSCALE:GREGORIAN
METHOD:PUBLISH
X-WR-CALNAME:เว็บไซต์ศูนย์บริการโลหิตแห่งชาติ
X-ORIGINAL-URL:https://thaibloodcentre.redcross.or.th
X-WR-CALDESC:Events for เว็บไซต์ศูนย์บริการโลหิตแห่งชาติ
REFRESH-INTERVAL;VALUE=DURATION:PT1H
X-Robots-Tag:noindex
X-PUBLISHED-TTL:PT1H
BEGIN:VTIMEZONE
TZID:Asia/Krasnoyarsk
BEGIN:STANDARD
TZOFFSETFROM:+0700
TZOFFSETTO:+0700
TZNAME:+07
DTSTART:20250101T000000
END:STANDARD
END:VTIMEZONE
BEGIN:VTIMEZONE
TZID:Asia/Bangkok
BEGIN:STANDARD
TZOFFSETFROM:+0700
TZOFFSETTO:+0700
TZNAME:+07
DTSTART:20250101T000000
END:STANDARD
END:VTIMEZONE
BEGIN:VEVENT
DTSTART;TZID=Asia/Krasnoyarsk:20260410T090000
DTEND;TZID=Asia/Krasnoyarsk:20260410T150000
DTSTAMP:20260425T111101
CREATED:20260408T073302Z
LAST-MODIFIED:20260408T073302Z
UID:10006439-1775811600-1775833200@thaibloodcentre.redcross.or.th
SUMMARY:บริษัท ลีพัฒนาผลิตภัณฑ์ จำกัด (มหาชน) [0E0950]
DESCRIPTION:สถานที่เจาะ : อาคารวอลสตรีททาวเวอร์ ชั้น 24 (พัก 11.30-12.30 น.) \nที่อยู่ : 33/137 ถนนสุรวงศ์ แขวงสุริยวงศ์ เขตบางรัก กรุงเทพฯ  \nโทร : 0 2632 7300
URL:https://thaibloodcentre.redcross.or.th/event/%e0%b8%9a%e0%b8%a3%e0%b8%b4%e0%b8%a9%e0%b8%b1%e0%b8%97-%e0%b8%a5%e0%b8%b5%e0%b8%9e%e0%b8%b1%e0%b8%92%e0%b8%99%e0%b8%b2%e0%b8%9c%e0%b8%a5%e0%b8%b4%e0%b8%95%e0%b8%a0%e0%b8%b1%e0%b8%93%e0%b8%91-3/
LOCATION:บริษัท ลีพัฒนาผลิตภัณฑ์ จำกัด (มหาชน)\, อาคารวอลสตรีททาวเวอร์ 33 ถนนสุรวงศ์ แขวงสุริยวงศ์ เขตบางรัก กรุงเทพมหานคร 10500
CATEGORIES:ปฏิทินตารางหน่วยเคลื่อนที่
END:VEVENT
BEGIN:VEVENT
DTSTART;TZID=Asia/Krasnoyarsk:20251212T090000
DTEND;TZID=Asia/Krasnoyarsk:20251212T150000
DTSTAMP:20260425T111101
CREATED:20251208T073137Z
LAST-MODIFIED:20251208T073137Z
UID:10004646-1765530000-1765551600@thaibloodcentre.redcross.or.th
SUMMARY:บริษัท ลีพัฒนาผลิตภัณฑ์ จำกัด (มหาชน) []
DESCRIPTION:สถานที่เจาะ : อาคารวอลสตรีททาวเวอร์ ชั้น 24 (พัก 11.30-12.30 น.) \nที่อยู่ : 33/137 ถนนสุรวงศ์ แขวงสุริยวงศ์ เขตบางรัก กรุงเทพฯ 0 2632 7300
URL:https://thaibloodcentre.redcross.or.th/event/%e0%b8%9a%e0%b8%a3%e0%b8%b4%e0%b8%a9%e0%b8%b1%e0%b8%97-%e0%b8%a5%e0%b8%b5%e0%b8%9e%e0%b8%b1%e0%b8%92%e0%b8%99%e0%b8%b2%e0%b8%9c%e0%b8%a5%e0%b8%b4%e0%b8%95%e0%b8%a0%e0%b8%b1%e0%b8%93%e0%b8%91-2/
LOCATION:บริษัท ลีพัฒนาผลิตภัณฑ์ จำกัด (มหาชน)\, อาคารวอลสตรีททาวเวอร์ 33 ถนนสุรวงศ์ แขวงสุริยวงศ์ เขตบางรัก กรุงเทพมหานคร 10500
CATEGORIES:ปฏิทินตารางหน่วยเคลื่อนที่
END:VEVENT
BEGIN:VEVENT
DTSTART;TZID=Asia/Bangkok:20250404T090000
DTEND;TZID=Asia/Bangkok:20250404T150000
DTSTAMP:20260425T111101
CREATED:20250328T032818Z
LAST-MODIFIED:20250328T032818Z
UID:10001169-1743757200-1743778800@thaibloodcentre.redcross.or.th
SUMMARY:บริษัท ลีพัฒนาผลิตภัณฑ์ จำกัด (มหาชน) [0E0950]
DESCRIPTION:สถานที่เจาะ : อาคารวอลสตรีททาวเวอร์ ชั้น 24 (พัก 11.30-12.30 น.) \nที่อยู่ : 33/137 ถนนสุรวงศ์ แขวงสุริยวงศ์ เขตบางรัก กรุงเทพฯ 0 2632 7300
URL:https://thaibloodcentre.redcross.or.th/event/%e0%b8%9a%e0%b8%a3%e0%b8%b4%e0%b8%a9%e0%b8%b1%e0%b8%97-%e0%b8%a5%e0%b8%b5%e0%b8%9e%e0%b8%b1%e0%b8%92%e0%b8%99%e0%b8%b2%e0%b8%9c%e0%b8%a5%e0%b8%b4%e0%b8%95%e0%b8%a0%e0%b8%b1%e0%b8%93%e0%b8%91%e0%b9%8c/
LOCATION:บริษัท ลีพัฒนาผลิตภัณฑ์ จำกัด (มหาชน)\, อาคารวอลสตรีททาวเวอร์ 33 ถนนสุรวงศ์ แขวงสุริยวงศ์ เขตบางรัก กรุงเทพมหานคร 10500
CATEGORIES:ปฏิทินตารางหน่วยเคลื่อนที่
END:VEVENT
END:VCALENDAR