BEGIN:VCALENDAR
VERSION:2.0
PRODID:-//เว็บไซต์ศูนย์บริการโลหิตแห่งชาติ - ECPv6.11.2.1//NONSGML v1.0//EN
CALSCALE:GREGORIAN
METHOD:PUBLISH
X-ORIGINAL-URL:https://thaibloodcentre.redcross.or.th
X-WR-CALDESC:Events for เว็บไซต์ศูนย์บริการโลหิตแห่งชาติ
REFRESH-INTERVAL;VALUE=DURATION:PT1H
X-Robots-Tag:noindex
X-PUBLISHED-TTL:PT1H
BEGIN:VTIMEZONE
TZID:Asia/Krasnoyarsk
BEGIN:STANDARD
TZOFFSETFROM:+0700
TZOFFSETTO:+0700
TZNAME:+07
DTSTART:20260101T000000
END:STANDARD
END:VTIMEZONE
BEGIN:VTIMEZONE
TZID:Asia/Bangkok
BEGIN:STANDARD
TZOFFSETFROM:+0700
TZOFFSETTO:+0700
TZNAME:+07
DTSTART:20250101T000000
END:STANDARD
END:VTIMEZONE
BEGIN:VEVENT
DTSTART;TZID=Asia/Krasnoyarsk:20260423T090000
DTEND;TZID=Asia/Krasnoyarsk:20260423T150000
DTSTAMP:20260424T122106
CREATED:20260420T061839Z
LAST-MODIFIED:20260420T061839Z
UID:10006524-1776934800-1776956400@thaibloodcentre.redcross.or.th
SUMMARY:บริษัท รสา ทาวเวอร์ จำกัด []
DESCRIPTION:สถานที่เจาะ : ห้องประชุม ชั้นใต้ดิน (พัก 11.30-12.30 น.) \nที่อยู่ : 555 ชั้น G อาคารรสาทาวเวอร์ ถนนพหลโยธิน แขวงจตุจักร เขตจตุจักร กรุงเทพฯ 0 2937 0000
URL:https://thaibloodcentre.redcross.or.th/event/%e0%b8%9a%e0%b8%a3%e0%b8%b4%e0%b8%a9%e0%b8%b1%e0%b8%97-%e0%b8%a3%e0%b8%aa%e0%b8%b2-%e0%b8%97%e0%b8%b2%e0%b8%a7%e0%b9%80%e0%b8%a7%e0%b8%ad%e0%b8%a3%e0%b9%8c-%e0%b8%88%e0%b8%b3%e0%b8%81%e0%b8%b1-5/
LOCATION:บริษัท รสา ทาวเวอร์ จำกัด\, บริษัท รสา ทาวเวอร์ จำกัด 555 ถนนพหลโยธิน แขวงจตุจักร เขตจตุจักร กรุงเทพมหานคร 10900
CATEGORIES:ปฏิทินตารางหน่วยเคลื่อนที่
END:VEVENT
BEGIN:VEVENT
DTSTART;TZID=Asia/Krasnoyarsk:20260114T090000
DTEND;TZID=Asia/Krasnoyarsk:20260114T150000
DTSTAMP:20260424T122106
CREATED:20260113T115519Z
LAST-MODIFIED:20260113T115519Z
UID:10005099-1768381200-1768402800@thaibloodcentre.redcross.or.th
SUMMARY:บริษัท รสา ทาวเวอร์ จำกัด []
DESCRIPTION:สถานที่เจาะ : ห้องประชุม ชั้นใต้ดิน (พัก 11.30-12.30 น.) \nที่อยู่ : 555 ชั้น G อาคารรสาทาวเวอร์ ถนนพหลโยธิน แขวงจตุจักร เขตจตุจักร กรุงเทพฯ 0 2937 0000
URL:https://thaibloodcentre.redcross.or.th/event/%e0%b8%9a%e0%b8%a3%e0%b8%b4%e0%b8%a9%e0%b8%b1%e0%b8%97-%e0%b8%a3%e0%b8%aa%e0%b8%b2-%e0%b8%97%e0%b8%b2%e0%b8%a7%e0%b9%80%e0%b8%a7%e0%b8%ad%e0%b8%a3%e0%b9%8c-%e0%b8%88%e0%b8%b3%e0%b8%81%e0%b8%b1-4/
LOCATION:บริษัท รสา ทาวเวอร์ จำกัด\, บริษัท รสา ทาวเวอร์ จำกัด 555 ถนนพหลโยธิน แขวงจตุจักร เขตจตุจักร กรุงเทพมหานคร 10900
CATEGORIES:ปฏิทินตารางหน่วยเคลื่อนที่
END:VEVENT
BEGIN:VEVENT
DTSTART;TZID=Asia/Bangkok:20251017T150000
DTEND;TZID=Asia/Bangkok:20251017T150000
DTSTAMP:20260424T122106
CREATED:20251014T061327Z
LAST-MODIFIED:20251014T061327Z
UID:10003679-1760713200-1760713200@thaibloodcentre.redcross.or.th
SUMMARY:บริษัท รสา ทาวเวอร์ จำกัด [บริษัท รสา ทาวเวอร์ จำกัด]
DESCRIPTION:สถานที่เจาะ : 555 ชั้น G อาคารรสาทาวเวอร์ ถนนพหลโยธิน \nที่อยู่ : แขวงจตุจักร เขตจตุจักร กรุงเทพฯ 0 2937 0000
URL:https://thaibloodcentre.redcross.or.th/event/%e0%b8%9a%e0%b8%a3%e0%b8%b4%e0%b8%a9%e0%b8%b1%e0%b8%97-%e0%b8%a3%e0%b8%aa%e0%b8%b2-%e0%b8%97%e0%b8%b2%e0%b8%a7%e0%b9%80%e0%b8%a7%e0%b8%ad%e0%b8%a3%e0%b9%8c-%e0%b8%88%e0%b8%b3%e0%b8%81%e0%b8%b1-3/
LOCATION:บริษัท รสา ทาวเวอร์ จำกัด\, บริษัท รสา ทาวเวอร์ จำกัด 555 ถนนพหลโยธิน แขวงจตุจักร เขตจตุจักร กรุงเทพมหานคร 10900
CATEGORIES:ปฏิทินตารางหน่วยเคลื่อนที่
END:VEVENT
BEGIN:VEVENT
DTSTART;TZID=Asia/Bangkok:20250724T090000
DTEND;TZID=Asia/Bangkok:20250724T150000
DTSTAMP:20260424T122106
CREATED:20250716T110835Z
LAST-MODIFIED:20250716T110835Z
UID:10002453-1753347600-1753369200@thaibloodcentre.redcross.or.th
SUMMARY:บริษัท รสา ทาวเวอร์ จำกัด []
DESCRIPTION:สถานที่เจาะ : ห้องประชุมชั้นใต้ดิน (พัก 11.30-12.30 น.) \nที่อยู่ : 555 ชั้น G อาคารรสาทาวเวอร์ ถนนพหลโยธิน แขวงจตุจักร เขตจตุจักร กรุงเทพฯ 0 2937 0000
URL:https://thaibloodcentre.redcross.or.th/event/%e0%b8%9a%e0%b8%a3%e0%b8%b4%e0%b8%a9%e0%b8%b1%e0%b8%97-%e0%b8%a3%e0%b8%aa%e0%b8%b2-%e0%b8%97%e0%b8%b2%e0%b8%a7%e0%b9%80%e0%b8%a7%e0%b8%ad%e0%b8%a3%e0%b9%8c-%e0%b8%88%e0%b8%b3%e0%b8%81%e0%b8%b1-2/
LOCATION:บริษัท รสา ทาวเวอร์ จำกัด\, บริษัท รสา ทาวเวอร์ จำกัด 555 ถนนพหลโยธิน แขวงจตุจักร เขตจตุจักร กรุงเทพมหานคร 10900
CATEGORIES:ปฏิทินตารางหน่วยเคลื่อนที่
END:VEVENT
BEGIN:VEVENT
DTSTART;TZID=Asia/Bangkok:20250424T090000
DTEND;TZID=Asia/Bangkok:20250424T150000
DTSTAMP:20260424T122106
CREATED:20250418T103746Z
LAST-MODIFIED:20250418T103746Z
UID:10001438-1745485200-1745506800@thaibloodcentre.redcross.or.th
SUMMARY:บริษัท รสา ทาวเวอร์ จำกัด []
DESCRIPTION:สถานที่เจาะ : หน้าอาคาร (พัก 11.30-12.30 น.) \nที่อยู่ : 555 ชั้น G อาคารรสาทาวเวอร์ ถนนพหลโยธิน แขวงจตุจักร เขตจตุจักร กรุงเทพฯ 0 2937 0000
URL:https://thaibloodcentre.redcross.or.th/event/%e0%b8%9a%e0%b8%a3%e0%b8%b4%e0%b8%a9%e0%b8%b1%e0%b8%97-%e0%b8%a3%e0%b8%aa%e0%b8%b2-%e0%b8%97%e0%b8%b2%e0%b8%a7%e0%b9%80%e0%b8%a7%e0%b8%ad%e0%b8%a3%e0%b9%8c-%e0%b8%88%e0%b8%b3%e0%b8%81%e0%b8%b1/
LOCATION:บริษัท รสา ทาวเวอร์ จำกัด\, บริษัท รสา ทาวเวอร์ จำกัด 555 ถนนพหลโยธิน แขวงจตุจักร เขตจตุจักร กรุงเทพมหานคร 10900
CATEGORIES:ปฏิทินตารางหน่วยเคลื่อนที่
END:VEVENT
END:VCALENDAR