BEGIN:VCALENDAR
VERSION:2.0
PRODID:-//เว็บไซต์ศูนย์บริการโลหิตแห่งชาติ - ECPv6.11.2.1//NONSGML v1.0//EN
CALSCALE:GREGORIAN
METHOD:PUBLISH
X-WR-CALNAME:เว็บไซต์ศูนย์บริการโลหิตแห่งชาติ
X-ORIGINAL-URL:https://thaibloodcentre.redcross.or.th
X-WR-CALDESC:Events for เว็บไซต์ศูนย์บริการโลหิตแห่งชาติ
REFRESH-INTERVAL;VALUE=DURATION:PT1H
X-Robots-Tag:noindex
X-PUBLISHED-TTL:PT1H
BEGIN:VTIMEZONE
TZID:Asia/Krasnoyarsk
BEGIN:STANDARD
TZOFFSETFROM:+0700
TZOFFSETTO:+0700
TZNAME:+07
DTSTART:20260101T000000
END:STANDARD
END:VTIMEZONE
BEGIN:VTIMEZONE
TZID:Asia/Bangkok
BEGIN:STANDARD
TZOFFSETFROM:+0700
TZOFFSETTO:+0700
TZNAME:+07
DTSTART:20250101T000000
END:STANDARD
END:VTIMEZONE
BEGIN:VEVENT
DTSTART;TZID=Asia/Krasnoyarsk:20260217T090000
DTEND;TZID=Asia/Krasnoyarsk:20260217T110000
DTSTAMP:20260425T044308
CREATED:20260217T050519Z
LAST-MODIFIED:20260217T050519Z
UID:10005563-1771318800-1771326000@thaibloodcentre.redcross.or.th
SUMMARY:บริษัท มติชน จำกัด (มหาชน) []
DESCRIPTION:สถานที่เจาะ : หน้าอาคารฝ่ายผลิต (ด้านหลังสนง.) \nที่อยู่ : 12 หมู่บ้านประชานิเวศน์ 1 ถนนเทศบาลนฤมาล แขวงลาดยาว เขตจตุจักร กรุงเทพฯ 0 2589 0020
URL:https://thaibloodcentre.redcross.or.th/event/%e0%b8%9a%e0%b8%a3%e0%b8%b4%e0%b8%a9%e0%b8%b1%e0%b8%97-%e0%b8%a1%e0%b8%95%e0%b8%b4%e0%b8%8a%e0%b8%99-%e0%b8%88%e0%b8%b3%e0%b8%81%e0%b8%b1%e0%b8%94-%e0%b8%a1%e0%b8%ab%e0%b8%b2%e0%b8%8a%e0%b8%99-2/
LOCATION:บริษัท มติชน จำกัด (มหาชน)\, บริษัท มติชน จำกัด (มหาชน) 12 ถนนเทศบาลนฤมาล หมู่บ้านประชานิเวศน์ 1 แขวงลาดยาว เขตจตุจักร 10900
CATEGORIES:ปฏิทินตารางหน่วยเคลื่อนที่
END:VEVENT
BEGIN:VEVENT
DTSTART;TZID=Asia/Bangkok:20251015T090000
DTEND;TZID=Asia/Bangkok:20251015T150000
DTSTAMP:20260425T044309
CREATED:20251003T101931Z
LAST-MODIFIED:20251003T101931Z
UID:10003649-1760518800-1760540400@thaibloodcentre.redcross.or.th
SUMMARY:บริษัท มติชน จำกัด (มหาชน) [0E0751]
DESCRIPTION:สถานที่เจาะ : หน้าอาคารฝ่ายผลิต (ด้านหลังสนง.) (พัก 12-13 น.) \nที่อยู่ : 12 หมู่บ้านประชานิเวศน์ 1 ถนนเทศบาลนฤมาล แขวงลาดยาว เขตจตุจักร กรุงเทพฯ 0 2589 0020
URL:https://thaibloodcentre.redcross.or.th/event/%e0%b8%9a%e0%b8%a3%e0%b8%b4%e0%b8%a9%e0%b8%b1%e0%b8%97-%e0%b8%a1%e0%b8%95%e0%b8%b4%e0%b8%8a%e0%b8%99-%e0%b8%88%e0%b8%b3%e0%b8%81%e0%b8%b1%e0%b8%94-%e0%b8%a1%e0%b8%ab%e0%b8%b2%e0%b8%8a%e0%b8%99-0e07-2/
LOCATION:บริษัท มติชน จำกัด (มหาชน)\, บริษัท มติชน จำกัด (มหาชน) 12 ถนนเทศบาลนฤมาล หมู่บ้านประชานิเวศน์ 1 แขวงลาดยาว เขตจตุจักร 10900
CATEGORIES:ปฏิทินตารางหน่วยเคลื่อนที่
END:VEVENT
BEGIN:VEVENT
DTSTART;TZID=Asia/Bangkok:20250422T090000
DTEND;TZID=Asia/Bangkok:20250422T150000
DTSTAMP:20260425T044309
CREATED:20250417T092508Z
LAST-MODIFIED:20250417T092508Z
UID:10001405-1745312400-1745334000@thaibloodcentre.redcross.or.th
SUMMARY:บริษัท มติชน จำกัด (มหาชน) []
DESCRIPTION:สถานที่เจาะ : หน้าอาคารฝ่ายผลิต (ด้านหลัง สนง.) (พัก 12.00-13.00 น.) \nที่อยู่ : 12 หมู่บ้านประชานิเวศน์ 1 ถนนเทศบาลนฤมาล แขวงลาดยาว เขตจตุจักร กรุงเทพฯ 0 2589 0020
URL:https://thaibloodcentre.redcross.or.th/event/%e0%b8%9a%e0%b8%a3%e0%b8%b4%e0%b8%a9%e0%b8%b1%e0%b8%97-%e0%b8%a1%e0%b8%95%e0%b8%b4%e0%b8%8a%e0%b8%99-%e0%b8%88%e0%b8%b3%e0%b8%81%e0%b8%b1%e0%b8%94-%e0%b8%a1%e0%b8%ab%e0%b8%b2%e0%b8%8a%e0%b8%99/
LOCATION:บริษัท มติชน จำกัด (มหาชน)\, บริษัท มติชน จำกัด (มหาชน) 12 ถนนเทศบาลนฤมาล หมู่บ้านประชานิเวศน์ 1 แขวงลาดยาว เขตจตุจักร 10900
CATEGORIES:ปฏิทินตารางหน่วยเคลื่อนที่
END:VEVENT
BEGIN:VEVENT
DTSTART;TZID=Asia/Bangkok:20250114T090000
DTEND;TZID=Asia/Bangkok:20250114T150000
DTSTAMP:20260425T044309
CREATED:20250114T103353Z
LAST-MODIFIED:20250114T103353Z
UID:10000196-1736845200-1736866800@thaibloodcentre.redcross.or.th
SUMMARY:บริษัท มติชน จำกัด (มหาชน) [0E0751]
DESCRIPTION:สถานที่เจาะ : หน้าอาคารฝ่ายผลิต (ด้านหลังสนง.) (พัก 12.00-13.00 น.) \nที่อยู่ : 12 หมู่บ้านประชานิเวศน์ 1 ถนนเทศบาลนฤมาล แขวงลาดยาว เขตจตุจักร กรุงเทพฯ  \nโทร : 0 2589 0020
URL:https://thaibloodcentre.redcross.or.th/event/%e0%b8%9a%e0%b8%a3%e0%b8%b4%e0%b8%a9%e0%b8%b1%e0%b8%97-%e0%b8%a1%e0%b8%95%e0%b8%b4%e0%b8%8a%e0%b8%99-%e0%b8%88%e0%b8%b3%e0%b8%81%e0%b8%b1%e0%b8%94-%e0%b8%a1%e0%b8%ab%e0%b8%b2%e0%b8%8a%e0%b8%99-0e07/
LOCATION:บริษัท มติชน จำกัด (มหาชน)\, บริษัท มติชน จำกัด (มหาชน) 12 ถนนเทศบาลนฤมาล หมู่บ้านประชานิเวศน์ 1 แขวงลาดยาว เขตจตุจักร 10900
CATEGORIES:ปฏิทินตารางหน่วยเคลื่อนที่
END:VEVENT
END:VCALENDAR