BEGIN:VCALENDAR
VERSION:2.0
PRODID:-//เว็บไซต์ศูนย์บริการโลหิตแห่งชาติ - ECPv6.11.2.1//NONSGML v1.0//EN
CALSCALE:GREGORIAN
METHOD:PUBLISH
X-ORIGINAL-URL:https://thaibloodcentre.redcross.or.th
X-WR-CALDESC:Events for เว็บไซต์ศูนย์บริการโลหิตแห่งชาติ
REFRESH-INTERVAL;VALUE=DURATION:PT1H
X-Robots-Tag:noindex
X-PUBLISHED-TTL:PT1H
BEGIN:VTIMEZONE
TZID:Asia/Krasnoyarsk
BEGIN:STANDARD
TZOFFSETFROM:+0700
TZOFFSETTO:+0700
TZNAME:+07
DTSTART:20250101T000000
END:STANDARD
END:VTIMEZONE
BEGIN:VTIMEZONE
TZID:Asia/Bangkok
BEGIN:STANDARD
TZOFFSETFROM:+0700
TZOFFSETTO:+0700
TZNAME:+07
DTSTART:20250101T000000
END:STANDARD
END:VTIMEZONE
BEGIN:VEVENT
DTSTART;TZID=Asia/Krasnoyarsk:20251211T090000
DTEND;TZID=Asia/Krasnoyarsk:20251211T150000
DTSTAMP:20260425T060222
CREATED:20251208T073010Z
LAST-MODIFIED:20251208T073010Z
UID:10004633-1765443600-1765465200@thaibloodcentre.redcross.or.th
SUMMARY:บริษัท ฟูจิตสึ (ประเทศไทย) จำกัด []
DESCRIPTION:สถานที่เจาะ : ชั้น 23 อาคารเอ็กเชนทาวเวอร์ \nที่อยู่ : 388 ถนนสุขุมวิท แขวงคลองเตย เขตคลองเตย กรุงเทพฯ 0 2302 1681
URL:https://thaibloodcentre.redcross.or.th/event/%e0%b8%9a%e0%b8%a3%e0%b8%b4%e0%b8%a9%e0%b8%b1%e0%b8%97-%e0%b8%9f%e0%b8%b9%e0%b8%88%e0%b8%b4%e0%b8%95%e0%b8%aa%e0%b8%b6-%e0%b8%9b%e0%b8%a3%e0%b8%b0%e0%b9%80%e0%b8%97%e0%b8%a8%e0%b9%84%e0%b8%97-2/
LOCATION:บริษัท ฟูจิตสึ (ประเทศไทย) จำกัด\, อาคารเอ็กซ์เชนจ์ทาวเวอร์ 388 ถนนสุขุมวิท แขวงคลองตัน เขตคลองเตย กรุงเทพมหานคร 10110
CATEGORIES:ปฏิทินตารางหน่วยเคลื่อนที่
END:VEVENT
BEGIN:VEVENT
DTSTART;TZID=Asia/Bangkok:20250612T090000
DTEND;TZID=Asia/Bangkok:20250612T150000
DTSTAMP:20260425T060222
CREATED:20250604T044832Z
LAST-MODIFIED:20250604T044832Z
UID:10002049-1749718800-1749740400@thaibloodcentre.redcross.or.th
SUMMARY:บริษัท ฟูจิตสึ (ประเทศไทย) จำกัด []
DESCRIPTION:สถานที่เจาะ : ชั้น 23 อาคารเอ็กเชนทาวเวอร์ \nที่อยู่ : 388 ถนนสุขุมวิท แขวงคลองเตย เขตคลองเตย กรุงเทพฯ 0 2302 1681
URL:https://thaibloodcentre.redcross.or.th/event/%e0%b8%9a%e0%b8%a3%e0%b8%b4%e0%b8%a9%e0%b8%b1%e0%b8%97-%e0%b8%9f%e0%b8%b9%e0%b8%88%e0%b8%b4%e0%b8%95%e0%b8%aa%e0%b8%b6-%e0%b8%9b%e0%b8%a3%e0%b8%b0%e0%b9%80%e0%b8%97%e0%b8%a8%e0%b9%84%e0%b8%97/
LOCATION:บริษัท ฟูจิตสึ (ประเทศไทย) จำกัด\, อาคารเอ็กซ์เชนจ์ทาวเวอร์ 388 ถนนสุขุมวิท แขวงคลองตัน เขตคลองเตย กรุงเทพมหานคร 10110
CATEGORIES:ปฏิทินตารางหน่วยเคลื่อนที่
END:VEVENT
END:VCALENDAR