BEGIN:VCALENDAR
VERSION:2.0
PRODID:-//เว็บไซต์ศูนย์บริการโลหิตแห่งชาติ - ECPv6.11.2.1//NONSGML v1.0//EN
CALSCALE:GREGORIAN
METHOD:PUBLISH
X-ORIGINAL-URL:https://thaibloodcentre.redcross.or.th
X-WR-CALDESC:Events for เว็บไซต์ศูนย์บริการโลหิตแห่งชาติ
REFRESH-INTERVAL;VALUE=DURATION:PT1H
X-Robots-Tag:noindex
X-PUBLISHED-TTL:PT1H
BEGIN:VTIMEZONE
TZID:Asia/Krasnoyarsk
BEGIN:STANDARD
TZOFFSETFROM:+0700
TZOFFSETTO:+0700
TZNAME:+07
DTSTART:20260101T000000
END:STANDARD
END:VTIMEZONE
BEGIN:VTIMEZONE
TZID:Asia/Bangkok
BEGIN:STANDARD
TZOFFSETFROM:+0700
TZOFFSETTO:+0700
TZNAME:+07
DTSTART:20250101T000000
END:STANDARD
END:VTIMEZONE
BEGIN:VEVENT
DTSTART;TZID=Asia/Krasnoyarsk:20260220T090000
DTEND;TZID=Asia/Krasnoyarsk:20260220T150000
DTSTAMP:20260424T215634
CREATED:20260217T091505Z
LAST-MODIFIED:20260217T091505Z
UID:10005590-1771578000-1771599600@thaibloodcentre.redcross.or.th
SUMMARY:บริษัท บางกอกแร้นช์ จำกัด (มหาชน) []
DESCRIPTION:สถานที่เจาะ : ด้านหน้าบริษัท (พัก 12.00-13.00 น.) \nที่อยู่ : 181/2 ม.12 ถ.สายหลังวัดบางพลีใหญ่ใน ต.บางพลีใหญ่ อ.บางพลี จ.สมุทรปราการ 0 2175 7200
URL:https://thaibloodcentre.redcross.or.th/event/%e0%b8%9a%e0%b8%a3%e0%b8%b4%e0%b8%a9%e0%b8%b1%e0%b8%97-%e0%b8%9a%e0%b8%b2%e0%b8%87%e0%b8%81%e0%b8%ad%e0%b8%81%e0%b9%81%e0%b8%a3%e0%b9%89%e0%b8%99%e0%b8%8a%e0%b9%8c-%e0%b8%88%e0%b8%b3%e0%b8%81-2/
LOCATION:บริษัท บางกอกแร้นช์ จำกัด (มหาชน)\, บริษัท บางกอกแร้นช์ จำกัด (มหาชน) 18/1 ม.12 ถ.สายหลังวัดบางพลีใหญ่ใน ต.บางพลีใหญ่ อ.บางพลี จ.สมุทรปราการ 10540
CATEGORIES:ปฏิทินตารางหน่วยเคลื่อนที่
END:VEVENT
BEGIN:VEVENT
DTSTART;TZID=Asia/Bangkok:20250516T090000
DTEND;TZID=Asia/Bangkok:20250516T150000
DTSTAMP:20260424T215634
CREATED:20250514T103811Z
LAST-MODIFIED:20250514T103811Z
UID:10001751-1747386000-1747407600@thaibloodcentre.redcross.or.th
SUMMARY:บริษัท บางกอกแร้นช์ จำกัด (มหาชน) []
DESCRIPTION:สถานที่เจาะ : หน้าฝ่ายทรัพยากรบุคคล (พัก 12-13 น.) \nที่อยู่ : 181/2 ม.12 ถ.สายหลังวัดบางพลีใหญ่ใน ต.บางพลีใหญ่ อ.บางพลี จ.สมุทรปราการ 0 2175 7200
URL:https://thaibloodcentre.redcross.or.th/event/%e0%b8%9a%e0%b8%a3%e0%b8%b4%e0%b8%a9%e0%b8%b1%e0%b8%97-%e0%b8%9a%e0%b8%b2%e0%b8%87%e0%b8%81%e0%b8%ad%e0%b8%81%e0%b9%81%e0%b8%a3%e0%b9%89%e0%b8%99%e0%b8%8a%e0%b9%8c-%e0%b8%88%e0%b8%b3%e0%b8%81%e0%b8%b1/
LOCATION:บริษัท บางกอกแร้นช์ จำกัด (มหาชน)\, บริษัท บางกอกแร้นช์ จำกัด (มหาชน) 18/1 ม.12 ถ.สายหลังวัดบางพลีใหญ่ใน ต.บางพลีใหญ่ อ.บางพลี จ.สมุทรปราการ 10540
CATEGORIES:ปฏิทินตารางหน่วยเคลื่อนที่
END:VEVENT
END:VCALENDAR