BEGIN:VCALENDAR
VERSION:2.0
PRODID:-//เว็บไซต์ศูนย์บริการโลหิตแห่งชาติ - ECPv6.11.2.1//NONSGML v1.0//EN
CALSCALE:GREGORIAN
METHOD:PUBLISH
X-ORIGINAL-URL:https://thaibloodcentre.redcross.or.th
X-WR-CALDESC:Events for เว็บไซต์ศูนย์บริการโลหิตแห่งชาติ
REFRESH-INTERVAL;VALUE=DURATION:PT1H
X-Robots-Tag:noindex
X-PUBLISHED-TTL:PT1H
BEGIN:VTIMEZONE
TZID:Asia/Krasnoyarsk
BEGIN:STANDARD
TZOFFSETFROM:+0700
TZOFFSETTO:+0700
TZNAME:+07
DTSTART:20250101T000000
END:STANDARD
END:VTIMEZONE
BEGIN:VTIMEZONE
TZID:Asia/Bangkok
BEGIN:STANDARD
TZOFFSETFROM:+0700
TZOFFSETTO:+0700
TZNAME:+07
DTSTART:20250101T000000
END:STANDARD
END:VTIMEZONE
BEGIN:VEVENT
DTSTART;TZID=Asia/Krasnoyarsk:20260220T090000
DTEND;TZID=Asia/Krasnoyarsk:20260220T150000
DTSTAMP:20260425T205428
CREATED:20260217T091443Z
LAST-MODIFIED:20260217T091443Z
UID:10005586-1771578000-1771599600@thaibloodcentre.redcross.or.th
SUMMARY:บริษัท ธานยานยนต์ พี.เอ็น.ที.จำกัด []
DESCRIPTION:สถานที่เจาะ : บริเวณด้านหน้าบริษัท (พัก 12.00-13.00 น.) \nที่อยู่ : 663/3-5 ถนนนครไชยศรี แขวงถนนนครไชยศรี เขตดุสิต กรุงเทพฯ 0 2669 1030
URL:https://thaibloodcentre.redcross.or.th/event/%e0%b8%9a%e0%b8%a3%e0%b8%b4%e0%b8%a9%e0%b8%b1%e0%b8%97-%e0%b8%98%e0%b8%b2%e0%b8%99%e0%b8%a2%e0%b8%b2%e0%b8%99%e0%b8%a2%e0%b8%99%e0%b8%95%e0%b9%8c-%e0%b8%9e%e0%b8%b5-%e0%b9%80%e0%b8%ad%e0%b9%87-5/
LOCATION:บริษัท ธานยานยนต์ พี.เอ็น.ที.จำกัด\, บริษัท ธานยานยนต์ พี.เอ็น.ที.จำกัด 663/3-5 ถ.นครไชยศรี แขวงถนนนครไชยศรี เขตดุสิต กรุงเทพมหานคร 10300
CATEGORIES:ปฏิทินตารางหน่วยเคลื่อนที่
END:VEVENT
BEGIN:VEVENT
DTSTART;TZID=Asia/Krasnoyarsk:20251121T090000
DTEND;TZID=Asia/Krasnoyarsk:20251121T150000
DTSTAMP:20260425T205428
CREATED:20251117T023408Z
LAST-MODIFIED:20251117T023408Z
UID:10004333-1763715600-1763737200@thaibloodcentre.redcross.or.th
SUMMARY:บริษัท ธานยานยนต์ พี.เอ็น.ที.จำกัด []
DESCRIPTION:สถานที่เจาะ : บริเวณด้านหน้าบริษัท (พัก 12.00-13.00 น.) \nที่อยู่ : 663/3-5 ถนนนครไชยศรี แขวงถนนนครไชยศรี เขตดุสิต กรุงเทพฯ 0 2669 1030
URL:https://thaibloodcentre.redcross.or.th/event/%e0%b8%9a%e0%b8%a3%e0%b8%b4%e0%b8%a9%e0%b8%b1%e0%b8%97-%e0%b8%98%e0%b8%b2%e0%b8%99%e0%b8%a2%e0%b8%b2%e0%b8%99%e0%b8%a2%e0%b8%99%e0%b8%95%e0%b9%8c-%e0%b8%9e%e0%b8%b5-%e0%b9%80%e0%b8%ad%e0%b9%87-4/
LOCATION:บริษัท ธานยานยนต์ พี.เอ็น.ที.จำกัด\, บริษัท ธานยานยนต์ พี.เอ็น.ที.จำกัด 663/3-5 ถ.นครไชยศรี แขวงถนนนครไชยศรี เขตดุสิต กรุงเทพมหานคร 10300
CATEGORIES:ปฏิทินตารางหน่วยเคลื่อนที่
END:VEVENT
BEGIN:VEVENT
DTSTART;TZID=Asia/Bangkok:20250821T090000
DTEND;TZID=Asia/Bangkok:20250821T150000
DTSTAMP:20260425T205428
CREATED:20250819T134715Z
LAST-MODIFIED:20250819T134715Z
UID:10002952-1755766800-1755788400@thaibloodcentre.redcross.or.th
SUMMARY:บริษัท ธานยานยนต์ พี.เอ็น.ที.จำกัด [0M0243]
DESCRIPTION:สถานที่เจาะ : บริเวณด้านหน้าบริษัท (พัก 12-13 น.) \nที่อยู่ : 663/3-5 ถนนนครไชยศรี แขวงถนนนครไชยศรี เขตดุสิต กรุงเทพฯ 0 2669 1030
URL:https://thaibloodcentre.redcross.or.th/event/%e0%b8%9a%e0%b8%a3%e0%b8%b4%e0%b8%a9%e0%b8%b1%e0%b8%97-%e0%b8%98%e0%b8%b2%e0%b8%99%e0%b8%a2%e0%b8%b2%e0%b8%99%e0%b8%a2%e0%b8%99%e0%b8%95%e0%b9%8c-%e0%b8%9e%e0%b8%b5-%e0%b9%80%e0%b8%ad%e0%b9%87-3/
LOCATION:บริษัท ธานยานยนต์ พี.เอ็น.ที.จำกัด\, บริษัท ธานยานยนต์ พี.เอ็น.ที.จำกัด 663/3-5 ถ.นครไชยศรี แขวงถนนนครไชยศรี เขตดุสิต กรุงเทพมหานคร 10300
CATEGORIES:ปฏิทินตารางหน่วยเคลื่อนที่
END:VEVENT
BEGIN:VEVENT
DTSTART;TZID=Asia/Bangkok:20250527T090000
DTEND;TZID=Asia/Bangkok:20250527T150000
DTSTAMP:20260425T205428
CREATED:20250515T102725Z
LAST-MODIFIED:20250515T102725Z
UID:10001917-1748336400-1748358000@thaibloodcentre.redcross.or.th
SUMMARY:บริษัท ธานยานยนต์ พี.เอ็น.ที.จำกัด []
DESCRIPTION:สถานที่เจาะ : บริเวณด้านหน้าบริษัท (พัก 12-13 น.) \nที่อยู่ : 663/3-5 ถนนนครไชยศรี แขวงถนนนครไชยศรี เขตดุสิต กรุงเทพฯ 0 2669 1030
URL:https://thaibloodcentre.redcross.or.th/event/%e0%b8%9a%e0%b8%a3%e0%b8%b4%e0%b8%a9%e0%b8%b1%e0%b8%97-%e0%b8%98%e0%b8%b2%e0%b8%99%e0%b8%a2%e0%b8%b2%e0%b8%99%e0%b8%a2%e0%b8%99%e0%b8%95%e0%b9%8c-%e0%b8%9e%e0%b8%b5-%e0%b9%80%e0%b8%ad%e0%b9%87-2/
LOCATION:บริษัท ธานยานยนต์ พี.เอ็น.ที.จำกัด\, บริษัท ธานยานยนต์ พี.เอ็น.ที.จำกัด 663/3-5 ถ.นครไชยศรี แขวงถนนนครไชยศรี เขตดุสิต กรุงเทพมหานคร 10300
CATEGORIES:ปฏิทินตารางหน่วยเคลื่อนที่
END:VEVENT
BEGIN:VEVENT
DTSTART;TZID=Asia/Bangkok:20250221T090000
DTEND;TZID=Asia/Bangkok:20250221T150000
DTSTAMP:20260425T205428
CREATED:20250216T083146Z
LAST-MODIFIED:20250216T083146Z
UID:10000643-1740128400-1740150000@thaibloodcentre.redcross.or.th
SUMMARY:บริษัท ธานยานยนต์ พี.เอ็น.ที.จำกัด [0M0243]
DESCRIPTION:สถานที่เจาะ : บริเวณด้านหน้าบริษัท (พัก 12.00-13.00 น.) \nที่อยู่ : 663/3-5 ถนนนครไชยศรี แขวงถนนนครไชยศรี เขตดุสิต กรุงเทพฯ  \nโทร : 0 2669 1030
URL:https://thaibloodcentre.redcross.or.th/event/%e0%b8%9a%e0%b8%a3%e0%b8%b4%e0%b8%a9%e0%b8%b1%e0%b8%97-%e0%b8%98%e0%b8%b2%e0%b8%99%e0%b8%a2%e0%b8%b2%e0%b8%99%e0%b8%a2%e0%b8%99%e0%b8%95%e0%b9%8c-%e0%b8%9e%e0%b8%b5-%e0%b9%80%e0%b8%ad%e0%b9%87/
LOCATION:บริษัท ธานยานยนต์ พี.เอ็น.ที.จำกัด\, บริษัท ธานยานยนต์ พี.เอ็น.ที.จำกัด 663/3-5 ถ.นครไชยศรี แขวงถนนนครไชยศรี เขตดุสิต กรุงเทพมหานคร 10300
CATEGORIES:ปฏิทินตารางหน่วยเคลื่อนที่
END:VEVENT
END:VCALENDAR