BEGIN:VCALENDAR
VERSION:2.0
PRODID:-//เว็บไซต์ศูนย์บริการโลหิตแห่งชาติ - ECPv6.11.2.1//NONSGML v1.0//EN
CALSCALE:GREGORIAN
METHOD:PUBLISH
X-ORIGINAL-URL:https://thaibloodcentre.redcross.or.th
X-WR-CALDESC:Events for เว็บไซต์ศูนย์บริการโลหิตแห่งชาติ
REFRESH-INTERVAL;VALUE=DURATION:PT1H
X-Robots-Tag:noindex
X-PUBLISHED-TTL:PT1H
BEGIN:VTIMEZONE
TZID:Asia/Krasnoyarsk
BEGIN:STANDARD
TZOFFSETFROM:+0700
TZOFFSETTO:+0700
TZNAME:+07
DTSTART:20260101T000000
END:STANDARD
END:VTIMEZONE
BEGIN:VEVENT
DTSTART;TZID=Asia/Krasnoyarsk:20260423T090000
DTEND;TZID=Asia/Krasnoyarsk:20260423T150000
DTSTAMP:20260422T194357
CREATED:20260420T061828Z
LAST-MODIFIED:20260420T061828Z
UID:10006521-1776934800-1776956400@thaibloodcentre.redcross.or.th
SUMMARY:บริษัท ธนารักษ์พัฒนาสินทรัพย์ จำกัด []
DESCRIPTION:สถานที่เจาะ : อาคาร B ชั้น 2 (พัก 11.00-12.00 น.) \nที่อยู่ : 120 ชั้น 1 อาคารศูนย์ประชุมฯ ถนนแจ้งวัฒนะ 7 แขวงทุ่งสองห้อง  เขตหลักสี่ กรุงเทพฯ 0 2142 2204
URL:https://thaibloodcentre.redcross.or.th/event/%e0%b8%9a%e0%b8%a3%e0%b8%b4%e0%b8%a9%e0%b8%b1%e0%b8%97-%e0%b8%98%e0%b8%99%e0%b8%b2%e0%b8%a3%e0%b8%b1%e0%b8%81%e0%b8%a9%e0%b9%8c%e0%b8%9e%e0%b8%b1%e0%b8%92%e0%b8%99%e0%b8%b2%e0%b8%aa%e0%b8%b4-17/
LOCATION:บริษัท ธนารักษ์พัฒนาสินทรัพย์ จำกัด\, ศูนย์ราชการฯ แจ้งวัฒนะ 120 หมู่ที่ 3 ถนนแจ้งวัฒนะ แขวงทุ่งสองห้อง เขตหลักสี่ กรุงเทพมหานคร 10210
CATEGORIES:ปฏิทินตารางหน่วยเคลื่อนที่
END:VEVENT
BEGIN:VEVENT
DTSTART;TZID=Asia/Krasnoyarsk:20260424T090000
DTEND;TZID=Asia/Krasnoyarsk:20260424T150000
DTSTAMP:20260422T194357
CREATED:20260420T062036Z
LAST-MODIFIED:20260420T062036Z
UID:10006540-1777021200-1777042800@thaibloodcentre.redcross.or.th
SUMMARY:บริษัท ธนารักษ์พัฒนาสินทรัพย์ จำกัด []
DESCRIPTION:สถานที่เจาะ : อาคาร B ชั้น 2 (พัก 11.00-12.00 น.) \nที่อยู่ : 120 ชั้น 1 อาคารศูนย์ประชุมฯ ถนนแจ้งวัฒนะ 7 แขวงทุ่งสองห้อง  เขตหลักสี่ กรุงเทพฯ 0 2142 2204
URL:https://thaibloodcentre.redcross.or.th/event/%e0%b8%9a%e0%b8%a3%e0%b8%b4%e0%b8%a9%e0%b8%b1%e0%b8%97-%e0%b8%98%e0%b8%99%e0%b8%b2%e0%b8%a3%e0%b8%b1%e0%b8%81%e0%b8%a9%e0%b9%8c%e0%b8%9e%e0%b8%b1%e0%b8%92%e0%b8%99%e0%b8%b2%e0%b8%aa%e0%b8%b4-18/
LOCATION:บริษัท ธนารักษ์พัฒนาสินทรัพย์ จำกัด\, ศูนย์ราชการฯ แจ้งวัฒนะ 120 หมู่ที่ 3 ถนนแจ้งวัฒนะ แขวงทุ่งสองห้อง เขตหลักสี่ กรุงเทพมหานคร 10210
CATEGORIES:ปฏิทินตารางหน่วยเคลื่อนที่
END:VEVENT
END:VCALENDAR