BEGIN:VCALENDAR
VERSION:2.0
PRODID:-//เว็บไซต์ศูนย์บริการโลหิตแห่งชาติ - ECPv6.11.2.1//NONSGML v1.0//EN
CALSCALE:GREGORIAN
METHOD:PUBLISH
X-WR-CALNAME:เว็บไซต์ศูนย์บริการโลหิตแห่งชาติ
X-ORIGINAL-URL:https://thaibloodcentre.redcross.or.th
X-WR-CALDESC:Events for เว็บไซต์ศูนย์บริการโลหิตแห่งชาติ
REFRESH-INTERVAL;VALUE=DURATION:PT1H
X-Robots-Tag:noindex
X-PUBLISHED-TTL:PT1H
BEGIN:VTIMEZONE
TZID:Asia/Krasnoyarsk
BEGIN:STANDARD
TZOFFSETFROM:+0700
TZOFFSETTO:+0700
TZNAME:+07
DTSTART:20260101T000000
END:STANDARD
END:VTIMEZONE
BEGIN:VTIMEZONE
TZID:Asia/Bangkok
BEGIN:STANDARD
TZOFFSETFROM:+0700
TZOFFSETTO:+0700
TZNAME:+07
DTSTART:20250101T000000
END:STANDARD
END:VTIMEZONE
BEGIN:VEVENT
DTSTART;TZID=Asia/Krasnoyarsk:20260422T090000
DTEND;TZID=Asia/Krasnoyarsk:20260422T150000
DTSTAMP:20260423T000906
CREATED:20260420T062226Z
LAST-MODIFIED:20260420T075555Z
UID:10006559-1776848400-1776870000@thaibloodcentre.redcross.or.th
SUMMARY:บริษัท ธนารักษ์พัฒนาสินทรัพย์ จำกัด []
DESCRIPTION:สถานที่เจาะ : อาคาร C ชั้น 2 (พัก 11.00-12.00 น.) \nที่อยู่ : 120 ชั้น 1 อาคารศูนย์ประชุมฯ ถนนแจ้งวัฒนะ 7 แขวงทุ่งสองห้อง  เขตหลักสี่ กรุงเทพฯ 0 2142 2204
URL:https://thaibloodcentre.redcross.or.th/event/%e0%b8%9a%e0%b8%a3%e0%b8%b4%e0%b8%a9%e0%b8%b1%e0%b8%97-%e0%b8%98%e0%b8%99%e0%b8%b2%e0%b8%a3%e0%b8%b1%e0%b8%81%e0%b8%a9%e0%b9%8c%e0%b8%9e%e0%b8%b1%e0%b8%92%e0%b8%99%e0%b8%b2%e0%b8%aa%e0%b8%b4-19/
LOCATION:บริษัท ธนารักษ์พัฒนาสินทรัพย์ จำกัด\, ศูนย์ราชการฯ แจ้งวัฒนะ 120 หมู่ที่ 3 ถนนแจ้งวัฒนะ แขวงทุ่งสองห้อง เขตหลักสี่ กรุงเทพมหานคร 10210
CATEGORIES:ปฏิทินตารางหน่วยเคลื่อนที่
END:VEVENT
BEGIN:VEVENT
DTSTART;TZID=Asia/Krasnoyarsk:20260421T090000
DTEND;TZID=Asia/Krasnoyarsk:20260421T150000
DTSTAMP:20260423T000906
CREATED:20260420T065438Z
LAST-MODIFIED:20260420T075311Z
UID:10006642-1776762000-1776783600@thaibloodcentre.redcross.or.th
SUMMARY:บริษัท ธนารักษ์พัฒนาสินทรัพย์ จำกัด []
DESCRIPTION:สถานที่เจาะ : อาคาร A ชั้น 2 (พัก 11.00-12.00 น.) \nที่อยู่ : 120 ชั้น 1 อาคารศูนย์ประชุมฯ ถนนแจ้งวัฒนะ 7 แขวงทุ่งสองห้อง  เขตหลักสี่ กรุงเทพฯ 0 2142 2204
URL:https://thaibloodcentre.redcross.or.th/event/%e0%b8%9a%e0%b8%a3%e0%b8%b4%e0%b8%a9%e0%b8%b1%e0%b8%97-%e0%b8%98%e0%b8%99%e0%b8%b2%e0%b8%a3%e0%b8%b1%e0%b8%81%e0%b8%a9%e0%b9%8c%e0%b8%9e%e0%b8%b1%e0%b8%92%e0%b8%99%e0%b8%b2%e0%b8%aa%e0%b8%b4-21/
LOCATION:บริษัท ธนารักษ์พัฒนาสินทรัพย์ จำกัด\, ศูนย์ราชการฯ แจ้งวัฒนะ 120 หมู่ที่ 3 ถนนแจ้งวัฒนะ แขวงทุ่งสองห้อง เขตหลักสี่ กรุงเทพมหานคร 10210
CATEGORIES:ปฏิทินตารางหน่วยเคลื่อนที่
END:VEVENT
BEGIN:VEVENT
DTSTART;TZID=Asia/Krasnoyarsk:20260420T090000
DTEND;TZID=Asia/Krasnoyarsk:20260420T150000
DTSTAMP:20260423T000906
CREATED:20260420T064830Z
LAST-MODIFIED:20260420T075223Z
UID:10006626-1776675600-1776697200@thaibloodcentre.redcross.or.th
SUMMARY:บริษัท ธนารักษ์พัฒนาสินทรัพย์ จำกัด []
DESCRIPTION:สถานที่เจาะ : อาคาร A ชั้น 2 (พัก 11.00-12.00 น.) \nที่อยู่ : 120 ชั้น 1 อาคารศูนย์ประชุมฯ ถนนแจ้งวัฒนะ 7 แขวงทุ่งสองห้อง  เขตหลักสี่ กรุงเทพฯ 0 2142 2204
URL:https://thaibloodcentre.redcross.or.th/event/%e0%b8%9a%e0%b8%a3%e0%b8%b4%e0%b8%a9%e0%b8%b1%e0%b8%97-%e0%b8%98%e0%b8%99%e0%b8%b2%e0%b8%a3%e0%b8%b1%e0%b8%81%e0%b8%a9%e0%b9%8c%e0%b8%9e%e0%b8%b1%e0%b8%92%e0%b8%99%e0%b8%b2%e0%b8%aa%e0%b8%b4-20/
LOCATION:บริษัท ธนารักษ์พัฒนาสินทรัพย์ จำกัด\, ศูนย์ราชการฯ แจ้งวัฒนะ 120 หมู่ที่ 3 ถนนแจ้งวัฒนะ แขวงทุ่งสองห้อง เขตหลักสี่ กรุงเทพมหานคร 10210
CATEGORIES:ปฏิทินตารางหน่วยเคลื่อนที่
END:VEVENT
BEGIN:VEVENT
DTSTART;TZID=Asia/Krasnoyarsk:20260123T090000
DTEND;TZID=Asia/Krasnoyarsk:20260123T150000
DTSTAMP:20260423T000906
CREATED:20260120T104301Z
LAST-MODIFIED:20260120T104301Z
UID:10005217-1769158800-1769180400@thaibloodcentre.redcross.or.th
SUMMARY:บริษัท ธนารักษ์พัฒนาสินทรัพย์ จำกัด []
DESCRIPTION:สถานที่เจาะ : อาคาร B ชั้น 2 \nที่อยู่ : 120 ชั้น 1 อาคารศูนย์ประชุมฯ ถนนแจ้งวัฒนะ 7 แขวงทุ่งสองห้อง  เขตหลักสี่ กรุงเทพฯ 0 2142 2204
URL:https://thaibloodcentre.redcross.or.th/event/%e0%b8%9a%e0%b8%a3%e0%b8%b4%e0%b8%a9%e0%b8%b1%e0%b8%97-%e0%b8%98%e0%b8%99%e0%b8%b2%e0%b8%a3%e0%b8%b1%e0%b8%81%e0%b8%a9%e0%b9%8c%e0%b8%9e%e0%b8%b1%e0%b8%92%e0%b8%99%e0%b8%b2%e0%b8%aa%e0%b8%b4-16/
LOCATION:บริษัท ธนารักษ์พัฒนาสินทรัพย์ จำกัด\, ศูนย์ราชการฯ แจ้งวัฒนะ 120 หมู่ที่ 3 ถนนแจ้งวัฒนะ แขวงทุ่งสองห้อง เขตหลักสี่ กรุงเทพมหานคร 10210
CATEGORIES:ปฏิทินตารางหน่วยเคลื่อนที่
END:VEVENT
BEGIN:VEVENT
DTSTART;TZID=Asia/Krasnoyarsk:20260122T090000
DTEND;TZID=Asia/Krasnoyarsk:20260122T150000
DTSTAMP:20260423T000906
CREATED:20260120T104039Z
LAST-MODIFIED:20260120T104039Z
UID:10005199-1769072400-1769094000@thaibloodcentre.redcross.or.th
SUMMARY:บริษัท ธนารักษ์พัฒนาสินทรัพย์ จำกัด []
DESCRIPTION:สถานที่เจาะ : อาคาร B ชั้น 2 \nที่อยู่ : 120 ชั้น 1 อาคารศูนย์ประชุมฯ ถนนแจ้งวัฒนะ 7 แขวงทุ่งสองห้อง  เขตหลักสี่ กรุงเทพฯ 0 2142 2204
URL:https://thaibloodcentre.redcross.or.th/event/%e0%b8%9a%e0%b8%a3%e0%b8%b4%e0%b8%a9%e0%b8%b1%e0%b8%97-%e0%b8%98%e0%b8%99%e0%b8%b2%e0%b8%a3%e0%b8%b1%e0%b8%81%e0%b8%a9%e0%b9%8c%e0%b8%9e%e0%b8%b1%e0%b8%92%e0%b8%99%e0%b8%b2%e0%b8%aa%e0%b8%b4-15/
LOCATION:บริษัท ธนารักษ์พัฒนาสินทรัพย์ จำกัด\, ศูนย์ราชการฯ แจ้งวัฒนะ 120 หมู่ที่ 3 ถนนแจ้งวัฒนะ แขวงทุ่งสองห้อง เขตหลักสี่ กรุงเทพมหานคร 10210
CATEGORIES:ปฏิทินตารางหน่วยเคลื่อนที่
END:VEVENT
BEGIN:VEVENT
DTSTART;TZID=Asia/Krasnoyarsk:20260121T090000
DTEND;TZID=Asia/Krasnoyarsk:20260121T150000
DTSTAMP:20260423T000906
CREATED:20260120T103659Z
LAST-MODIFIED:20260120T103659Z
UID:10005185-1768986000-1769007600@thaibloodcentre.redcross.or.th
SUMMARY:บริษัท ธนารักษ์พัฒนาสินทรัพย์ จำกัด []
DESCRIPTION:สถานที่เจาะ : อาคาร C ชั้น 2 \nที่อยู่ : 120 ชั้น 1 อาคารศูนย์ประชุมฯ ถนนแจ้งวัฒนะ 7 แขวงทุ่งสองห้อง  เขตหลักสี่ กรุงเทพฯ 0 2142 2204
URL:https://thaibloodcentre.redcross.or.th/event/%e0%b8%9a%e0%b8%a3%e0%b8%b4%e0%b8%a9%e0%b8%b1%e0%b8%97-%e0%b8%98%e0%b8%99%e0%b8%b2%e0%b8%a3%e0%b8%b1%e0%b8%81%e0%b8%a9%e0%b9%8c%e0%b8%9e%e0%b8%b1%e0%b8%92%e0%b8%99%e0%b8%b2%e0%b8%aa%e0%b8%b4-14/
LOCATION:บริษัท ธนารักษ์พัฒนาสินทรัพย์ จำกัด\, ศูนย์ราชการฯ แจ้งวัฒนะ 120 หมู่ที่ 3 ถนนแจ้งวัฒนะ แขวงทุ่งสองห้อง เขตหลักสี่ กรุงเทพมหานคร 10210
CATEGORIES:ปฏิทินตารางหน่วยเคลื่อนที่
END:VEVENT
BEGIN:VEVENT
DTSTART;TZID=Asia/Krasnoyarsk:20260120T090000
DTEND;TZID=Asia/Krasnoyarsk:20260120T150000
DTSTAMP:20260423T000906
CREATED:20260113T120451Z
LAST-MODIFIED:20260113T120451Z
UID:10005176-1768899600-1768921200@thaibloodcentre.redcross.or.th
SUMMARY:บริษัท ธนารักษ์พัฒนาสินทรัพย์ จำกัด []
DESCRIPTION:สถานที่เจาะ : อาคารราชบุรีดิเรกฤทธิ์ (อาคาร A ชั้น 2) \nที่อยู่ : 120 ชั้น 1 อาคารศูนย์ประชุมฯ ถนนแจ้งวัฒนะ 7 แขวงทุ่งสองห้อง  เขตหลักสี่ กรุงเทพฯ 0 2142 2204
URL:https://thaibloodcentre.redcross.or.th/event/%e0%b8%9a%e0%b8%a3%e0%b8%b4%e0%b8%a9%e0%b8%b1%e0%b8%97-%e0%b8%98%e0%b8%99%e0%b8%b2%e0%b8%a3%e0%b8%b1%e0%b8%81%e0%b8%a9%e0%b9%8c%e0%b8%9e%e0%b8%b1%e0%b8%92%e0%b8%99%e0%b8%b2%e0%b8%aa%e0%b8%b4-13/
LOCATION:บริษัท ธนารักษ์พัฒนาสินทรัพย์ จำกัด\, ศูนย์ราชการฯ แจ้งวัฒนะ 120 หมู่ที่ 3 ถนนแจ้งวัฒนะ แขวงทุ่งสองห้อง เขตหลักสี่ กรุงเทพมหานคร 10210
CATEGORIES:ปฏิทินตารางหน่วยเคลื่อนที่
END:VEVENT
BEGIN:VEVENT
DTSTART;TZID=Asia/Krasnoyarsk:20260119T090000
DTEND;TZID=Asia/Krasnoyarsk:20260119T150000
DTSTAMP:20260423T000906
CREATED:20260113T120215Z
LAST-MODIFIED:20260113T120215Z
UID:10005161-1768813200-1768834800@thaibloodcentre.redcross.or.th
SUMMARY:บริษัท ธนารักษ์พัฒนาสินทรัพย์ จำกัด []
DESCRIPTION:สถานที่เจาะ : อาคารราชบุรีดิเรกฤทธิ์ (อาคาร A ชั้น 2) \nที่อยู่ : 120 ชั้น 1 อาคารศูนย์ประชุมฯ ถนนแจ้งวัฒนะ 7 แขวงทุ่งสองห้อง  เขตหลักสี่ กรุงเทพฯ 0 2142 2204
URL:https://thaibloodcentre.redcross.or.th/event/%e0%b8%9a%e0%b8%a3%e0%b8%b4%e0%b8%a9%e0%b8%b1%e0%b8%97-%e0%b8%98%e0%b8%99%e0%b8%b2%e0%b8%a3%e0%b8%b1%e0%b8%81%e0%b8%a9%e0%b9%8c%e0%b8%9e%e0%b8%b1%e0%b8%92%e0%b8%99%e0%b8%b2%e0%b8%aa%e0%b8%b4-12/
LOCATION:บริษัท ธนารักษ์พัฒนาสินทรัพย์ จำกัด\, ศูนย์ราชการฯ แจ้งวัฒนะ 120 หมู่ที่ 3 ถนนแจ้งวัฒนะ แขวงทุ่งสองห้อง เขตหลักสี่ กรุงเทพมหานคร 10210
CATEGORIES:ปฏิทินตารางหน่วยเคลื่อนที่
END:VEVENT
BEGIN:VEVENT
DTSTART;TZID=Asia/Bangkok:20251016T090000
DTEND;TZID=Asia/Bangkok:20251016T150000
DTSTAMP:20260423T000906
CREATED:20251003T102046Z
LAST-MODIFIED:20251003T102046Z
UID:10003659-1760605200-1760626800@thaibloodcentre.redcross.or.th
SUMMARY:บริษัท ธนารักษ์พัฒนาสินทรัพย์ จำกัด [0M0535]
DESCRIPTION:สถานที่เจาะ : อาคาร B ชั้น 2 \nที่อยู่ : 120 ชั้น 1 อาคารศูนย์ประชุมฯ ถนนแจ้งวัฒนะ 7 แขวงทุ่งสองห้อง  เขตหลักสี่ กรุงเทพฯ 0 2142 2204
URL:https://thaibloodcentre.redcross.or.th/event/%e0%b8%9a%e0%b8%a3%e0%b8%b4%e0%b8%a9%e0%b8%b1%e0%b8%97-%e0%b8%98%e0%b8%99%e0%b8%b2%e0%b8%a3%e0%b8%b1%e0%b8%81%e0%b8%a9%e0%b9%8c%e0%b8%9e%e0%b8%b1%e0%b8%92%e0%b8%99%e0%b8%b2%e0%b8%aa%e0%b8%b4-11/
LOCATION:บริษัท ธนารักษ์พัฒนาสินทรัพย์ จำกัด\, ศูนย์ราชการฯ แจ้งวัฒนะ 120 หมู่ที่ 3 ถนนแจ้งวัฒนะ แขวงทุ่งสองห้อง เขตหลักสี่ กรุงเทพมหานคร 10210
CATEGORIES:ปฏิทินตารางหน่วยเคลื่อนที่
END:VEVENT
BEGIN:VEVENT
DTSTART;TZID=Asia/Bangkok:20251015T090000
DTEND;TZID=Asia/Bangkok:20251015T150000
DTSTAMP:20260423T000906
CREATED:20251003T101858Z
LAST-MODIFIED:20251003T101858Z
UID:10003642-1760518800-1760540400@thaibloodcentre.redcross.or.th
SUMMARY:บริษัท ธนารักษ์พัฒนาสินทรัพย์ จำกัด [0M0535]
DESCRIPTION:สถานที่เจาะ : ประตู N4 อาคาร C ชั้น 2 (พัก 11-12 น.) \nที่อยู่ : 120 ชั้น 1 อาคารศูนย์ประชุมฯ ถนนแจ้งวัฒนะ 7 แขวงทุ่งสองห้อง  เขตหลักสี่ กรุงเทพฯ 0 2142 2204
URL:https://thaibloodcentre.redcross.or.th/event/%e0%b8%9a%e0%b8%a3%e0%b8%b4%e0%b8%a9%e0%b8%b1%e0%b8%97-%e0%b8%98%e0%b8%99%e0%b8%b2%e0%b8%a3%e0%b8%b1%e0%b8%81%e0%b8%a9%e0%b9%8c%e0%b8%9e%e0%b8%b1%e0%b8%92%e0%b8%99%e0%b8%b2%e0%b8%aa%e0%b8%b4-10/
LOCATION:บริษัท ธนารักษ์พัฒนาสินทรัพย์ จำกัด\, ศูนย์ราชการฯ แจ้งวัฒนะ 120 หมู่ที่ 3 ถนนแจ้งวัฒนะ แขวงทุ่งสองห้อง เขตหลักสี่ กรุงเทพมหานคร 10210
CATEGORIES:ปฏิทินตารางหน่วยเคลื่อนที่
END:VEVENT
BEGIN:VEVENT
DTSTART;TZID=Asia/Bangkok:20251014T090000
DTEND;TZID=Asia/Bangkok:20251014T150000
DTSTAMP:20260423T000906
CREATED:20251003T091108Z
LAST-MODIFIED:20251003T091108Z
UID:10003626-1760432400-1760454000@thaibloodcentre.redcross.or.th
SUMMARY:บริษัท ธนารักษ์พัฒนาสินทรัพย์ จำกัด [0M0535]
DESCRIPTION:สถานที่เจาะ : อาคารราชบุรีดิเรกฤทธิ์ (อาคาร A ชั้น 2) \nที่อยู่ : 120 ชั้น 1 อาคารศูนย์ประชุมฯ ถนนแจ้งวัฒนะ 7 แขวงทุ่งสองห้อง  เขตหลักสี่ กรุงเทพฯ 0 2142 2204
URL:https://thaibloodcentre.redcross.or.th/event/%e0%b8%9a%e0%b8%a3%e0%b8%b4%e0%b8%a9%e0%b8%b1%e0%b8%97-%e0%b8%98%e0%b8%99%e0%b8%b2%e0%b8%a3%e0%b8%b1%e0%b8%81%e0%b8%a9%e0%b9%8c%e0%b8%9e%e0%b8%b1%e0%b8%92%e0%b8%99%e0%b8%b2%e0%b8%aa%e0%b8%b4-9/
LOCATION:บริษัท ธนารักษ์พัฒนาสินทรัพย์ จำกัด\, ศูนย์ราชการฯ แจ้งวัฒนะ 120 หมู่ที่ 3 ถนนแจ้งวัฒนะ แขวงทุ่งสองห้อง เขตหลักสี่ กรุงเทพมหานคร 10210
CATEGORIES:ปฏิทินตารางหน่วยเคลื่อนที่
END:VEVENT
BEGIN:VEVENT
DTSTART;TZID=Asia/Bangkok:20250725T090000
DTEND;TZID=Asia/Bangkok:20250725T150000
DTSTAMP:20260423T000906
CREATED:20250716T111053Z
LAST-MODIFIED:20250716T111053Z
UID:10002475-1753434000-1753455600@thaibloodcentre.redcross.or.th
SUMMARY:บริษัท ธนารักษ์พัฒนาสินทรัพย์ จำกัด []
DESCRIPTION:สถานที่เจาะ : อาคาร B ชั้น 2 (ทางเข้าประตู 4) \nที่อยู่ : 120 ชั้น 1 อาคารศูนย์ประชุมฯ ถนนแจ้งวัฒนะ 7 แขวงทุ่งสองห้อง  เขตหลักสี่ กรุงเทพฯ 0 2142 2204
URL:https://thaibloodcentre.redcross.or.th/event/%e0%b8%9a%e0%b8%a3%e0%b8%b4%e0%b8%a9%e0%b8%b1%e0%b8%97-%e0%b8%98%e0%b8%99%e0%b8%b2%e0%b8%a3%e0%b8%b1%e0%b8%81%e0%b8%a9%e0%b9%8c%e0%b8%9e%e0%b8%b1%e0%b8%92%e0%b8%99%e0%b8%b2%e0%b8%aa%e0%b8%b4-7/
LOCATION:บริษัท ธนารักษ์พัฒนาสินทรัพย์ จำกัด\, ศูนย์ราชการฯ แจ้งวัฒนะ 120 หมู่ที่ 3 ถนนแจ้งวัฒนะ แขวงทุ่งสองห้อง เขตหลักสี่ กรุงเทพมหานคร 10210
CATEGORIES:ปฏิทินตารางหน่วยเคลื่อนที่
END:VEVENT
BEGIN:VEVENT
DTSTART;TZID=Asia/Bangkok:20250724T090000
DTEND;TZID=Asia/Bangkok:20250724T150000
DTSTAMP:20260423T000906
CREATED:20250716T110901Z
LAST-MODIFIED:20250716T110911Z
UID:10002458-1753347600-1753369200@thaibloodcentre.redcross.or.th
SUMMARY:บริษัท ธนารักษ์พัฒนาสินทรัพย์ จำกัด []
DESCRIPTION:สถานที่เจาะ : อาคาร B ชั้น 2 (ทางเข้าประตู 4) \nที่อยู่ : 120 ชั้น 1 อาคารศูนย์ประชุมฯ ถนนแจ้งวัฒนะ 7 แขวงทุ่งสองห้อง  เขตหลักสี่ กรุงเทพฯ 0 2142 2204
URL:https://thaibloodcentre.redcross.or.th/event/%e0%b8%9a%e0%b8%a3%e0%b8%b4%e0%b8%a9%e0%b8%b1%e0%b8%97-%e0%b8%98%e0%b8%99%e0%b8%b2%e0%b8%a3%e0%b8%b1%e0%b8%81%e0%b8%a9%e0%b9%8c%e0%b8%9e%e0%b8%b1%e0%b8%92%e0%b8%99%e0%b8%b2%e0%b8%aa%e0%b8%b4-6/
LOCATION:บริษัท ธนารักษ์พัฒนาสินทรัพย์ จำกัด\, ศูนย์ราชการฯ แจ้งวัฒนะ 120 หมู่ที่ 3 ถนนแจ้งวัฒนะ แขวงทุ่งสองห้อง เขตหลักสี่ กรุงเทพมหานคร 10210
CATEGORIES:ปฏิทินตารางหน่วยเคลื่อนที่
END:VEVENT
BEGIN:VEVENT
DTSTART;TZID=Asia/Bangkok:20250721T090000
DTEND;TZID=Asia/Bangkok:20250721T150000
DTSTAMP:20260423T000906
CREATED:20250716T120413Z
LAST-MODIFIED:20250716T120413Z
UID:10002629-1753088400-1753110000@thaibloodcentre.redcross.or.th
SUMMARY:บริษัท ธนารักษ์พัฒนาสินทรัพย์ จำกัด []
DESCRIPTION:สถานที่เจาะ : อาคาร B ชั้น 2 (ทางเข้าประตู 4) \nที่อยู่ : 120 ชั้น 1 อาคารศูนย์ประชุมฯ ถนนแจ้งวัฒนะ 7 แขวงทุ่งสองห้อง  เขตหลักสี่ กรุงเทพฯ 0 2142 2204
URL:https://thaibloodcentre.redcross.or.th/event/%e0%b8%9a%e0%b8%a3%e0%b8%b4%e0%b8%a9%e0%b8%b1%e0%b8%97-%e0%b8%98%e0%b8%99%e0%b8%b2%e0%b8%a3%e0%b8%b1%e0%b8%81%e0%b8%a9%e0%b9%8c%e0%b8%9e%e0%b8%b1%e0%b8%92%e0%b8%99%e0%b8%b2%e0%b8%aa%e0%b8%b4-8/
LOCATION:บริษัท ธนารักษ์พัฒนาสินทรัพย์ จำกัด\, ศูนย์ราชการฯ แจ้งวัฒนะ 120 หมู่ที่ 3 ถนนแจ้งวัฒนะ แขวงทุ่งสองห้อง เขตหลักสี่ กรุงเทพมหานคร 10210
CATEGORIES:ปฏิทินตารางหน่วยเคลื่อนที่
END:VEVENT
BEGIN:VEVENT
DTSTART;TZID=Asia/Bangkok:20250425T090000
DTEND;TZID=Asia/Bangkok:20250425T150000
DTSTAMP:20260423T000906
CREATED:20250418T104028Z
LAST-MODIFIED:20250418T104028Z
UID:10001459-1745571600-1745593200@thaibloodcentre.redcross.or.th
SUMMARY:บริษัท ธนารักษ์พัฒนาสินทรัพย์ จำกัด []
DESCRIPTION:สถานที่เจาะ : อาคารรัฐประศาสนภักดี (อาคาร B ชั้น 2) \nที่อยู่ : 120 ชั้น 1 อาคารศูนย์ประชุมฯ ถนนแจ้งวัฒนะ 7 แขวงทุ่งสองห้อง  เขตหลักสี่ กรุงเทพฯ 0 2142 2204
URL:https://thaibloodcentre.redcross.or.th/event/%e0%b8%9a%e0%b8%a3%e0%b8%b4%e0%b8%a9%e0%b8%b1%e0%b8%97-%e0%b8%98%e0%b8%99%e0%b8%b2%e0%b8%a3%e0%b8%b1%e0%b8%81%e0%b8%a9%e0%b9%8c%e0%b8%9e%e0%b8%b1%e0%b8%92%e0%b8%99%e0%b8%b2%e0%b8%aa%e0%b8%b4-5/
LOCATION:บริษัท ธนารักษ์พัฒนาสินทรัพย์ จำกัด\, ศูนย์ราชการฯ แจ้งวัฒนะ 120 หมู่ที่ 3 ถนนแจ้งวัฒนะ แขวงทุ่งสองห้อง เขตหลักสี่ กรุงเทพมหานคร 10210
CATEGORIES:ปฏิทินตารางหน่วยเคลื่อนที่
END:VEVENT
BEGIN:VEVENT
DTSTART;TZID=Asia/Bangkok:20250424T090000
DTEND;TZID=Asia/Bangkok:20250424T150000
DTSTAMP:20260423T000906
CREATED:20250418T103804Z
LAST-MODIFIED:20250418T103804Z
UID:10001443-1745485200-1745506800@thaibloodcentre.redcross.or.th
SUMMARY:บริษัท ธนารักษ์พัฒนาสินทรัพย์ จำกัด []
DESCRIPTION:สถานที่เจาะ : อาคารรัฐประศาสนภักดี (อาคาร B ชั้น 2) \nที่อยู่ : 120 ชั้น 1 อาคารศูนย์ประชุมฯ ถนนแจ้งวัฒนะ 7 แขวงทุ่งสองห้อง  เขตหลักสี่ กรุงเทพฯ 0 2142 2204
URL:https://thaibloodcentre.redcross.or.th/event/%e0%b8%9a%e0%b8%a3%e0%b8%b4%e0%b8%a9%e0%b8%b1%e0%b8%97-%e0%b8%98%e0%b8%99%e0%b8%b2%e0%b8%a3%e0%b8%b1%e0%b8%81%e0%b8%a9%e0%b9%8c%e0%b8%9e%e0%b8%b1%e0%b8%92%e0%b8%99%e0%b8%b2%e0%b8%aa%e0%b8%b4-4/
LOCATION:บริษัท ธนารักษ์พัฒนาสินทรัพย์ จำกัด\, ศูนย์ราชการฯ แจ้งวัฒนะ 120 หมู่ที่ 3 ถนนแจ้งวัฒนะ แขวงทุ่งสองห้อง เขตหลักสี่ กรุงเทพมหานคร 10210
CATEGORIES:ปฏิทินตารางหน่วยเคลื่อนที่
END:VEVENT
BEGIN:VEVENT
DTSTART;TZID=Asia/Bangkok:20250423T090000
DTEND;TZID=Asia/Bangkok:20250423T150000
DTSTAMP:20260423T000906
CREATED:20250418T103435Z
LAST-MODIFIED:20250418T103444Z
UID:10001418-1745398800-1745420400@thaibloodcentre.redcross.or.th
SUMMARY:บริษัท ธนารักษ์พัฒนาสินทรัพย์ จำกัด []
DESCRIPTION:สถานที่เจาะ : อาคารรัฐประศาสนภักดี (อาคาร B ชั้น 2) \nที่อยู่ : 120 ชั้น 1 อาคารศูนย์ประชุมฯ ถนนแจ้งวัฒนะ 7 แขวงทุ่งสองห้อง  เขตหลักสี่ กรุงเทพฯ 0 2142 2204
URL:https://thaibloodcentre.redcross.or.th/event/%e0%b8%9a%e0%b8%a3%e0%b8%b4%e0%b8%a9%e0%b8%b1%e0%b8%97-%e0%b8%98%e0%b8%99%e0%b8%b2%e0%b8%a3%e0%b8%b1%e0%b8%81%e0%b8%a9%e0%b9%8c%e0%b8%9e%e0%b8%b1%e0%b8%92%e0%b8%99%e0%b8%b2%e0%b8%aa%e0%b8%b4-3/
LOCATION:บริษัท ธนารักษ์พัฒนาสินทรัพย์ จำกัด\, ศูนย์ราชการฯ แจ้งวัฒนะ 120 หมู่ที่ 3 ถนนแจ้งวัฒนะ แขวงทุ่งสองห้อง เขตหลักสี่ กรุงเทพมหานคร 10210
CATEGORIES:ปฏิทินตารางหน่วยเคลื่อนที่
END:VEVENT
BEGIN:VEVENT
DTSTART;TZID=Asia/Bangkok:20250422T090000
DTEND;TZID=Asia/Bangkok:20250422T150000
DTSTAMP:20260423T000906
CREATED:20250417T092425Z
LAST-MODIFIED:20250417T092425Z
UID:10001399-1745312400-1745334000@thaibloodcentre.redcross.or.th
SUMMARY:บริษัท ธนารักษ์พัฒนาสินทรัพย์ จำกัด []
DESCRIPTION:สถานที่เจาะ : อาคารราชบุรีดิเรกฤทธิ์ (อาคาร A ชั้น 2) \nที่อยู่ : 120 ชั้น 1 อาคารศูนย์ประชุมฯ ถนนแจ้งวัฒนะ 7 แขวงทุ่งสองห้อง  เขตหลักสี่ กรุงเทพฯ 0 2142 2204
URL:https://thaibloodcentre.redcross.or.th/event/%e0%b8%9a%e0%b8%a3%e0%b8%b4%e0%b8%a9%e0%b8%b1%e0%b8%97-%e0%b8%98%e0%b8%99%e0%b8%b2%e0%b8%a3%e0%b8%b1%e0%b8%81%e0%b8%a9%e0%b9%8c%e0%b8%9e%e0%b8%b1%e0%b8%92%e0%b8%99%e0%b8%b2%e0%b8%aa%e0%b8%b4-2/
LOCATION:บริษัท ธนารักษ์พัฒนาสินทรัพย์ จำกัด\, ศูนย์ราชการฯ แจ้งวัฒนะ 120 หมู่ที่ 3 ถนนแจ้งวัฒนะ แขวงทุ่งสองห้อง เขตหลักสี่ กรุงเทพมหานคร 10210
CATEGORIES:ปฏิทินตารางหน่วยเคลื่อนที่
END:VEVENT
BEGIN:VEVENT
DTSTART;TZID=Asia/Bangkok:20250421T090000
DTEND;TZID=Asia/Bangkok:20250421T150000
DTSTAMP:20260423T000906
CREATED:20250417T091932Z
LAST-MODIFIED:20250417T091932Z
UID:10001383-1745226000-1745247600@thaibloodcentre.redcross.or.th
SUMMARY:บริษัท ธนารักษ์พัฒนาสินทรัพย์ จำกัด []
DESCRIPTION:สถานที่เจาะ : อาคารราชบุรีดิเรกฤทธิ์ (อาคาร A ชั้น 2) \nที่อยู่ : 120 ชั้น 1 อาคารศูนย์ประชุมฯ ถนนแจ้งวัฒนะ 7 แขวงทุ่งสองห้อง  เขตหลักสี่ กรุงเทพฯ 0 2142 2204
URL:https://thaibloodcentre.redcross.or.th/event/%e0%b8%9a%e0%b8%a3%e0%b8%b4%e0%b8%a9%e0%b8%b1%e0%b8%97-%e0%b8%98%e0%b8%99%e0%b8%b2%e0%b8%a3%e0%b8%b1%e0%b8%81%e0%b8%a9%e0%b9%8c%e0%b8%9e%e0%b8%b1%e0%b8%92%e0%b8%99%e0%b8%b2%e0%b8%aa%e0%b8%b4%e0%b8%99/
LOCATION:บริษัท ธนารักษ์พัฒนาสินทรัพย์ จำกัด\, ศูนย์ราชการฯ แจ้งวัฒนะ 120 หมู่ที่ 3 ถนนแจ้งวัฒนะ แขวงทุ่งสองห้อง เขตหลักสี่ กรุงเทพมหานคร 10210
CATEGORIES:ปฏิทินตารางหน่วยเคลื่อนที่
END:VEVENT
END:VCALENDAR